Workbook
Name leer: '[1]تفصيل المصروفات (3)'!$A$2:$A$6
Name leer: '[1]تفصيل المصروفات (3)'!$A$2:$A$6
Name المصروفات_حسب_الأبواب_والأقسام_والبنود: #REF!
Name المصروفات_حسب_الأبواب_والأقسام_والبنود: #REF!
Name المصروفات_حسب_الأبواب_والأقسام_والبنود: #REF!
Name المصروفات_حسب_الأبواب_والأقسام_والبنود: #REF!
Name المصروفات_حسب_الأبواب_والأقسام_والبنود: #REF!
Name المصروفات_حسب_الأبواب_والأقسام_والبنود: #REF!
Name المصروفات_حسب_الأبواب_والأقسام_والبنود: #REF!
Name المصروفات_حسب_الأبواب_والأقسام_والبنود: #REF!
Name المصروفات_حسب_الأبواب_والأقسام_والبنود: #REF!
Name المصروفات_حسب_الأبواب_والأقسام_والبنود: #REF!

Sheet الحساب الختامي
A1: بيان الإيرادات والمصروفات الموحد للدولة
A2: للسنة المالية المنتهية في 31 ديسمبر 2024
E3: (دينار بحريني)
A4: البيان | B4: الإيضاحات | C4: الاعتماد | D4: الفعلي 2024 | E4: الفعلي 2023
A5: الإيرادات
A6: النفط والغاز الطبيعي | B6: 4،3 | C6: ='تفصيل الإيرادات'!F5 -> 2146812000 | D6: ='تفصيل الإيرادات'!G5 -> 1819851820 | E6: ='تفصيل الإيرادات'!I5 -> 2034699810
A7: الإيرادات والرسوم | B7: 4،3 | C7: ='تفصيل الإيرادات'!F15 -> 962819233 | D7: ='تفصيل الإيرادات'!G15 -> 943022061 | E7: ='تفصيل الإيرادات'!I15 -> 920775284
A8: المنتجات الخدمية والسلعية الحكومية | B8: 4،3 | C8: ='تفصيل الإيرادات'!F120 -> 84620353 | D8: ='تفصيل الإيرادات'!G120 -> 72914586 | E8: ='تفصيل الإيرادات'!I120 -> 76529614
A9: الإستثمارات والأملاك الحكومية | B9: 4،3 | C9: ='تفصيل الإيرادات'!F193 -> 198463913 | D9: ='تفصيل الإيرادات'!G193 -> 166231924 | E9: ='تفصيل الإيرادات'!I193 -> 131278396
A10: مبيعات الأصول الرأسمالية | B10: 4،3 | C10: ='تفصيل الإيرادات'!F215 -> 735167 | D10: ='تفصيل الإيرادات'!G215 -> 640021 | E10: ='تفصيل الإيرادات'!I215 -> 723808
A11: الغرامات والجزاءات والإيرادات المتنوعة | B11: 4،3 | C11: ='تفصيل الإيرادات'!F224 -> 75923334 | D11: ='تفصيل الإيرادات'!G224 -> 23433622 | E11: ='تفصيل الإيرادات'!I224 -> 31964389
A12: مجموع الإيرادات | B12: 4،3،2 | C12: =SUM(C6:C11) -> 3469374000 | D12: =SUM(D6:D11) -> 3026094034 | E12: =SUM(E6:E11) -> 3195971301
A13: المصروفات المتكررة
A14: القوى العاملة | B14: 8،7،5 | C14: ='تفصيل المصروفات'!F5 -> 1347721063 | D14: ='تفصيل المصروفات'!G5 -> 1377932661 | E14: ='تفصيل المصروفات'!I5 -> 1403849201
A15: الخدمات | B15: 8،7،5 | C15: ='تفصيل المصروفات'!F121 -> 232444938 | D15: ='تفصيل المصروفات'!G121 -> 250179667 | E15: ='تفصيل المصروفات'!I121 -> 237556132
A16: السلع الاستهلاكية | B16: 8،7،5 | C16: ='تفصيل المصروفات'!F282 -> 55971355 | D16: ='تفصيل المصروفات'!G282 -> 55141382 | E16: ='تفصيل المصروفات'!I282 -> 84234155
A17: السلع الرأسمالية | B17: 8،7،5 | C17: ='تفصيل المصروفات'!F344 -> 14234529 | D17: ='تفصيل المصروفات'!G344 -> 13330175 | E17: ='تفصيل المصروفات'!I344 -> 14941960
A18: الصيانة | B18: 8،7،5 | C18: ='تفصيل المصروفات'!F393 -> 31905473 | D18: ='تفصيل المصروفات'!G393 -> 38481640 | E18: ='تفصيل المصروفات'!I393 -> 36277562
A19: النفقات التحويلية | B19: 8،7،5 | C19: ='تفصيل المصروفات'!F480 -> 540472845 | D19: ='تفصيل المصروفات'!G480 -> 626613466 | E19: ='تفصيل المصروفات'!I480 -> 621275331
A20: الإعانات وتسديد فوائد القروض | B20: 8،7،5 | C20: ='تفصيل المصروفات'!F489 -> 1163762917 | D20: ='تفصيل المصروفات'!G489 -> 1399598456 | E20: ='تفصيل المصروفات'!I489 -> 1294545862
A21: مجموع المصروفات المتكررة | B21: 8،7،6،5،2 | C21: =SUM(C14:C20) -> 3386513120 | D21: =SUM(D14:D20) -> 3761277447 | E21: =SUM(E14:E20) -> 3692680203
A22: مصروفات المشاريع | B22: 10،5،2 | C22: ='مشاريع '!B46 -> 299000000 | D22: ='مشاريع '!C46 -> 290992012 | E22: ='مشاريع '!E46 -> 277223271
A23: مجموع المصروفات | B23: 5 | C23: =SUM(C21:C22) -> 3685513120 | D23: =SUM(D21:D22) -> 4052269459 | E23: =SUM(E21:E22) -> 3969903474
A24: العجز للسنة | C24: =C12-C23 -> -216139120 | D24: =D12-D23 -> -1026175425 | E24: =E12-E23 -> -773932173
A26: مصروفات مشاريع التسليح والتطوير | B26: 14 | C26: 0 | D26: 0 | E26: 0
A27: العجز للسنة | C27: =C24-C26 -> -216139120 | D27: =D24-D26 -> -1026175425 | E27: =E24-E26 -> -773932173
A28: بيان الاعتمادات المدورة إلى السنة المالية اللاحقة
D29: 2024 | E29: 2023
A30: اعتمادات المصروفات المتكررة | B30: 12،5 | D30: - | E30: 7109185
A31: اعتمادات المشاريع | B31: 12،5 | D31: 21000000 | E31: 47000000
A32: مجموع الاعتمادات المدورة | D32: =SUM(D30:D31) -> 21000000 | E32: =SUM(E30:E31) -> 54109185
A34: الإيضاحات الواردة على الصفحات من (5) إلى (37) هي جزء مكمل للحساب الختامي الموحد للدولة.

Sheet مصروفات وايرادات الوزارات
A1: 2- الإيرادات والمصروفات مصنفة حسب الوزارات والجهات الحكومية
B2: (دينار بحريني)
A3: الوزارة أو الجهة الحكومية | B3: الإيرادات | E3: المصروفات المتكررة | H3: مصروفات المشاريع
B4: الفعلي | C4: الاعتماد | D4: نسبة التحصيل % | E4: الفعلي | F4: الاعتماد | G4: نسبة الصرف % | H4: الفعلي | I4: الاعتماد | J4: نسبة الصرف %
A5: وزارة السياحة | B5: 7298988 | C5: 0 | D5: 0 | E5: 283454 | F5: 283455 | G5: =(E5/F5)*100 -> 99.999647 | H5: 0 | I5: 0 | J5: 0
A6: وزارة التنمية المستدامة | B6: 0 | C6: 0 | D6: 0 | E6: 497346 | F6: 500000 | G6: =(E6/F6)*100 -> 99.4692 | H6: 0 | I6: 0 | J6: 0
A7: وزارة الشئون القانونية | B7: 0 | C7: 0 | D7: 0 | E7: 261607 | F7: 261608 | G7: =(E7/F7)*100 -> 99.999618 | H7: 0 | I7: 0 | J7: 0
A8: مكتب رئيس مجلس الوزراء | B8: 178 | C8: 0 | D8: 0 | E8: 18621568 | F8: 19736000 | G8: =(E8/F8)*100 -> 94.353304 | H8: 6100000 | I8: 6100000 | J8: =(H8/I8)*100 -> 100
A9: وزارة الدفاع (إيضاح رقم 11) | B9: 0 | C9: 0 | D9: 0 | E9: 516657511 | F9: 516657511 | G9: =(E9/F9)*100 -> 100 | H9: 995966 | I9: 998951 | J9: =(H9/I9)*100 -> 99.701187
A10: وزارة الداخلية | B10: 52261876 | C10: 76510000 | D10: =(B10/C10)*100 -> 68.307249 | E10: 387514407 | F10: 375628090 | G10: =(E10/F10)*100 -> 103.16438 | H10: 13606612 | I10: 13606612 | J10: =(H10/I10)*100 -> 100
A11: جهاز المخابرات الوطني | B11: 0 | C11: 0 | D11: 0 | E11: 34130480 | F11: 34130480 | G11: =(E11/F11)*100 -> 100 | H11: 0 | I11: 0 | J11: 0
A12: هيئة التشريع والرأي القانوني | B12: 0 | C12: 181000 | D12: 0 | E12: 2516928 | F12: 2516929 | G12: =(E12/F12)*100 -> 99.99996 | H12: 3997 | I12: 3997 | J12: =(H12/I12)*100 -> 100
A13: وزارة الخارجية | B13: 1208632 | C13: 2678000 | D13: =(B13/C13)*100 -> 45.131889 | E13: 45061874 | F13: 45061875 | G13: =(E13/F13)*100 -> 99.999998 | H13: 937760 | I13: 1000000 | J13: =(H13/I13)*100 -> 93.776
A14: وزارة العدل والشئون الإسلامية والأوقاف | B14: 22397899 | C14: 35000000 | D14: =(B14/C14)*100 -> 63.993997 | E14: 12146019 | F14: 12146021 | G14: =(E14/F14)*100 -> 99.999984 | H14: 91463 | I14: 400000 | J14: =(H14/I14)*100 -> 22.86575
A15: وزارة التربية والتعليم | B15: 182457 | C15: 135000 | D15: =(B15/C15)*100 -> 135.15333 | E15: 302518036 | F15: 274448433 | G15: =(E15/F15)*100 -> 110.22764 | H15: 14203314 | I15: 14203314 | J15: =(H15/I15)*100 -> 100
A16: وزارة الصحة | B16: 4621285 | C16: 6000000 | D16: =(B16/C16)*100 -> 77.021417 | E16: 28500527 | F16: 28500528 | G16: =(E16/F16)*100 -> 99.999996 | H16: 183727 | I16: 183727 | J16: =(H16/I16)*100 -> 100
A17: وزارة شئون البلديات والزراعة | B17: 1187215 | C17: 1431548 | D17: =(B17/C17)*100 -> 82.932252 | E17: 4421604 | F17: 4421604 | G17: =(E17/F17)*100 -> 100 | H17: 4230347 | I17: 4230347 | J17: =(H17/I17)*100 -> 100
A18: وزارة العمل | B18: 2526 | C18: 0 | D18: 0 | E18: 5322776 | F18: 5322777 | G18: =(E18/F18)*100 -> 99.999981 | H18: 24804 | I18: 50000 | J18: =(H18/I18)*100 -> 49.608
A19: وزارة شئون الشباب | B19: 35217 | C19: 25000 | D19: =(B19/C19)*100 -> 140.868 | E19: 3250506 | F19: 3250507 | G19: =(E19/F19)*100 -> 99.999969 | H19: 163976 | I19: 702933 | J19: =(H19/I19)*100 -> 23.327401
A20: نادي راشد للفروسية وسباق الخيل | B20: 0 | C20: 0 | D20: 0 | E20: 4719643 | F20: 4719643 | G20: =(E20/F20)*100 -> 100 | H20: 8720723 | I20: 8720723 | J20: =(H20/I20)*100 -> 100
A21: وزارة التنمية الاجتماعية | B21: 41467 | C21: 0 | D21: 0 | E21: 7280887 | F21: 7280889 | G21: =(E21/F21)*100 -> 99.999973 | H21: 11669 | I21: 100000 | J21: =(H21/I21)*100 -> 11.669
A22: وزارة شئون مجلس الوزراء | B22: 0 | C22: 0 | D22: 0 | E22: 2379811 | F22: 2702000 | G22: =(E22/F22)*100 -> 88.075907 | H22: 0 | I22: 0 | J22: 0
A23: وزارة الصناعة والتجارة | B23: 38927691 | C23: 39058000 | D23: =(B23/C23)*100 -> 99.666371 | E23: 10231882 | F23: 10231883 | G23: =(E23/F23)*100 -> 99.99999 | H23: 2074702 | I23: 2074702 | J23: =(H23/I23)*100 -> 100
A24: وزارة الإسكان والتخطيط العمراني - قطاع الإسكان | B24: 128295 | C24: 0 | D24: 0 | E24: 4307432 | F24: 4307433 | G24: =(E24/F24)*100 -> 99.999977 | H24: 72276825 | I24: 90000000 | J24: =(H24/I24)*100 -> 80.307583
A25: نائب رئيس مجلس الوزراء | B25: 0 | C25: 0 | D25: 0 | E25: 660789 | F25: 660789 | G25: =(E25/F25)*100 -> 100 | H25: 0 | I25: 0 | J25: 0
A26: 2- الإيرادات والمصروفات مصنفة حسب الوزارات والجهات الحكومية (تتمة)
B27: (دينار بحريني)
A28: الوزارة أو الجهة الحكومية | B28: الإيرادات | E28: المصروفات المتكررة | H28: مصروفات المشاريع
B29: الفعلي | C29: الاعتماد | D29: نسبة التحصيل % | E29: الفعلي | F29: الاعتماد | G29: نسبة الصرف % | H29: الفعلي | I29: الاعتماد | J29: نسبة الصرف %
A30: وزارة شئون الكهرباء والماء | B30: 0 | C30: 0 | D30: 0 | E30: 633448 | F30: 646000 | G30: =(E30/F30)*100 -> 98.056966 | H30: 3492449 | I30: 3492449 | J30: =(H30/I30)*100 -> 100
A31: المجلس الأعلى للبيئة | B31: 2481584 | C31: 20609452 | D31: =(B31/C31)*100 -> 12.040999 | E31: 6648067 | F31: 6648069 | G31: =(E31/F31)*100 -> 99.99997 | H31: 544550 | I31: 689568 | J31: =(H31/I31)*100 -> 78.969732
A32: مركز محمد بن خليفة آل خليفة التخصصي للقلب (إيضاح رقم 11) | B32: 0 | C32: 0 | D32: 0 | E32: 26915803 | F32: 25666000 | G32: =(E32/F32)*100 -> 104.86949 | H32: 0 | I32: 0 | J32: 0
A33: وزارة الأشغال | B33: 3704248 | C33: 4300000 | D33: =(B33/C33)*100 -> 86.145302 | E33: 45409075 | F33: 45409075 | G33: =(E33/F33)*100 -> 100 | H33: 84235759 | I33: 69907114 | J33: =(H33/I33)*100 -> 120.49669
A34: وزارة المواصلات والاتصالات | B34: 58427535 | C34: 61297000 | D34: =(B34/C34)*100 -> 95.318751 | E34: 29436800 | F34: 29436800 | G34: =(E34/F34)*100 -> 100 | H34: 4539251 | I34: 4539251 | J34: =(H34/I34)*100 -> 100
A35: الحرس الوطني | B35: 0 | C35: 0 | D35: 0 | E35: 42973999 | F35: 42974000 | G35: =(E35/F35)*100 -> 99.999998 | H35: 1645183 | I35: 1645183 | J35: =(H35/I35)*100 -> 100
A36: وزارة النفط والبيئة | B36: 0 | C36: 0 | D36: 0 | E36: 1908638 | F36: 1908639 | G36: =(E36/F36)*100 -> 99.999948 | H36: 0 | I36: 0 | J36: 0
A37: وزارة شئون مجلسي الشورى والنواب | B37: 0 | C37: 0 | D37: 0 | E37: 1543335 | F37: 1543335 | G37: =(E37/F37)*100 -> 100 | H37: 0 | I37: 0 | J37: 0
A38: مكتب رئيس مجلس الوزراء - مركز الاتصال الوطني | B38: 0 | C38: 0 | D38: 0 | E38: 1447228 | F38: 1447229 | G38: =(E38/F38)*100 -> 99.999931 | H38: 300 | I38: 300 | J38: =(H38/I38)*100 -> 100
A39: وزارة الإعلام | B39: 631381 | C39: 1737000 | D39: =(B39/C39)*100 -> 36.348935 | E39: 20421665 | F39: 20421666 | G39: =(E39/F39)*100 -> 99.999995 | H39: 2348662 | I39: 4000000 | J39: =(H39/I39)*100 -> 58.71655
A40: مجلـس المناقصات والمزايدات | B40: 1042488 | C40: 2245000 | D40: =(B40/C40)*100 -> 46.435991 | E40: 1719268 | F40: 1719268 | G40: =(E40/F40)*100 -> 100 | H40: 15576 | I40: 15576 | J40: =(H40/I40)*100 -> 100
A41: الميزانيات التحويلية (إيضاحي رقم 9 و10) | B41: 197541869 | C41: 284521000 | D41: =(B41/C41)*100 -> 69.429627 | E41: 1974491174 | F41: 1652097513 | G41: =(E41/F41)*100 -> 119.5142 | H41: 44492101 | I41: 45990771 | J41: =(H41/I41)*100 -> 96.741368
A42: إيرادات النفط والغاز الطبيعي | B42: 1819851820 | C42: 2146812000 | D42: =(B42/C42)*100 -> 84.769967 | E42: 0 | F42: 0 | G42: 0 | H42: 0 | I42: 0 | J42: 0
A43: هيئة البحرين للثقافة والآثار | B43: 370048 | C43: 500000 | D43: =(B43/C43)*100 -> 74.0096 | E43: 7060838 | F43: 7060839 | G43: =(E43/F43)*100 -> 99.999986 | H43: 7112516 | I43: 7112516 | J43: =(H43/I43)*100 -> 100
A44: المجلس الأعلى للصحة | B44: 0 | C44: 0 | D44: 0 | E44: 2340211 | F44: 2340212 | G44: =(E44/F44)*100 -> 99.999957 | H44: 785904 | I44: 785904 | J44: =(H44/I44)*100 -> 100
A45: الجهاز الإداري للنيابة العامة | B45: 940 | C45: 0 | D45: 0 | E45: 3894710 | F45: 3894710 | G45: =(E45/F45)*100 -> 100 | H45: 454027 | I45: 454027 | J45: =(H45/I45)*100 -> 100
A46: هيئة جودة التعليم والتدريب | B46: 299298 | C46: 0 | D46: 0 | E46: 3392243 | F46: 3392243 | G46: =(E46/F46)*100 -> 100 | H46: 0 | I46: 0 | J46: 0
A47: جهاز الخدمة المدنية | B47: 2750 | C47: 0 | D47: 0 | E47: 5603598 | F47: 5603599 | G47: =(E47/F47)*100 -> 99.999982 | H47: 29898 | I47: 50000 | J47: =(H47/I47)*100 -> 59.796
A48: هيئة المعلومات والحكومة الإلكترونية | B48: 2657642 | C48: 8326000 | D48: =(B48/C48)*100 -> 31.919793 | E48: 14091324 | F48: 14091324 | G48: =(E48/F48)*100 -> 100 | H48: 3728426 | I48: 3728426 | J48: =(H48/I48)*100 -> 100
A49: الأمانة العامة للمجلس الأعلى للشباب والرياضة | B49: 12600 | C49: 0 | D49: 0 | E49: 7323524 | F49: 7323524 | G49: =(E49/F49)*100 -> 100 | H49: 2346855 | I49: 2346855 | J49: =(H49/I49)*100 -> 100
A50: المجلس الأعلى للقضاء | B50: 438 | C50: 0 | D50: 0 | E50: 15934683 | F50: 15934684 | G50: =(E50/F50)*100 -> 99.999994 | H50: 104043 | I50: 104043 | J50: =(H50/I50)*100 -> 100
A51: جهاز المساحة والتسجيل العقاري | B51: 16639190 | C51: 20875000 | D51: =(B51/C51)*100 -> 79.708695 | E51: 4381210 | F51: 4381210 | G51: =(E51/F51)*100 -> 100 | H51: 481219 | I51: 600000 | J51: =(H51/I51)*100 -> 80.203167
A52: معهد البحرين للتنمية السياسية | B52: 0 | C52: 0 | D52: 0 | E52: 1067913 | F52: 1067916 | G52: =(E52/F52)*100 -> 99.999719 | H52: 0 | I52: 0 | J52: 0
A53: وزارة المالية والاقتصاد الوطني | B53: 4933 | C53: 0 | D53: 0 | E53: 8925682 | F53: 8925682 | G53: =(E53/F53)*100 -> 100 | H53: 998516 | I53: 1000000 | J53: =(H53/I53)*100 -> 99.8516
A54: شئون الجمارك | B54: 107656424 | C54: 110000000 | D54: =(B54/C54)*100 -> 97.869476 | E54: 18997718 | F54: 18997718 | G54: =(E54/F54)*100 -> 100 | H54: 1023933 | I54: 1023933 | J54: =(H54/I54)*100 -> 100
A55: مركز البحرين للأورام (إيضاح رقم 11) | B55: 0 | C55: 0 | D55: 0 | E55: 37180574 | F55: 33174200 | G55: =(E55/F55)*100 -> 112.07678 | H55: 0 | I55: 0 | J55: 0
A56: وزارة الإسكان والتخطيط العمراني - هيئة التخطيط والتطوير العمراني | B56: 1237141 | C56: 3364000 | D56: =(B56/C56)*100 -> 36.775892 | E56: 3005344 | F56: 3005346 | G56: =(E56/F56)*100 -> 99.999933 | H56: 1458900 | I56: 1458900 | J56: =(H56/I56)*100 -> 100
A57: المجلس الأعلى للشئون الإسلامية | B57: 0 | C57: 0 | D57: 0 | E57: 2367634 | F57: 3016000 | G57: =(E57/F57)*100 -> 78.502454 | H57: 196891 | I57: 300000 | J57: =(H57/I57)*100 -> 65.630333
A58: مستشفى الملك حمد الجامعي (إيضاح رقم 11) | B58: 0 | C58: 0 | D58: 0 | E58: 46540196 | F58: 37281400 | G58: =(E58/F58)*100 -> 124.83489 | H58: 0 | I58: 0 | J58: 0
A59: الهيئة الوطنية لتنظيم المهن والخدمات الصحية | B59: 2918833 | C59: 3845000 | D59: =(B59/C59)*100 -> 75.912432 | E59: 3248391 | F59: 3248392 | G59: =(E59/F59)*100 -> 99.999969 | H59: 327785 | I59: 327785 | J59: =(H59/I59)*100 -> 100
A60: الجهاز الوطني للإيرادات | B60: 682287051 | C60: 639924000 | D60: =(B60/C60)*100 -> 106.62001 | E60: 6914044 | F60: 6914046 | G60: =(E60/F60)*100 -> 99.999971 | H60: 4512021 | I60: 4512021 | J60: =(H60/I60)*100 -> 100
A61: وكالة البحرين للفضاء | B61: 32095 | C61: 0 | D61: 0 | E61: 717562 | F61: 717564 | G61: =(E61/F61)*100 -> 99.999721 | H61: 51289 | I61: 100000 | J61: =(H61/I61)*100 -> 51.289
A62: الهيئة العامة للرياضة | B62: 0 | C62: 0 | D62: 0 | E62: 23456461 | F62: 23456462 | G62: =(E62/F62)*100 -> 99.999996 | H62: 2440073 | I62: 2440072 | J62: =(H62/I62)*100 -> 100.00004
A63: المجموع | B63: =SUM(B5:B62) -> 3026094034 | C63: =SUM(C5:C62) -> 3469374000 | D63: =B63/C63*100 -> 87.223056 | E63: =SUM(E5:E62) -> 3761277447 | F63: =SUM(F5:F62) -> 3386513120 | G63: =E63/F63*100 -> 111.06638 | H63: =SUM(H5:H62) -> 290992012 | I63: =SUM(I5:I62) -> 299000000 | J63: =H63/I63*100 -> 97.321743

Sheet الايرادات
A1: 3- الإيرادات مصنفة حسب الأبواب والوزارات والجهات الحكومية
B2: (دينار بحريني)
A3: الوزارة أو الجهة الحكومية | B3: نفط وغاز طبيعي | C3: إيرادات ورسوم | D3: منتجات خدمية وسلعية حكومية | E3: إستثمارات وأملاك حكومية | F3: مبيعات أصول رأسمالية | G3: غرامات وجزاءات وإيرادات متنوعة | H3: المجموع | I3: الاعتماد | J3: الفعلي 2023
A4: وزارة السياحة | B4: 0 | C4: 0 | D4: 0 | E4: 7298988 | F4: 0 | G4: 0 | H4: =SUM(B4:G4) -> 7298988 | I4: 0 | J4: 0
A5: مكتب رئيس مجلس الوزراء | B5: 0 | C5: 0 | D5: 0 | E5: 0 | F5: 178 | G5: 0 | H5: =SUM(B5:G5) -> 178 | I5: 0 | J5: 0
A6: وزارة الداخلية | B6: 0 | C6: 48472277 | D6: 3497399 | E6: 59070 | F6: 52803 | G6: 180327 | H6: =SUM(B6:G6) -> 52261876 | I6: 76510000 | J6: 57398791
A7: هيئة التشريع والرأي القانوني | B7: 0 | C7: 0 | D7: 0 | E7: 0 | F7: 0 | G7: 0 | H7: =SUM(B7:G7) -> 0 | I7: 181000 | J7: 0
A8: وزارة الخارجية | B8: 0 | C8: 1134166 | D8: 0 | E8: 0 | F8: 8948 | G8: 65518 | H8: =SUM(B8:G8) -> 1208632 | I8: 2678000 | J8: 1330629
A9: وزارة العدل والشئون الإسلامية والأوقاف | B9: 0 | C9: 9273965 | D9: 72378 | E9: 0 | F9: 378 | G9: 13051178 | H9: =SUM(B9:G9) -> 22397899 | I9: 35000000 | J9: 26596084
A10: وزارة التربية والتعليم | B10: 0 | C10: 9570 | D10: 95888 | E10: 0 | F10: 70915 | G10: 6084 | H10: =SUM(B10:G10) -> 182457 | I10: 135000 | J10: 107932
A11: وزارة الصحة | B11: 0 | C11: 75 | D11: 4557833 | E11: 5762 | F11: 5184 | G11: 52431 | H11: =SUM(B11:G11) -> 4621285 | I11: 6000000 | J11: 4766600
A12: وزارة شئون البلديات والزراعة | B12: 0 | C12: 130472 | D12: 876568 | E12: 180147 | F12: 6 | G12: 22 | H12: =SUM(B12:G12) -> 1187215 | I12: 1431548 | J12: 5501850
A13: وزارة العمل | B13: 0 | C13: 0 | D13: 0 | E13: 0 | F13: 2276 | G13: 250 | H13: =SUM(B13:G13) -> 2526 | I13: 0 | J13: 0
A14: وزارة شئون الشباب | B14: 0 | C14: 0 | D14: 34475 | E14: 0 | F14: 742 | G14: 0 | H14: =SUM(B14:G14) -> 35217 | I14: 25000 | J14: 19660
A15: وزارة التنمية الاجتماعية | B15: 0 | C15: 41467 | D15: 0 | E15: 0 | F15: 0 | G15: 0 | H15: =SUM(B15:G15) -> 41467 | I15: 0 | J15: 150
... A28: هيئة جودة التعليم والتدريب | B28: 0 | C28: 293915 | D28: 5298 | E28: 0 | F28: 85 | G28: 0 | H28: =SUM(B28:G28) -> 299298 | I28: 0 | J28: 223
A29: 3- الإيرادات مصنفة حسب الأبواب والوزارات والجهات الحكومية (تتمة)
B30: (دينار بحريني)
A31: الوزارة أو الجهة الحكومية | B31: نفط وغاز طبيعي | C31: إيرادات ورسوم | D31: منتجات خدمية وسلعية حكومية | E31: إستثمارات وأملاك حكومية | F31: مبيعات أصول رأسمالية | G31: غرامــات وجزاءات وإيرادات متنوعة | H31: المجموع | I31: الاعتماد | J31: الفعلي 2023
A32: جهاز الخدمة المدنية | B32: 0 | C32: 0 | D32: 0 | E32: 0 | F32: 2750 | G32: 0 | H32: =SUM(B32:G32) -> 2750 | I32: 0 | J32: 560
A33: هيئة المعلومات والحكومة الإلكترونية | B33: 0 | C33: 2486068 | D33: 169537 | E33: 0 | F33: 1661 | G33: 376 | H33: =SUM(B33:G33) -> 2657642 | I33: 8326000 | J33: 2812786
A34: الأمانة العامة للمجلس الأعلى للشباب والرياضة | B34: 0 | C34: 0 | D34: 0 | E34: 12600 | F34: 0 | G34: 0 | H34: =SUM(B34:G34) -> 12600 | I34: 0 | J34: 0
A35: المجلس الأعلى للقضاء | B35: 0 | C35: 0 | D35: 273 | E35: 0 | F35: 165 | G35: 0 | H35: =SUM(B35:G35) -> 438 | I35: 0 | J35: 440
A36: جهاز المساحة والتسجيل العقاري | B36: 0 | C36: 16511524 | D36: 127666 | E36: 0 | F36: 0 | G36: 0 | H36: =SUM(B36:G36) -> 16639190 | I36: 20875000 | J36: 17271015
A37: معهد البحرين للتنمية السياسية | B37: 0 | C37: 0 | D37: 0 | E37: 0 | F37: 0 | G37: 0 | H37: =SUM(B37:G37) -> 0 | I37: 0 | J37: 200
A38: وزارة المالية والاقتصاد الوطني | B38: 0 | C38: 0 | D38: 0 | E38: 0 | F38: 1501 | G38: 3432 | H38: =SUM(B38:G38) -> 4933 | I38: 0 | J38: 483
A39: شئون الجمارك | B39: 0 | C39: 104042312 | D39: 2336665 | E39: 20 | F39: 184164 | G39: 1093263 | H39: =SUM(B39:G39) -> 107656424 | I39: 110000000 | J39: 100025755
A40: وزارة الإسكان والتخطيط العمراني - هيئة التخطيط والتطوير العمراني | B40: 0 | C40: 1237101 | D40: 0 | E40: 0 | F40: 40 | G40: 0 | H40: =SUM(B40:G40) -> 1237141 | I40: 3364000 | J40: 2098124
A41: الهيئة الوطنية لتنظيم المهن والخدمات الصحية | B41: 0 | C41: 2785520 | D41: 0 | E41: 0 | F41: 0 | G41: 133313 | H41: =SUM(B41:G41) -> 2918833 | I41: 3845000 | J41: 2856305
A42: الجهاز الوطني للإيرادات | B42: 0 | C42: 679757529 | D42: 900 | E42: 0 | F42: 0 | G42: 2528622 | H42: =SUM(B42:G42) -> 682287051 | I42: 639924000 | J42: 666603798
A43: وكالة البحرين للفضاء | B43: 0 | C43: 0 | D43: 32095 | E43: 0 | F43: 0 | G43: 0 | H43: =SUM(B43:G43) -> 32095 | I43: 0 | J43: 15133
A44: المجموع | B44: =SUM(B4:B43) -> 1819851820 | C44: =SUM(C4:C43) -> 943022061 | D44: =SUM(D4:D43) -> 72914586 | E44: =SUM(E4:E43) -> 166231924 | F44: =SUM(F4:F43) -> 640021 | G44: =SUM(G4:G43) -> 23433622 | H44: =SUM(H4:H43) -> 3026094034 | I44: =SUM(I4:I43) -> 3469374000 | J44: =SUM(J4:J43) -> 3195971301
B45: 1819851820 | C45: 943022061 | D45: 72914586 | E45: 163034345 | F45: 640021 | G45: 23433622 | H45: 3022896454 | I45: 3469374000 | J45: 3195971301
B46: =B44-B45 -> 0 | C46: =C44-C45 -> 0 | D46: =D44-D45 -> 0 | E46: =E44-E45 -> 3197579 | F46: =F44-F45 -> 0 | G46: =G44-G45 -> 0 | H46: =H44-H45 -> 3197580 | I46: =I44-I45 -> 0 | J46: =J44-J45 -> 0
D294: ارقام عام 2021 بحسب الاقفال المستلم من وزارة الماليه والاقتصاد الوطني بتاريخ 21 يوليو 2022

Sheet تفصيل الإيرادات
A1: 4- الإيرادات مصنفة حسب الأبواب والأقسام والبنود
A2: (دينار بحريني)
A3: التبويــب | E3: البيـــان | F3: 2024 | I3: 2023 الفعلي
A4: بند | B4: قسم | C4: باب | D4: نوع | F4: الاعتماد | G4: الفعلي | H4: الفرق
C5: 1 | D5: 4 | E5: النفط والغاز الطبيعي | F5: =F6+F10+F12 -> 2146812000 | G5: =G6+G10+G12 -> 1819851820 | H5: =G5-F5 -> -326960180 | I5: =I6+I10+I12 -> 2034699810
B6: 1 | C6: 1 | D6: 4 | E6: مبيعات النفط | F6: =SUM(F7:F9) -> 1226353000 | G6: =SUM(G7:G9) -> 1503638754 | H6: =G6-F6 -> 277285754 | I6: =SUM(I7:I9) -> 1660470295
A7: 40011 | B7: 1 | C7: 1 | D7: 4 | E7: حقل البحرين | F7: 118443000 | G7: 183730628 | H7: =G7-F7 -> 65287628 | I7: 149448593
A8: 40012 | B8: 1 | C8: 1 | D8: 4 | E8: حقل أبوسعفة | F8: 1128557000 | G8: 1349618325 | H8: =G8-F8 -> 221061325 | I8: 1545755835
A9: 40014 | B9: 1 | C9: 1 | D9: 4 | E9: احتياطي الأجيال القادمة | F9: -20647000 | G9: -29710199 | H9: =G9-F9 -> -9063199 | I9: -34734133
B10: 2 | C10: 1 | D10: 4 | E10: مبيعات الغاز | F10: =SUM(F11:F11) -> 913111000 | G10: =SUM(G11:G11) -> 310303136 | H10: =G10-F10 -> -602807864 | I10: =SUM(I11:I11) -> 366732410
A11: 40054 | B11: 2 | C11: 1 | D11: 4 | E11: الشركات المحلية الأخرى | F11: 913111000 | G11: 310303136 | H11: =G11-F11 -> -602807864 | I11: 366732410
B12: 3 | C12: 1 | D12: 4 | E12: الضرائب والرسوم النفطية | F12: =SUM(F13:F14) -> 7348000 | G12: =SUM(G13:G14) -> 5909930 | H12: =G12-F12 -> -1438070 | I12: =SUM(I13:I14) -> 7497105
A13: 42011 | B13: 3 | C13: 1 | D13: 4 | E13: ضريبة دخل الغاز | F13: 317000 | G13: 0 | H13: =G13-F13 -> -317000 | I13: 1470213
A14: 42013 | B14: 3 | C14: 1 | D14: 4 | E14: ضريبة البنزين | F14: 7031000 | G14: 5909930 | H14: =G14-F14 -> -1121070 | I14: 6026892
C15: 2 | D15: 4 | E15: الإيرادات والرسوم | F15: =F16+F26+F56+F109+F115 -> 962819233 | G15: =G16+G26+G56+G109+G115 -> 943022061 | H15: =G15-F15 -> -19797172 | I15: =I16+I26+I56+I109+I115 -> 920775284
B16: 2 | C16: 2 | D16: 4 | E16: الإيرادات والرسوم على التجارة الدولية | F16: =SUM(F17:F25) -> 99749600 | G16: =SUM(G17:G25) -> 101170029 | H16: =G16-F16 -> 1420429 | I16: =SUM(I17:I25) -> 93760651
A17: 42501 | B17: 2 | C17: 2 | D17: 4 | E17: الإيرادات الجمركية على السلع الضرورية الأساسية | F17: 50285600 | G17: 50592913 | H17: =G17-F17 -> 307313 | I17: 47136909
A18: 42503 | B18: 2 | C18: 2 | D18: 4 | E18: الإيرادات الجمركية على المركبات | F18: 12000000 | G18: 16170619 | H18: =G18-F18 -> 4170619 | I18: 13758250
A19: 42504 | B19: 2 | C19: 2 | D19: 4 | E19: الإيرادات الجمركية على التبغ المصنع وغير المصنع ومشتقاته | F19: 19000000 | G19: 20509521 | H19: =G19-F19 -> 1509521 | I19: 18146001
A20: 42506 | B20: 2 | C20: 2 | D20: 4 | E20: الإيرادات الجمركية على اليخوت | F20: 150000 | G20: 63240 | H20: =G20-F20 -> -86760 | I20: 142072
A21: 42507 | B21: 2 | C21: 2 | D21: 4 | E21: إيرادات حماية الصناعة الوطنية | F21: 950000 | G21: 613 | H21: =G21-F21 -> -949387 | I21: 5158
A22: 42509 | B22: 2 | C22: 2 | D22: 4 | E22: الإيرادات الجمركية على آلات التسخين | F22: 10750000 | G22: 8104475 | H22: =G22-F22 -> -2645525 | I22: 8697969
A23: 42511 | B23: 2 | C23: 2 | D23: 4 | E23: الإيرادات الجمركية على الأجهزة الكهربائية ومعدات | F23: 5000000 | G23: 4509309 | H23: =G23-F23 -> -490691 | I23: 4459944
A24: 42512 | B24: 2 | C24: 2 | D24: 4 | E24: الإيرادات الجمركية على الحديد والفولاذ | F24: 1600000 | G24: 1191727 | H24: =G24-F24 -> -408273 | I24: 1397741
A25: 42513 | B25: 2 | C25: 2 | D25: 4 | E25: الإيرادات الجمركية على حديد التسليح ولفائف الحديد | F25: 14000 | G25: 27612 | H25: =G25-F25 -> 13612 | I25: 16607
B26: 3 | C26: 2 | D26: 4 | E26: رسوم التسجيل والتراخيص | F26: =F27+F28+F29+F30+F31+F32+F33+F34+F35+F36+F39+F40+F41+F42+F43+F44+F45+F47+F48+F49+F50+F53+F54+F55+F46+F51+F52+F37+F38 -> 31551186 | G26: =G27+G28+G29+G30+G31+G32+G33+G34+G35+G36+G39+G40+G41+G42+G43+G44+G45+G47+G48+G49+G50+G53+G54+G55+G46+G51+G52+G37+G38 -> 16671847 | H26: =G26-F26 -> -14879339 | I26: =I27+I28+I29+I30+I31+I32+I33+I34+I35+I36+I39+I40+I41+I42+I43+I44+I45+I47+I48+I49+I50+I53+I54+I55+I46+I51+I52+I37+I38 -> 15675149
A27: 43011 | B27: 3 | C27: 2 | D27: 4 | E27: نشاطات التجارة العامة | F27: 5561973 | G27: 5695178 | H27: =G27-F27 -> 133205 | I27: 4952489
A28: 43031 | B28: 3 | C28: 2 | D28: 4 | E28: نشاطات الخدمات المالية | F28: 0 | G28: 12000 | H28: =G28-F28 -> 12000 | I28: 12200
A29: 43041 | B29: 3 | C29: 2 | D29: 4 | E29: نشاطات الخدمات المتنوعة | F29: 268250 | G29: 275097 | H29: =G29-F29 -> 6847 | I29: 244430
A30: 43042 | B30: 3 | C30: 2 | D30: 4 | E30: نشاطات النقل الجوي | F30: 150000 | G30: 162775 | H30: =G30-F30 -> 12775 | I30: 114435
A31: 43043 | B31: 3 | C31: 2 | D31: 4 | E31: نشاطات التراخيص الجوية | F31: 350000 | G31: 1042545 | H31: =G31-F31 -> 692545 | I31: 1911671
A32: 43044 | B32: 3 | C32: 2 | D32: 4 | E32: رسوم تراخيص النقل البري | F32: 1400000 | G32: 1499560 | H32: =G32-F32 -> 99560 | I32: 1333510
A33: 43045 | B33: 3 | C33: 2 | D33: 4 | E33: رسوم تراخيص تنظيم البريد | F33: 400000 | G33: 922446 | H33: =G33-F33 -> 522446 | I33: 376296
A34: 43046 | B34: 3 | C34: 2 | D34: 4 | E34: رسوم ترخيص فحص المركبات | F34: 1021941 | G34: 1667825 | H34: =G34-F34 -> 645884 | I34: 1115125
A35: 43052 | B35: 3 | C35: 2 | D35: 4 | E35: رسوم عقود الإيجار | F35: 500000 | G35: 392440 | H35: =G35-F35 -> -107560 | I35: 420670
A36: 43053 | B36: 3 | C36: 2 | D36: 4 | E36: رسوم تسجيل المؤسسات الصحية والطبية البيطرية | F36: 1000 | G36: 570 | H36: =G36-F36 -> -430 | I36: 929
A37: 43054 | B37: 3 | C37: 2 | D37: 4 | E37: رسوم تأهيل المقاولين | F37: 130000 | G37: 135850 | H37: =G37-F37 -> 5850 | I37: 176613
A38: 43071 | B38: 3 | C38: 2 | D38: 4 | E38: رسوم تنظيم مزاولة المهن الهندسية | F38: 100000 | G38: 0 | H38: =G38-F38 -> -100000 | I38: 0
... A55: 44064 | B55: 3 | C55: 2 | D55: 4 | E55: تراخيص النفايات الخطرة | F55: 450000 | G55: 215747 | H55: =G55-F55 -> -234253 | I55: 252222
B56: 4 | C56: 2 | D56: 4 | E56: الرسوم والأتعاب الإدارية | F56: =F57+F62+F63+F64+F65+F66+F67+F69+F70+F71+F72+F73+F74+F75+F76+F77+F78+F79+F80+F81+F82+F83+F84+F85+F86+F87+F88+F89+F90+F92+F93+F94+F95+F97+F99+F100+F101+F102+F103+F104+F105+F68+F96+F98+F106 -> 194163447 | G56: =G57+G62+G63+G64+G65+G66+G67+G69+G70+G71+G72+G73+G74+G75+G76+G77+G78+G79+G80+G81+G82+G83+G84+G85+G86+G87+G88+G89+G90+G92+G93+G94+G95+G97+G99+G100+G101+G102+G103+G104+G105+G68+G96+G98+G106+G91+G107+G108 -> 145427556 | H56: =G56-F56 -> -48735891 | I56: =I57+I62+I63+I64+I65+I66+I67+I69+I70+I71+I72+I73+I74+I75+I76+I77+I78+I79+I80+I81+I82+I83+I84+I85+I86+I87+I88+I89+I90+I92+I93+I94+I95+I97+I99+I100+I101+I102+I103+I104+I105+I68+I96+I98+I106+I91+I107+I108 -> 146929374
A57: 44011 | B57: 4 | C57: 2 | D57: 4 | E57: رسوم الجوازات | F57: 2377973 | G57: 1513376 | H57: =G57-F57 -> -864597 | I57: 1438846
A58: 4- الإيرادات مصنفة حسب الأبواب والأقسام والبنود (تتمة)
A59: (دينار بحريني)
A60: التبويــب | E60: البيـــان | F60: 2024 | I60: 2023 الفعلي
A61: بند | B61: قسم | C61: باب | D61: نوع | F61: الاعتماد | G61: الفعلي | H61: الفرق
A62: 44012 | B62: 4 | C62: 2 | D62: 4 | E62: رسوم الإقامات | F62: 4626843 | G62: 2816667 | H62: =G62-F62 -> -1810176 | I62: 3503213
A63: 44013 | B63: 4 | C63: 2 | D63: 4 | E63: رسوم التأشيرات وشهادات عدم الممانعة | F63: 24892084 | G63: 15729184 | H63: =G63-F63 -> -9162900 | I63: 21169223
A64: 44015 | B64: 4 | C64: 2 | D64: 4 | E64: رسوم بطاقة الهوية | F64: 5578000 | G64: 2080727 | H64: =G64-F64 -> -3497273 | I64: 2360564
A65: 44016 | B65: 4 | C65: 2 | D65: 4 | E65: رسوم الخدمات الاستشارية | F65: 330000 | G65: 410375 | H65: =G65-F65 -> 80375 | I65: 343550
A66: 44017 | B66: 4 | C66: 2 | D66: 4 | E66: رسوم تصديق البصمة | F66: 338000 | G66: 317313 | H66: =G66-F66 -> -20687 | I66: 234704
A67: 44018 | B67: 4 | C67: 2 | D67: 4 | E67: تقديم اعتراض إلى لجنة التظلمات والاعتراضات الضريبية | F67: 500 | G67: 700 | H67: =G67-F67 -> 200 | I67: 400
A68: 44019 | B68: 4 | C68: 2 | D68: 4 | E68: رسوم رخصة المنفذ الخاص | F68: 30000 | G68: 7700 | H68: =G68-F68 -> -22300 | I68: 21900
A69: 44021 | B69: 4 | C69: 2 | D69: 4 | E69: حصة الحكومة من رسوم هيئة تنظيم سوق العمل | F69: 43724000 | G69: 34293057 | H69: =G69-F69 -> -9430943 | I69: 32828972
A70: 44022 | B70: 4 | C70: 2 | D70: 4 | E70: رسوم الخدمة السريعة لإنهاء إجراءات التدقيق والمعاينة | F70: 500 | G70: 49 | H70: =G70-F70 -> -451 | I70: 60
A71: 44023 | B71: 4 | C71: 2 | D71: 4 | E71: رسوم خدمات تصنيف البضائع | F71: 4000 | G71: 8105 | H71: =G71-F71 -> 4105 | I71: 7235
A72: 44024 | B72: 4 | C72: 2 | D72: 4 | E72: رسوم مطابقة البضائع | F72: 800 | G72: 0 | H72: =G72-F72 -> -800 | I72: 0
A73: 44025 | B73: 4 | C73: 2 | D73: 4 | E73: رسوم التأمين الجمركي | F73: 12000 | G73: 20020 | H73: =G73-F73 -> 8020 | I73: 12224
... A108: 44912 | B108: 4 | C108: 2 | D108: 4 | E108: خدمات مراجعات أداء مؤسسات التعليم العالي والتدريب الفني والمهني | F108: 0 | G108: 208515 | H108: =G108-F108 -> 208515 | I108: 0
B109: 5 | C109: 2 | D109: 4 | E109: الإيرادات الانتقائية | F109: =SUM(F110:F114) -> 83000000 | G109: =SUM(G110:G114) -> 76623829 | H109: =G109-F109 -> -6376171 | I109: =SUM(I110:I114) -> 80865629
A110: 42101 | B110: 5 | C110: 2 | D110: 4 | E110: الإيرادات الانتقائية على مشروبات الطاقة المستوردة من الخارج | F110: 2000000 | G110: 2521009 | H110: =G110-F110 -> 521009 | I110: 2415703
A111: 42102 | B111: 5 | C111: 2 | D111: 4 | E111: الإيرادات الانتقائية على المشروبات الغازية المستوردة من الخارج | F111: 2000000 | G111: 3807510 | H111: =G111-F111 -> 1807510 | I111: 2098488
A112: 42103 | B112: 5 | C112: 2 | D112: 4 | E112: الإيرادات الانتقائية على الشيشة الإلكترونية المستوردة | F112: 6000000 | G112: 4328546 | H112: =G112-F112 -> -1671454 | I112: 6240249
A113: 42111 | B113: 5 | C113: 2 | D113: 4 | E113: الإيرادات الانتقائية على التبغ ومشتقاته المستوردة من الخارج | F113: 56000000 | G113: 57247660 | H113: =G113-F113 -> 1247660 | I113: 58513997
A114: 42202 | B114: 5 | C114: 2 | D114: 4 | E114: الإيرادات الانتقائية على المشروبات الغازية المنتجة محلياً | F114: 17000000 | G114: 8719104 | H114: =G114-F114 -> -8280896 | I114: 11597192
B115: 6 | C115: 2 | D115: 4 | E115: إيرادات القيمة المضافة | F115: =SUM(F116:F119) -> 554355000 | G115: =SUM(G116:G119) -> 603128800 | H115: =G115-F115 -> 48773800 | I115: =SUM(I116:I119) -> 583544481
A116: 42601 | B116: 6 | C116: 2 | D116: 4 | E116: إيرادات القيمة المضافة على السلع المستوردة | F116: 488150000 | G116: 452914873 | H116: =G116-F116 -> -35235127 | I116: 445903749
A117: 42602 | B117: 6 | C117: 2 | D117: 4 | E117: إيرادات القيمة المضافة على الخدمات الحكومية | F117: 600000 | G117: 428677 | H117: =G117-F117 -> -171323 | I117: 454329
A118: 42603 | B118: 6 | C118: 2 | D118: 4 | E118: إيرادات القيمة المضافة المصادرة | F118: 1250000 | G118: 1058270 | H118: =G118-F118 -> -191730 | I118: 716947
A119: 42604 | B119: 6 | C119: 2 | D119: 4 | E119: إيرادات القيمة المضافة المحصلة من إقرارات الخاضعين | F119: 64355000 | G119: 148726980 | H119: =G119-F119 -> 84371980 | I119: 136469456
C120: 3 | D120: 4 | E120: المنتجات الخدمية والسلعية الحكومية | F120: =F121+F182 -> 84620353 | G120: =G121+G182 -> 72914586 | H120: =G120-F120 -> -11705767 | I120: =I121+I182 -> 76529614
B121: 1 | C121: 3 | D121: 4 | E121: المنتجات الخدمية الحكومية | F121: =SUM(F122:F181) -> 83290585 | G121: =SUM(G122:G181) -> 71528810 | H121: =G121-F121 -> -11761775 | I121: =SUM(I122:I181) -> 74833332
A122: 40136 | B122: 1 | C122: 3 | D122: 4 | E122: تزويد المطار بالمعلومات | F122: 0 | G122: 15 | H122: =G122-F122 -> 15 | I122: 2700
A123: 41011 | B123: 1 | C123: 3 | D123: 4 | E123: الغرف الخاصة بالمستشفيات | F123: 750000 | G123: 374050 | H123: =G123-F123 -> -375950 | I123: 371221
A124: 41012 | B124: 1 | C124: 3 | D124: 4 | E124: الرعاية الصحية الأساسية | F124: 27253109 | G124: 25784018 | H124: =G124-F124 -> -1469091 | I124: 27166489
A125: 41013 | B125: 1 | C125: 3 | D125: 4 | E125: خدمات الصحة العامة | F125: 4300000 | G125: 3203128 | H125: =G125-F125 -> -1096872 | I125: 3147103
A126: 41014 | B126: 1 | C126: 3 | D126: 4 | E126: الخدمات الطبية الخاصة | F126: 55000 | G126: 73386 | H126: =G126-F126 -> 18386 | I126: 32469
A127: 41017 | B127: 1 | C127: 3 | D127: 4 | E127: المرضى الخارجيون | F127: 785000 | G127: 548231 | H127: =G127-F127 -> -236769 | I127: 557663
A128: 41018 | B128: 1 | C128: 3 | D128: 4 | E128: رسوم اللجان الطبية | F128: 95000 | G128: 63392 | H128: =G128-F128 -> -31608 | I128: 117134 | J128: تم تغيير المسمى من القومسيون الطبي
A129: 41019 | B129: 1 | C129: 3 | D129: 4 | E129: رسوم علاج إصابات العمل | F129: 275000 | G129: 0 | H129: =G129-F129 -> -275000 | I129: 0
A130: 41020 | B130: 1 | C130: 3 | D130: 4 | E130: رسوم الفحص الطبي للمتقدمين على التوظيف | F130: 130000 | G130: 127730 | H130: =G130-F130 -> -2270 | I130: 143840
A131: 41023 | B131: 1 | C131: 3 | D131: 4 | E131: رسوم الأشعة السينية | F131: 198000 | G131: 149845 | H131: =G131-F131 -> -48155 | I131: 83200
A132: 41024 | B132: 1 | C132: 3 | D132: 4 | E132: رسوم المختبر | F132: 492000 | G132: 377679 | H132: =G132-F132 -> -114321 | I132: 316256
A133: 41025 | B133: 1 | C133: 3 | D133: 4 | E133: رسوم العمليات الجراحية | F133: 300000 | G133: 129158 | H133: =G133-F133 -> -170842 | I133: 123775
A134: 41026 | B134: 1 | C134: 3 | D134: 4 | E134: خدمات الأمومة | F134: 350000 | G134: 265191 | H134: =G134-F134 -> -84809 | I134: 363925
A135: 41028 | B135: 1 | C135: 3 | D135: 4 | E135: رسوم الدورات والمحاضرات | F135: 60000 | G135: 62512 | H135: =G135-F135 -> 2512 | I135: 47545
A136: 41029 | B136: 1 | C136: 3 | D136: 4 | E136: رسوم تسجيل الطلبة البحرينيين في الجامعات الحكومية | F136: 0 | G136: 72848 | H136: =G136-F136 -> 72848 | I136: 51303
A137: 41031 | B137: 1 | C137: 3 | D137: 4 | E137: البريد الممتاز | F137: 574000 | G137: 459036 | H137: =G137-F137 -> -114964 | I137: 727640
A138: 41032 | B138: 1 | C138: 3 | D138: 4 | E138: صناديق البريد الخاصة | F138: 0 | G138: 222620 | H138: =G138-F138 -> 222620 | I138: 233844
A139: 41033 | B139: 1 | C139: 3 | D139: 4 | E139: بريد العبور | F139: 0 | G139: 1443772 | H139: =G139-F139 -> 1443772 | I139: 1607972
A140: 41034 | B140: 1 | C140: 3 | D140: 4 | E140: البريد المسجل | F140: 500000 | G140: 156408 | H140: =G140-F140 -> -343592 | I140: 220056
... A167: 41215 | B167: 1 | C167: 3 | D167: 4 | E167: اعتماد ملفات الطلبة في المؤسسات الخاصة | F167: 165820 | G167: 72400 | H167: =G167-F167 -> -93420 | I167: 68400
A168: 41216 | B168: 1 | C168: 3 | D168: 4 | E168: خدمات الباحثين | F168: 4980 | G168: 240 | H168: =G168-F168 -> -4740 | I168: 60
A169: 41217 | B169: 1 | C169: 3 | D169: 4 | E169: رسوم الأعضاء الفنيين والأكاديميين | F169: 9280 | G169: 760 | H169: =G169-F169 -> -8520 | I169: 2340
A170: 41232 | B170: 1 | C170: 3 | D170: 4 | E170: مسح الأراضي | F170: 200000 | G170: 79693 | H170: =G170-F170 -> -120307 | I170: 68943
A171: 41234 | B171: 1 | C171: 3 | D171: 4 | E171: رسوم استهلاك المياه الجوفية | F171: 80000 | G171: 201907 | H171: =G171-F171 -> 121907 | I171: 201336
A172: 41901 | B172: 1 | C172: 3 | D172: 4 | E172: إصدار الشهادات | F172: 1181283 | G172: 1212151 | H172: =G172-F172 -> 30868 | I172: 1089561
A173: 41902 | B173: 1 | C173: 3 | D173: 4 | E173: رسوم الإمتحانات | F173: 43000 | G173: 26000 | H173: =G173-F173 -> -17000 | I173: 30650
A174: 41905 | B174: 1 | C174: 3 | D174: 4 | E174: خدمات الإعلام والأخبار | F174: 20000 | G174: 15617 | H174: =G174-F174 -> -4383 | I174: 37613
A175: 41907 | B175: 1 | C175: 3 | D175: 4 | E175: رسوم الخدمات الإلكترونية | F175: 2275000 | G175: 68206 | H175: =G175-F175 -> -2206794 | I175: 56151
A176: 41909 | B176: 1 | C176: 3 | D176: 4 | E176: رسوم إقامة المؤتمرات والمعارض والفعاليات | F176: 25000 | G176: 34475 | H176: =G176-F176 -> 9475 | I176: 19640
...

Sheet الميزانية المعتمدة
A1: 5- ميزانية المصروفات المتكررة والمشاريع
G2: (دينار بحريني)
A3: البيـان | B3: الاعتمادات الأصلية | C3: تعديل الميزانية | D3: الاعتمادات المدورة من سنوات سابقة | E3: الاعتمادات بعد التعديل | F3: المصروفات الفعلية | G3: الوفر / (التجاوز)
A4: المصروفات المتكررة
A5: القوى العاملة | B5: 1246438000 | C5: 101283063 | D5: 0 | E5: =B5+C5+D5 -> 1347721063 | F5: 1377932661 | G5: =E5-F5 -> -30211598
A6: الخدمات | B6: 214153353 | C6: 17976877 | D6: 314708 | E6: =B6+C6+D6 -> 232444938 | F6: 250179667 | G6: =E6-F6 -> -17734729
A7: السلع الاستهلاكية | B7: 49221471 | C7: 6749884 | D7: 0 | E7: =B7+C7+D7 -> 55971355 | F7: 55141382 | G7: =E7-F7 -> 829973
A8: السلع الرأسمالية | B8: 16869439 | C8: -2634910 | D8: 0 | E8: =B8+C8+D8 -> 14234529 | F8: 13330175 | G8: =E8-F8 -> 904354
A9: الصيانة | B9: 35757285 | C9: -3851812 | D9: 0 | E9: =B9+C9+D9 -> 31905473 | F9: 38481640 | G9: =E9-F9 -> -6576167
A10: النفقات التحويلية | B10: 688708443 | C10: -155649010 | D10: 7413412 | E10: =B10+C10+D10 -> 540472845 | F10: 626613466 | G10: =E10-F10 -> -86140621
A11: الإعانات وتسديد فوائد القروض | B11: 1154637009 | C11: 9125908 | D11: 0 | E11: =B11+C11+D11 -> 1163762917 | F11: 1399598456 | G11: =E11-F11 -> -235835539
A12: مجموع المصروفات المتكررة | B12: =SUM(B5:B11) -> 3405785000 | C12: =SUM(C5:C11) -> -27000000 | D12: =SUM(D5:D11) -> 7728120 | E12: =SUM(E5:E11) -> 3386513120 | F12: =SUM(F5:F11) -> 3761277447 | G12: =SUM(G5:G11) -> -374764327
A13: مصروفات المشاريع | B13: 225000000 | C13: 27000000 | D13: 47000000 | E13: =B13+C13+D13 -> 299000000 | F13: 290992012 | G13: =E13-F13 -> 8007988
A14: المجموع | B14: =B13+B12 -> 3630785000 | C14: =C13+C12 -> 0 | D14: =D13+D12 -> 54728120 | E14: =E13+E12 -> 3685513120 | F14: =F13+F12 -> 4052269459 | G14: =G13+G12 -> -366756339

Sheet مناقلات الميزانية  
A1: 6- الميزانية الأصلية والتعديل للمصروفات المتكررة
E2: (دينار بحريني)
A3: البيـان | B3: الاعتمادات الأصلية | C3: الاعتمادات الإضافية والمناقلات | D3: الاعتمادات المدورة من سنوات سابقة | E3: الاعتمادات بعد التعديل
A4: قطاع خدمات الإدارة العامة | B4: =SUM(B5:B39) -> 287433000 | C4: =SUM(C5:C39) -> -88142451 | D4: =SUM(D5:D39) -> 7109185 | E4: =SUM(E5:E39) -> 206399734
A5: مكتب رئيس مجلس الوزراء | B5: 19736000 | C5: 0 | D5: 0 | E5: =SUM(B5:D5) -> 19736000
A6: مكتب رئيس مجلس الوزراء - مركز الاتصال الوطني | B6: 1280000 | C6: 167229 | D6: 0 | E6: =SUM(B6:D6) -> 1447229
A7: نائب رئيس مجلس الوزراء | B7: 649000 | C7: 11789 | D7: 0 | E7: =SUM(B7:D7) -> 660789
A8: وزارة شئون مجلس الوزراء | B8: 2702000 | C8: 0 | D8: 0 | E8: =SUM(B8:D8) -> 2702000
A9: وزارة الشئون القانونية | B9: 242000 | C9: 19608 | D9: 0 | E9: =SUM(B9:D9) -> 261608
A10: هيئة التشريع والرأي القانوني | B10: 2029000 | C10: 487929 | D10: 0 | E10: =SUM(B10:D10) -> 2516929
A11: وزارة شئون مجلسي الشورى والنواب | B11: 1198000 | C11: 345335 | D11: 0 | E11: =SUM(B11:D11) -> 1543335
A12: مجلس الشورى | B12: 8946000 | C12: 0 | D12: 0 | E12: =SUM(B12:D12) -> 8946000
A13: مجلس النواب | B13: 10235000 | C13: 99200 | D13: 0 | E13: =SUM(B13:D13) -> 10334200
A14: ديوان الرقابة المالية والإدارية | B14: 5014000 | C14: 0 | D14: 0 | E14: =SUM(B14:D14) -> 5014000
A15: وزارة المالية والاقتصاد الوطني | B15: 7702000 | C15: 1223682 | D15: 0 | E15: =SUM(B15:D15) -> 8925682
A16: الجهاز الوطني للإيرادات | B16: 6521000 | C16: 393046 | D16: 0 | E16: =SUM(B16:D16) -> 6914046
... A39: حساب الاعتمادات المدورة | B39: 0 | C39: 0 | D39: 6768507 | E39: =SUM(B39:D39) -> 6768507
A41: قطاع الدفاع | B41: =SUM(B42:B45) -> 525763000 | C41: =SUM(C42:C45) -> 42020075 | D41: =SUM(D42:D45) -> 0 | E41: =SUM(E42:E45) -> 567783075
A42: وزارة الدفاع (إيضاح رقم 11) | B42: 476892000 | C42: 39765511 | D42: 0 | E42: =SUM(B42:D42) -> 516657511
A43: الأمانة العامة لمجلس الدفاع الأعلى | B43: 6434000 | C43: 1000000 | D43: 0 | E43: =SUM(B43:D43) -> 7434000
A44: الحرس الوطني | B44: 41974000 | C44: 1000000 | D44: 0 | E44: =SUM(B44:D44) -> 42974000
A45: وكالة البحرين للفضاء | B45: 463000 | C45: 254564 | D45: 0 | E45: =SUM(B45:D45) -> 717564
A47: قطاع النظام العام وشئون السلامة العامة | B47: =SUM(B48:B58) -> 447078000 | C47: =SUM(C48:C58) -> 20160583 | D47: =SUM(D48:D58) -> 0 | E47: =SUM(E48:E58) -> 467238583
A48: وزارة الداخلية | B48: 362579000 | C48: 13049090 | D48: 0 | E48: =SUM(B48:D48) -> 375628090
A49: المحافظات | B49: 4156000 | C49: 80880 | D49: 0 | E49: =SUM(B49:D49) -> 4236880
A50: 6- الميزانية الأصلية والتعديل للمصروفات المتكررة (تتمة)
E51: (دينار بحريني)
A52: البيـان | B52: الاعتمادات الأصلية | C52: الاعتمادات الإضافية والمناقلات | D52: الاعتمادات المدورة من سنوات سابقة | E52: الاعتمادات بعد التعديل
A53: جهاز المخابرات الوطني | B53: 33314000 | C53: 816480 | D53: 0 | E53: =SUM(B53:D53) -> 34130480
A54: شئون الجمارك | B54: 15760000 | C54: 3237718 | D54: 0 | E54: =SUM(B54:D54) -> 18997718
A55: المجلس الأعلى للقضاء | B55: 14151000 | C55: 1783684 | D55: 0 | E55: =SUM(B55:D55) -> 15934684
A56: وزارة العدل والشئون الإسلامية والأوقاف | B56: 11546000 | C56: 600021 | D56: 0 | E56: =SUM(B56:D56) -> 12146021
A57: الجهاز الإداري للنيابة العامة | B57: 3302000 | C57: 592710 | D57: 0 | E57: =SUM(B57:D57) -> 3894710
A58: المحكمة الدستورية | B58: 2270000 | C58: 0 | D58: 0 | E58: =SUM(B58:D58) -> 2270000
A61: قطاع الشئون الاقتصادية والبنية التحتية | B61: =SUM(B62:B75) -> 104582000 | C61: =SUM(C62:C75) -> 21085027 | D61: =SUM(D62:D75) -> 321385 | E61: =SUM(E62:E75) -> 125988412
A62: مجلس التنمية الاقتصادية | B62: 5369000 | C62: 0 | D62: 0 | E62: =SUM(B62:D62) -> 5369000
A63: وزارة الصناعة والتجارة | B63: 8344000 | C63: 1887883 | D63: 0 | E63: =SUM(B63:D63) -> 10231883
A64: وزارة العمل | B64: 4000000 | C64: 1322777 | D64: 0 | E64: =SUM(B64:D64) -> 5322777
A65: وزارة التنمية الاجتماعية | B65: 4400000 | C65: 2880889 | D65: 0 | E65: =SUM(B65:D65) -> 7280889
A66: وزارة السياحة | B66: 242000 | C66: 41455 | D66: 0 | E66: =SUM(B66:D66) -> 283455
A67: هيئة تنظيم سوق العمل | B67: 8439000 | C67: 2210426 | D67: 0 | E67: =SUM(B67:D67) -> 10649426
A68: وزارة النفط والبيئة | B68: 1570000 | C68: 338639 | D68: 0 | E68: =SUM(B68:D68) -> 1908639
A69: وزارة شئون الكهرباء والماء | B69: 646000 | C69: 0 | D69: 0 | E69: =SUM(B69:D69) -> 646000
A70: وزارة الأشغال | B70: 38682000 | C70: 6727075 | D70: 0 | E70: =SUM(B70:D70) -> 45409075
A71: وزارة المواصلات والاتصالات | B71: 23914000 | C71: 5522800 | D71: 0 | E71: =SUM(B71:D71) -> 29436800
A72: معرض البحرين الدولي للطيران | B72: 3121000 | C72: 0 | D72: 0 | E72: =SUM(B72:D72) -> 3121000
A73: بدالة إنترنت البحرين | B73: 1131000 | C73: 153083 | D73: 321385 | E73: =SUM(B73:D73) -> 1605468
... A75: الجهاز التنفيذي والإداري لمجلس احتياطي الأجيال القادمة | B75: 3498000 | C75: 0 | D75: 0 | E75: =SUM(B75:D75) -> 3498000
A77: قطاع حماية البيئة | B77: =SUM(B78:B79) -> 4830000 | C77: =SUM(C78:C79) -> 1818069 | D77: =SUM(D78:D79) -> 0 | E77: =SUM(E78:F79) -> 6648069
A78: المجلس الأعلى للبيئة | B78: 4330000 | C78: 2318069 | D78: 0 | E78: =SUM(B78:D78) -> 6648069
A79: المبادرة الوطنية لتنمية القطاع الزراعي | B79: 500000 | C79: -500000 | D79: 0 | E79: =SUM(B79:D79) -> 0
A81: قطاع الإسكان ومرافق المجتمع | B81: =SUM(B82:B86) -> 11911000 | C81: =SUM(C82:C86) -> 1409048 | D81: =SUM(D82:D86) -> 0 | E81: =SUM(E82:E86) -> 13320048
A82: وزارة الإسكان والتخطيط العمراني - قطاع الإسكان | B82: 3625000 | C82: 682433 | D82: 0 | E82: =SUM(B82:D82) -> 4307433
A83: وزارة شئون البلديات والزراعة | B83: 4596000 | C83: -174396 | D83: 0 | E83: =SUM(B83:D83) -> 4421604
A84: وزارة الإسكان والتخطيط العمراني - هيئة التخطيط والتطوير العمراني | B84: 2366000 | C84: 639346 | D84: 0 | E84: =SUM(B84:D84) -> 3005346
A85: مؤسسة التنظيم العقاري | B85: 712000 | C85: 261665 | D85: 0 | E85: =SUM(B85:D85) -> 973665
A86: المجالس البلدية | B86: 612000 | C86: 0 | D86: 0 | E86: =SUM(B86:D86) -> 612000
A88: قطاع الصحة | B88: =SUM(B89:B98) -> 288217000 | C88: =SUM(C89:C98) -> 34292046 | D88: =SUM(D89:D98) -> 297550 | E88: =SUM(E89:E98) -> 322806596
A89: المجلس الأعلى للصحة | B89: 1484000 | C89: 856212 | D89: 0 | E89: =SUM(B89:D89) -> 2340212
A90: وزارة الصحة | B90: 28330000 | C90: 170528 | D90: 0 | E90: =SUM(B90:D90) -> 28500528
A91: المستشفيات الحكومية | B91: 101230000 | C91: 27488895 | D91: 0 | E91: =SUM(B91:D91) -> 128718895
A92: مراكز الرعاية الصحية الأولية | B92: 58702000 | C92: 3390777 | D92: 0 | E92: =SUM(B92:D92) -> 62092777
A93: صندوق الضمان الصحي (شفاء) | B93: 0 | C93: 1286642 | D93: 297550 | E93: =SUM(B93:D93) -> 1584192
A94: الهيئة الوطنية لتنظيم المهن والخدمات الصحية | B94: 2806000 | C94: 442392 | D94: 0 | E94: =SUM(B94:D94) -> 3248392
A95: مستشفى الملك حمد الجامعي (إيضاح رقم 11) | B95: 37000000 | C95: 281400 | D95: 0 | E95: =SUM(B95:D95) -> 37281400
A96: مركز محمد بن خليفة آل خليفة التخصصي للقلب (إيضاح رقم 11) | B96: 25465000 | C96: 201000 | D96: 0 | E96: =SUM(B96:D96) -> 25666000
A97: مركز البحرين للأورام (إيضاح رقم 11) | B97: 33000000 | C97: 174200 | D97: 0 | E97: =SUM(B97:D97) -> 33174200
A98: حساب نفقات علاج إصابات الحوادث والحالات الطارئة للمواطنين بالخارج | B98: 200000 | C98: 0 | D98: 0 | E98: =SUM(B98:D98) -> 200000
A100: قطاع الشباب والثقافة والإعلام | B100: =SUM(B101:B110) -> 48203000 | C100: =SUM(C101:C110) -> 21202641 | D100: =SUM(D101:D110) -> 0 | E100: =SUM(E101:E110) -> 69405641
A101: وزارة شئون الشباب | B101: 5008000 | C101: -1757493 | D101: 0 | E101: =SUM(B101:D101) -> 3250507
A102: الأمانة العامة للمجلس الأعلى للشباب والرياضة | B102: 5404000 | C102: 1919524 | D102: 0 | E102: =SUM(B102:D102) -> 7323524
A103: نادي راشد للفروسية وسباق الخيل | B103: 1670000 | C103: 3049643 | D103: 0 | E103: =SUM(B103:D103) -> 4719643
A104: الهيئة العامة للرياضة | B104: 10910000 | C104: 12546462 | D104: 0 | E104: =SUM(B104:D104) -> 23456462
A105: هيئة البحرين للثقافة والآثار | B105: 6528000 | C105: 532839 | D105: 0 | E105: =SUM(B105:D105) -> 7060839
A106: مركز عيسى الثقافي | B106: 1221000 | C106: 0 | D106: 0 | E106: =SUM(B106:D106) -> 1221000
A107: مركز الملك حمد العالمي للتعايش والتسامح | B107: 931000 | C107: 0 | D107: 0 | E107: =SUM(B107:D107) -> 931000
A108: جائزة عيسى لخدمة الإنسانية | B108: 830000 | C108: 0 | D108: 0 | E108: =SUM(B108:D108) -> 830000
A109: وزارة الإعلام | B109: 15510000 | C109: 4911666 | D109: 0 | E109: =SUM(B109:D109) -> 20421666
A110: الهيئة العليا للإعلام والاتصال | B110: 191000 | C110: 0 | D110: 0 | E110: =SUM(B110:D110) -> 191000
A113: قطاع التعليم | B113: =SUM(B114:B120) -> 312016000 | C113: =SUM(C114:C120) -> 18315762 | D113: =SUM(D114:D120) -> 0 | E113: =SUM(E114:E120) -> 330331762
A114: وزارة التربية والتعليم | B114: 256800000 | C114: 17648433 | D114: 0 | E114: =SUM(B114:D114) -> 274448433
A115: هيئة جودة التعليم والتدريب | B115: 2976000 | C115: 416243 | D115: 0 | E115: =SUM(B115:D115) -> 3392243
A116: مجلس التعليم العالي | B116: 1240000 | C116: - | D116: 0 | E116: =SUM(B116:D116) -> 1240000
A117: كلية عبدالله بن خالد للدراسات الإسلامية | B117: - | C117: 251086 | D117: 0 | E117: =SUM(B117:D117) -> 251086
A118: جامعة البحرين | B118: 30000000 | C118: 0 | D118: 0 | E118: =SUM(B118:D118) -> 30000000
A119: كلية البحرين للمعلمين | B119: 4000000 | C119: 0 | D119: 0 | E119: =SUM(B119:D119) -> 4000000
A120: بوليتكنك البحرين | B120: 17000000 | C120: 0 | D120: 0 | E120: =SUM(B120:D120) -> 17000000
A123: قطاع الحماية الاجتماعية | B123: =SUM(B124:B133) -> 488554000 | C123: =SUM(C124:C133) -> 37200 | D123: =SUM(D124:D133) -> 0 | E123: =SUM(E124:E133) -> 488591200
A124: الصندوق الإجتماعي الوطني | B124: 22400000 | C124: 37200 | D124: 0 | E124: =SUM(B124:D124) -> 22437200
A125: صندوق الضمان الإجتماعي | B125: 21500000 | C125: 0 | D125: 0 | E125: =SUM(B125:D125) -> 21500000
A126: الالتزامات ومبالغ الدعم لأنظمة التقاعد | B126: 21000000 | C126: 0 | D126: 0 | E126: =SUM(B126:D126) -> 21000000
A127: علاوة تحسين مستوى المعيشة للمتقاعدين | B127: 177500000 | C127: 0 | D127: 0 | E127: =SUM(B127:D127) -> 177500000
A128: دعم الأسر محدودة الدخل | B128: 128000000 | C128: 0 | D128: 0 | E128: =SUM(B128:D128) -> 128000000
A129: صندوق النفقة | B129: 250000 | C129: 0 | D129: 0 | E129: =SUM(B129:D129) -> 250000
A130: إعانة المواد الغذائية | B130: 35904000 | C130: 0 | D130: 0 | E130: =SUM(B130:D130) -> 35904000
A131: حصة الحكومة في نظام التأمين ضد التعطل | B131: 21000000 | C131: 0 | D131: 0 | E131: =SUM(B131:D131) -> 21000000
A132: دعم برنامج الإسكان (علاوة الإيجار) | B132: 57000000 | C132: 0 | D132: 0 | E132: =SUM(B132:D132) -> 57000000
A133: دعم برنامج الإسكان (تخفيض الأقساط الإسكانية) | B133: 4000000 | C133: 0 | D133: 0 | E133: =SUM(B133:D133) -> 4000000
A135: حساب الاحتياطي (3%) | B135: 99198000 | C135: -99198000 | D135: 0 | E135: =SUM(B135:D135) -> 0
A136: فوائد الدين الحكومي | B136: 788000000 | C136: 0 | D136: 0 | E136: =SUM(B136:D136) -> 788000000
...

Sheet مصروفات الوزارات
A1: 7- المصروفات المتكررة مصنفة حسب الأبواب والوزارات والجهات الحكومية
K2: (دينار بحريني)
A3: الوزارة أو الجهة الحكومية | B3: قوى عاملة | C3: خدمات | D3: سلع إستهلاكية | E3: سلع رأسمالية | F3: صيانة | G3: نفقات تحويلية | H3: إعانات وتسديد فوائد القروض | I3: المجموع | J3: الاعتماد | K3: الفعلي 2023
A4: وزارة السياحة | B4: 195053 | C4: 88401 | D4: 0 | E4: 0 | F4: 0 | G4: 0 | H4: 0 | I4: =SUM(B4:H4) -> 283454 | J4: 283455 | K4: 195788
A5: وزارة التنمية المستدامة | B5: 342899 | C5: 130351 | D5: 622 | E5: 13051 | F5: 10423 | G5: 0 | H5: 0 | I5: =SUM(B5:H5) -> 497346 | J5: 500000 | K5: 399199
A6: وزارة الشئون القانونية | B6: 249940 | C6: 9513 | D6: 2079 | E6: 75 | F6: 0 | G6: 0 | H6: 0 | I6: =SUM(B6:H6) -> 261607 | J6: 261608 | K6: 263684
A7: مكتب رئيس مجلس الوزراء | B7: 5242666 | C7: 2021979 | D7: 101529 | E7: 141417 | F7: 88540 | G7: 10000000 | H7: 1025437 | I7: =SUM(B7:H7) -> 18621568 | J7: 19736000 | K7: 19266087
A8: وزارة الدفاع (إيضاح رقم 11) | B8: 442833596 | C8: 29571999 | D8: 15626560 | E8: 3948254 | F8: 23088108 | G8: 0 | H8: 1588994 | I8: =SUM(B8:H8) -> 516657511 | J8: 516657511 | K8: 566765132
A9: وزارة الداخلية | B9: 343323749 | C9: 29113981 | D9: 5865478 | E9: 3910142 | F9: 5301057 | G9: 0 | H9: 0 | I9: =SUM(B9:H9) -> 387514407 | J9: 375628090 | K9: 377992717
A10: جهاز المخابرات الوطني | B10: 0 | C10: 0 | D10: 0 | E10: 0 | F10: 0 | G10: 34130480 | H10: 0 | I10: =SUM(B10:H10) -> 34130480 | J10: 34130480 | K10: 33790280
A11: هيئة التشريع والرأي القانوني | B11: 2234337 | C11: 254381 | D11: 2035 | E11: 19693 | F11: 6482 | G11: 0 | H11: 0 | I11: =SUM(B11:H11) -> 2516928 | J11: 2516929 | K11: 2476821
A12: وزارة الخارجية | B12: 26776220 | C12: 15887669 | D12: 518982 | E12: 850889 | F12: 986530 | G12: 0 | H12: 41584 | I12: =SUM(B12:H12) -> 45061874 | J12: 45061875 | K12: 44738193
A13: وزارة العدل والشئون الإسلامية والأوقاف | B13: 8567603 | C13: 3332298 | D13: 55370 | E13: 10738 | F13: 91710 | G13: 22300 | H13: 66000 | I13: =SUM(B13:H13) -> 12146019 | J13: 12146021 | K13: 15591627
A14: وزارة التربية والتعليم | B14: 257586291 | C14: 37330020 | D14: 3476234 | E14: 2115456 | F14: 2010035 | G14: 0 | H14: 0 | I14: =SUM(B14:H14) -> 302518036 | J14: 274448433 | K14: 289420530
A15: وزارة الصحة | B15: 8689858 | C15: 17826441 | D15: 1733983 | E15: 9104 | F15: 241141 | G15: 0 | H15: 0 | I15: =SUM(B15:H15) -> 28500527 | J15: 28500528 | K15: 48292593
... A30: الحرس الوطني | B30: 42114810 | C30: 681418 | D30: 117764 | E30: 0 | F30: 44007 | G30: 0 | H30: 16000 | I30: =SUM(B30:H30) -> 42973999 | J30: 42974000 | K30: 42573999
A31: 7- المصروفات المتكررة مصنفة حسب الأبواب والوزارات والجهات الحكومية (تتمة)
K32: (دينار بحريني)
A33: الوزارة أو الجهة الحكومية | B33: قوى عاملة | C33: خدمات | D33: سلع إستهلاكية | E33: سلع رأسمالية | F33: صيانة | G33: نفقات تحويلية | H33: إعانات وتسديد فوائد القروض | I33: المجموع | J33: الاعتماد | K33: الفعلي 2023
A34: وزارة النفط والبيئة | B34: 1428752 | C34: 459798 | D34: 7099 | E34: 11657 | F34: 1332 | G34: 0 | H34: 0 | I34: =SUM(B34:H34) -> 1908638 | J34: 1908639 | K34: 1889269
A35: وزارة شئون مجلسي الشورى والنواب | B35: 1345592 | C35: 190894 | D35: 4473 | E35: 924 | F35: 1452 | G35: 0 | H35: 0 | I35: =SUM(B35:H35) -> 1543335 | J35: 1543335 | K35: 1517338
A36: مكتب رئيس مجلس الوزراء - مركز الاتصال الوطني | B36: 1103798 | C36: 290586 | D36: 4445 | E36: 5812 | F36: 12587 | G36: 0 | H36: 30000 | I36: =SUM(B36:H36) -> 1447228 | J36: 1447229 | K36: 1696204
A37: مجلـس المناقصات والمزايدات | B37: 953738 | C37: 756782 | D37: 3179 | E37: 3699 | F37: 1870 | G37: 0 | H37: 0 | I37: =SUM(B37:H37) -> 1719268 | J37: 1719268 | K37: 1454050
A38: الميزانيات التحويلية (إيضاح رقم 9) | B38: 0 | C38: 25656735 | D38: 185727 | E38: 2675 | F38: 209340 | G38: 563942033 | H38: 1384494664 | I38: =SUM(B38:H38) -> 1974491174 | J38: 1652097513 | K38: 1866584896
A39: وزارة الإعلام | B39: 12636572 | C39: 5850610 | D39: 1533740 | E39: 11275 | F39: 389468 | G39: 0 | H39: 0 | I39: =SUM(B39:H39) -> 20421665 | J39: 20421666 | K39: 21547907
A40: هيئة البحرين للثقافة والآثار | B40: 3373123 | C40: 3268714 | D40: 9675 | E40: 2327 | F40: 232799 | G40: 0 | H40: 174200 | I40: =SUM(B40:H40) -> 7060838 | J40: 7060839 | K40: 7025556
A41: المجلس الأعلى للصحة | B41: 577001 | C41: 1753412 | D41: 692 | E41: 4400 | F41: 4706 | G41: 0 | H41: 0 | I41: =SUM(B41:H41) -> 2340211 | J41: 2340212 | K41: 1904029
A42: الجهاز الإداري للنيابة العامة | B42: 2932074 | C42: 802550 | D42: 50021 | E42: 35756 | F42: 74309 | G42: 0 | H42: 0 | I42: =SUM(B42:H42) -> 3894710 | J42: 3894710 | K42: 3995030
A43: هيئة جودة التعليم والتدريب | B43: 2600973 | C43: 759583 | D43: 9441 | E43: 10077 | F43: 12169 | G43: 0 | H43: 0 | I43: =SUM(B43:H43) -> 3392243 | J43: 3392243 | K43: 3523441
A44: جهاز الخدمة المدنية | B44: 5012695 | C44: 573457 | D44: 3991 | E44: 1876 | F44: 11579 | G44: 0 | H44: 0 | I44: =SUM(B44:H44) -> 5603598 | J44: 5603599 | K44: 5595648
A45: هيئة المعلومات والحكومة الإلكترونية | B45: 7886805 | C45: 3417646 | D45: 2580883 | E45: 29818 | F45: 176172 | G45: 0 | H45: 0 | I45: =SUM(B45:H45) -> 14091324 | J45: 14091324 | K45: 13639123
... A59: الهيئة العامة للرياضة | B59: 1730884 | C59: 2487197 | D59: 193497 | E59: 8464 | F59: 729732 | G59: 7591540 | H59: 10715147 | I59: =SUM(B59:H59) -> 23456461 | J59: 23456462 | K59: 13593925
A60: المجموع | B60: =SUM(B4:B59) -> 1377932661 | C60: =SUM(C4:C59) -> 250179667 | D60: =SUM(D4:D59) -> 55141382 | E60: =SUM(E4:E59) -> 13330175 | F60: =SUM(F4:F59) -> 38481640 | G60: =SUM(G4:G59) -> 626613466 | H60: =SUM(H4:H59) -> 1399598456 | I60: =SUM(I4:I59) -> 3761277447 | ... K60: =SUM(K4:K59) -> 3692680203

Sheet تفصيل المصروفات
A1: 8- المصروفات المتكررة مصنفة حسب الأبواب والأقسام والبنود
F2: (دينار بحريني)
A3: التبويــب | E3: البيـــان | F3: 2024 | I3: 2023 الفعلي
A4: بند | B4: قسم | C4: باب | D4: نوع | F4: الاعتماد | G4: الفعلي | H4: الفرق
C5: 1 | D5: 6 | E5: نفقات القوى العاملة | F5: =F6+F46+F74+F87+F89+F96+F106+F118 -> 1347721063 | G5: =G6+G46+G74+G87+G89+G96+G106+G118 -> 1377932661 | H5: =H6+H46+H74+H87+H89+H96+H106+H118 -> -30211598 | I5: =I6+I46+I74+I87+I89+I96+I106+I118 -> 1403849201
B6: 1 | C6: 1 | D6: 6 | E6: وظائف البحرينيين | F6: =SUM(F7:F45) -> 987277091 | G6: =SUM(G7:G45) -> 1012648092 | H6: =F6-G6 -> -25371001 | I6: =SUM(I7:I45) -> 996455754
A7: 60011 | B7: 1 | C7: 1 | D7: 6 | E7: الرواتب الأساسية | F7: 764306828 | G7: 796603168 | H7: =F7-G7 -> -32296340 | I7: 789082092
A8: 60021 | B8: 1 | C8: 1 | D8: 6 | E8: العمل الإضافي | F8: 4131662 | G8: 3647925 | H8: =F8-G8 -> 483737 | I8: 4003155
A9: 61011 | B9: 1 | C9: 1 | D9: 6 | E9: العلاوة الاجتماعية | F9: 46032175 | G9: 45959884 | H9: =F9-G9 -> 72291 | I9: 45047562
A10: 61012 | B10: 1 | C10: 1 | D10: 6 | E10: علاوة تحسين مستوى معيشي | F10: 86736488 | G10: 78949053 | H10: =F10-G10 -> 7787435 | I10: 74245490
A11: 61013 | B11: 1 | C11: 1 | D11: 6 | E11: علاوة السيارة | F11: 5316504 | G11: 5899708 | H11: =F11-G11 -> -583204 | I11: 5238267
A12: 61014 | B12: 1 | C12: 1 | D12: 6 | E12: مكافأة الموظف المثالي | F12: 53037 | G12: 31000 | H12: =F12-G12 -> 22037 | I12: 19450
A13: 61015 | B13: 1 | C13: 1 | D13: 6 | E13: علاوة القضاء | F13: 2568000 | G13: 3319675 | H13: =F13-G13 -> -751675 | I13: 3027090
A14: 61016 | B14: 1 | C14: 1 | D14: 6 | E14: بدل ندب | F14: 734480 | G14: 502274 | H14: =F14-G14 -> 232206 | I14: 518395
A15: 61017 | B15: 1 | C15: 1 | D15: 6 | E15: بدلات أخرى | F15: 346909 | G15: 146526 | H15: =F15-G15 -> 200383 | I15: 248170
A16: 61019 | B16: 1 | C16: 1 | D16: 6 | E16: مكافأة الاقتراحات | F16: 4300 | G16: 1900 | H16: =F16-G16 -> 2400 | I16: 3700
A17: 61021 | B17: 1 | C17: 1 | D17: 6 | E17: علاوة الانتقال | F17: 19743672 | G17: 19754598 | H17: =F17-G17 -> -10926 | I17: 19506996
A18: 61022 | B18: 1 | C18: 1 | D18: 6 | E18: علاوة الاتصال | F18: 4709527 | G18: 4776226 | H18: =F18-G18 -> -66699 | I18: 4470436
... A45: 75031 | B45: 1 | C45: 1 | D45: 6 | E45: توفير الزي الملائم | F45: 0 | G45: 3226 | H45: =F45-G45 -> -3226 | I45: 0
B46: 2 | C46: 1 | D46: 6 | E46: وظائف غير البحرينيين | F46: =SUM(F47:F55)+SUM(F64:F73)+SUM(F60:F63) -> 155936598 | G46: =SUM(G47:G64)+SUM(G65:G73) -> 154423519 | H46: =F46-G46 -> 1513079 | I46: =SUM(I47:I63)+SUM(I64:I73) -> 158260827
A47: 60011 | B47: 2 | C47: 1 | D47: 6 | E47: الرواتب الأساسية | F47: 106339050 | G47: 105095412 | H47: =F47-G47 -> 1243638 | I47: 107375743
A48: 60021 | B48: 2 | C48: 1 | D48: 6 | E48: العمل الإضافي | F48: 330884 | G48: 602744 | H48: =F48-G48 -> -271860 | I48: 640574
A49: 61011 | B49: 2 | C49: 1 | D49: 6 | E49: العلاوة الاجتماعية | F49: 5537187 | G49: 5371211 | H49: =F49-G49 -> 165976 | I49: 5440105
A50: 61012 | B50: 2 | C50: 1 | D50: 6 | E50: علاوة تحسين مستوى معيشي | F50: 226572 | G50: 185807 | H50: =F50-G50 -> 40765 | I50: 155125
A51: 61013 | B51: 2 | C51: 1 | D51: 6 | E51: علاوة السيارة | F51: 215141 | G51: 244445 | H51: =F51-G51 -> -29304 | I51: 194974
A52: 61015 | B52: 2 | C52: 1 | D52: 6 | E52: علاوة القضاء | F52: 412000 | G52: 412032 | H52: =F52-G52 -> -32 | I52: 406748
A53: 61016 | B53: 2 | C53: 1 | D53: 6 | E53: بدل ندب | F53: 42268 | G53: 34405 | H53: =F53-G53 -> 7863 | I53: 29663
A54: 61017 | B54: 2 | C54: 1 | D54: 6 | E54: بدلات أخرى | F54: 442234 | G54: 314950 | H54: =F54-G54 -> 127284 | I54: 79928
A55: 61021 | B55: 2 | C55: 1 | D55: 6 | E55: علاوة الانتقال | F55: 2840828 | G55: 2750941 | H55: =F55-G55 -> 89887 | I55: 2784127
A56: 8- المصروفات المتكررة مصنفة حسب الأبواب والأقسام والبنود (تتمة)
F57: (دينار بحريني)
A58: التبويــب | E58: البيـــان | F58: 2024 | I58: 2023 الفعلي
A59: بند | B59: قسم | C59: باب | D59: نوع | F59: الاعتماد | G59: الفعلي | H59: الفرق
A60: 61022 | B60: 2 | C60: 1 | D60: 6 | E60: علاوة الاتصال | F60: 174851 | G60: 193635 | H60: =F60-G60 -> -18784 | I60: 168710
A61: 61025 | B61: 2 | C61: 1 | D61: 6 | E61: بدل طبيعة العمل | F61: 1662026 | G61: 1568119 | H61: =F61-G61 -> 93907 | I61: 1567898
A62: 61026 | B62: 2 | C62: 1 | D62: 6 | E62: علاوة خطر | F62: 172000 | G62: 169460 | H62: =F62-G62 -> 2540 | I62: 172117
A63: 61031 | B63: 2 | C63: 1 | D63: 6 | E63: علاوات شخصية أخرى | F63: 8846032 | G63: 10006071 | H63: =F63-G63 -> -1160039 | I63: 9535103
A64: 61035 | B64: 2 | C64: 1 | D64: 6 | E64: بدل مناوبة للأطباء الاستشاريين | F64: 0 | G64: 0 | H64: =F64-G64 -> 0 | I64: 205
A65: 61041 | B65: 2 | C65: 1 | D65: 6 | E65: بدل اغتراب | F65: 0 | G65: 22215 | H65: =F65-G65 -> -22215 | I65: 288741
A66: 61042 | B66: 2 | C66: 1 | D66: 6 | E66: توظيف وإجازة وإنهاء عقود الموظفين | F66: 8053728 | G66: 7987490 | H66: =F66-G66 -> 66238 | I66: 7950740
A67: 61043 | B67: 2 | C67: 1 | D67: 6 | E67: تكاليف سكن | F67: 14910533 | G67: 14419429 | H67: =F67-G67 -> 491104 | I67: 16072561
A68: 61064 | B68: 2 | C68: 1 | D68: 6 | E68: علاوة تعليم أو تأهيل أو رعاية الأشخاص ذوي الإعاقة | F68: 20000 | G68: 45827 | H68: =F68-G68 -> -25827 | I68: 19569
A69: 61067 | B69: 2 | C69: 1 | D69: 6 | E69: رسوم دراسة | F69: 10834 | G69: 11714 | H69: =F69-G69 -> -880 | I69: 6298
A70: 61068 | B70: 2 | C70: 1 | D70: 6 | E70: مكافئة سنوية | F70: 1515264 | G70: 1480075 | H70: =F70-G70 -> 35189 | I70: 1551601
A71: 61991 | B71: 2 | C71: 1 | D71: 6 | E71: علاوات وتكاليف أخرى | F71: 2565187 | G71: 2139558 | H71: =F71-G71 -> 425629 | I71: 2199458
... A73: 68033 | B73: 2 | C73: 1 | D73: 6 | E73: رسوم هيئة تنظيم سوق العمل | F73: 1301329 | G73: 1068586 | H73: =F73-G73 -> 232743 | I73: 1358565
B74: 3 | C74: 1 | D74: 6 | E74: الوظائف المؤقتة للبحرينيين | F74: =SUM(F75:F86) -> 4937765 | G74: =SUM(G75:G86) -> 4291905 | H74: =F74-G74 -> 645860 | I74: =SUM(I75:I86) -> 4271212
A75: 60011 | B75: 3 | C75: 1 | D75: 6 | E75: الرواتب الأساسية | F75: 4906774 | G75: 4272753 | H75: =F75-G75 -> 634021 | I75: 4245829
A76: 60021 | B76: 3 | C76: 1 | D76: 6 | E76: العمل الإضافي | F76: 1375 | G76: 186 | H76: =F76-G76 -> 1189 | I76: 2441
A77: 61011 | B77: 3 | C77: 1 | D77: 6 | E77: العلاوة الاجتماعية | F77: 13167 | G77: 5172 | H77: =F77-G77 -> 7995 | I77: 14523
A78: 61012 | B78: 3 | C78: 1 | D78: 6 | E78: علاوة تحسين مستوى معيشي | F78: 4451 | G78: 7469 | H78: =F78-G78 -> -3018 | I78: 0
A79: 61013 | B79: 3 | C79: 1 | D79: 6 | E79: علاوة السيارة | F79: 240 | G79: 0 | H79: =F79-G79 -> 240 | I79: 0
A80: 61021 | B80: 3 | C80: 1 | D80: 6 | E80: علاوة الانتقال | F80: 9954 | G80: 2327 | H80: =F80-G80 -> 7627 | I80: 7119
A81: 61022 | B81: 3 | C81: 1 | D81: 6 | E81: علاوة الاتصال | F81: 300 | G81: 300 | H81: =F81-G81 -> 0 | I81: 300
A82: 61025 | B82: 3 | C82: 1 | D82: 6 | E82: بدل طبيعة العمل | F82: 0 | G82: 2240 | H82: =F82-G82 -> -2240 | I82: 0
A83: 61031 | B83: 3 | C83: 1 | D83: 6 | E83: علاوات شخصية أخرى | F83: 504 | G83: 22 | H83: =F83-G83 -> 482 | I83: 0
A84: 61078 | B84: 3 | C84: 1 | D84: 6 | E84: علاوة الملابس | F84: 0 | G84: 144 | H84: =F84-G84 -> -144 | I84: 0
A85: 61991 | B85: 3 | C85: 1 | D85: 6 | E85: علاوات وتكاليف أخرى | F85: 1000 | G85: 1200 | H85: =F85-G85 -> -200 | I85: 1000
A86: 75031 | B86: 3 | C86: 1 | D86: 6 | E86: توفير الزي الملائم | F86: 0 | G86: 92 | H86: =F86-G86 -> -92 | I86: 0
B87: 4 | C87: 1 | D87: 6 | E87: الوظائف المؤقتة لغير البحرينيين | F87: =SUM(F88:F88) -> 72000 | G87: =SUM(G88:G88) -> 71532 | H87: =F87-G87 -> 468 | I87: =SUM(I88:I88) -> 71127
A88: 60011 | B88: 4 | C88: 1 | D88: 6 | E88: الرواتب الأساسية | F88: 72000 | G88: 71532 | H88: =F88-G88 -> 468 | I88: 71127
B89: 5 | C89: 1 | D89: 6 | E89: تدريب الموظفين داخل البحرين | F89: =SUM(F90:F95) -> 4402087 | G89: =SUM(G90:G95) -> 3545119 | H89: =F89-G89 -> 856968 | I89: =SUM(I90:I95) -> 4836194
A90: 62011 | B90: 5 | C90: 1 | D90: 6 | E90: مصاريف الدوارت التدريبية | F90: 0 | G90: 0 | H90: =F90-G90 -> 0 | I90: 5539
A91: 62015 | B91: 5 | C91: 1 | D91: 6 | E91: تكاليف المشاركة في البرامج والمؤتمرات والندوات التدريبية الإدارية | F91: 539234 | G91: 461883 | H91: =F91-G91 -> 77351 | I91: 360257
A92: 62016 | B92: 5 | C92: 1 | D92: 6 | E92: تكاليف المشاركة في البرامج والمؤتمرات والندوات التدريبية الأكاديمية | F92: 3413231 | G92: 2939725 | H92: =F92-G92 -> 473506 | I92: 4099702
A93: 62017 | B93: 5 | C93: 1 | D93: 6 | E93: تكاليف المشاركة في البرامج والمؤتمرات والندوات التدريبية المهنية التخصصية | F93: 435161 | G93: 104023 | H93: =F93-G93 -> 331138 | I93: 333191
A94: 62018 | B94: 5 | C94: 1 | D94: 6 | E94: تكاليف المشاركة في البرامج والمؤتمرات والندوات التدريبية لتقنية المعلومات | F94: 14461 | G94: 13613 | H94: =F94-G94 -> 848 | I94: 8585
A95: 62024 | B95: 5 | C95: 1 | D95: 6 | E95: مستلزمات أكاديمية | F95: 0 | G95: 25875 | H95: =F95-G95 -> -25875 | I95: 28920
B96: 6 | C96: 1 | D96: 6 | E96: تدريب الموظفين خارج البحرين | F96: =SUM(F97:F105) -> 15834477 | G96: =SUM(G97:G105) -> 26673243 | H96: =F96-G96 -> -10838766 | I96: =SUM(I97:I105) -> 33768449
A97: 62015 | B97: 6 | C97: 1 | D97: 6 | E97: تكاليف المشاركة في البرامج والمؤتمرات والندوات التدريبية الإدارية | F97: 2333317 | G97: 2761447 | H97: =F97-G97 -> -428130 | I97: 5203041
A98: 62016 | B98: 6 | C98: 1 | D98: 6 | E98: تكاليف المشاركة في البرامج والمؤتمرات والندوات التدريبية الأكاديمية | F98: 7918743 | G98: 19114012 | H98: =F98-G98 -> -11195269 | I98: 21050191
A99: 62017 | B99: 6 | C99: 1 | D99: 6 | E99: تكاليف المشاركة في البرامج والمؤتمرات والندوات التدريبية المهنية التخصصية | F99: 404830 | G99: 514935 | H99: =F99-G99 -> -110105 | I99: 418197
A100: 62018 | B100: 6 | C100: 1 | D100: 6 | E100: تكاليف المشاركة في البرامج والمؤتمرات والندوات التدريبية لتقنية المعلومات | F100: 80 | G100: 0 | H100: =F100-G100 -> 80 | I100: 0
A101: 62024 | B101: 6 | C101: 1 | D101: 6 | E101: مستلزمات الأكاديمية | F101: 0 | G101: 203181 | H101: =F101-G101 -> -203181 | I101: 127921
A102: 62035 | B102: 6 | C102: 1 | D102: 6 | E102: المصروفات والعلاوات المتعلقة بالسفر في مجال التدريب الإداري | F102: 158340 | G102: 242699 | H102: =F102-G102 -> -84359 | I102: 469879
A103: 62036 | B103: 6 | C103: 1 | D103: 6 | E103: المصروفات والعلاوات المتعلقة بالسفر في مجال التدريب الأكاديمي | F103: 4593505 | G103: 3477963 | H103: =F103-G103 -> 1115542 | I103: 6057973
A104: 62037 | B104: 6 | C104: 1 | D104: 6 | E104: المصروفات والعلاوات المتعلقة بالسفر في مجال التدريب المهني التخصصي | F104: 424822 | G104: 359006 | H104: =F104-G104 -> 65816 | I104: 441247
A105: 62038 | B105: 6 | C105: 1 | D105: 6 | E105: المصروفات والعلاوات المتعلقة بالسفر في مجال برامج تقنية المعلومات | F105: 840 | G105: 0 | H105: =F105-G105 -> 840 | I105: 0
B106: 7 | C106: 1 | D106: 6 | E106: الفوائد النقدية والعينية للموظفين | F106: =SUM(F107:F117) -> 177466029 | G106: =SUM(G107:G117) -> 174301790 | H106: =F106-G106 -> 3164239 | I106: =SUM(I107:I117) -> 204427005
A107: 61018 | B107: 7 | C107: 1 | D107: 6 | E107: مكافأة نهاية الخدمة الحكومية | F107: 2031336 | G107: 214289 | H107: =F107-G107 -> 1817047 | I107: 1566098
A108: 63011 | B108: 7 | C108: 1 | D108: 6 | E108: حصة الحكومة في نظام التقاعد المدني | F108: 72156700 | G108: 79115018 | H108: =F108-G108 -> -6958318 | I108: 76704077
A109: 63012 | B109: 7 | C109: 1 | D109: 6 | E109: نظام التقاعد للعسكريين البحرينيين | F109: 74094828 | G109: 66037625 | H109: =F109-G109 -> 8057203 | I109: 77451341
A110: 63013 | B110: 7 | C110: 1 | D110: 6 | E110: نظام المكافآت للعسكريين غير البحرينيين | F110: 7580832 | G110: 7509063 | H110: =F110-G110 -> 71769 | I110: 7430638
A111: 63014 | B111: 7 | C111: 1 | D111: 6 | E111: حصة الحكومة في نظام التأمين ضد التعطل | F111: 6077662 | G111: 6343394 | H111: =F111-G111 -> -265732 | I111: 6242405
A112: 63015 | B112: 7 | C112: 1 | D112: 6 | E112: مكافأة شراء مدة الخدمة الافتراضية | F112: 1015568 | G112: 1092786 | H112: =F112-G112 -> -77218 | I112: 8277714
A113: 63016 | B113: 7 | C113: 1 | D113: 6 | E113: اشتراكات إصابات العمل للموظفين غير البحرينيين | F113: 676544 | G113: 5865 | H113: =F113-G113 -> 670679 | I113: 6823
A114: 63017 | B114: 7 | C114: 1 | D114: 6 | E114: تعويض الخدمة المضافة للموظف | F114: 954457 | G114: 1231423 | H114: =F114-G114 -> -276966 | I114: 10445937
A115: 63019 | B115: 7 | C115: 1 | D115: 6 | E115: المصروفات المتعلقة بتجهيز أعضاء السلك الدبلوماسي والمبتعثين في الخارج | F115: 148000 | G115: 122000 | H115: =F115-G115 -> 26000 | I115: 74000
A116: 75031 | B116: 7 | C116: 1 | D116: 6 | E116: توفير الزي الملائم | F116: 3237930 | G116: 4170676 | H116: =F116-G116 -> -932746 | I116: 3700462
A117: 75033 | B117: 7 | C117: 1 | D117: 6 | E117: أغذية للموظفين | F117: 9492172 | G117: 8459651 | H117: =F117-G117 -> 1032521 | I117: 12527510
B118: 8 | C118: 1 | D118: 6 | E118: توريد الأيدي العاملة والعمل الجزئي | F118: =SUM(F119:F120) -> 1795016 | G118: =SUM(G119:G120) -> 1977461 | H118: =F118-G118 -> -182445 | I118: =SUM(I119:I120) -> 1758633
A119: 65041 | B119: 8 | C119: 1 | D119: 6 | E119: توريد الأيدي العاملة | F119: 0 | G119: 65961 | H119: =F119-G119 -> -65961 | I119: 1750
A120: 65042 | B120: 8 | C120: 1 | D120: 6 | E120: العمل الجزئي | F120: 1795016 | G120: 1911500 | H120: =F120-G120 -> -116484 | I120: 1756883
C121: 2 | D121: 6 | E121: نفقات الخدمات | F121: =F122+F141+F175+F188+F202+F216+F228 -> 232444938 | G121: =G122+G141+G175+G188+G202+G216+G228 -> 250179667 | H121: =F121-G121 -> -17734729 | I121: =I122+I141+I175+I188+I202+I216+I228 -> 237556132
B122: 1 | C122: 2 | D122: 6 | E122: نفقات تنظيم المؤتمرات والمهمات الرسمية والمعارض والدورات | F122: =SUM(F123:F140) -> 17056394 | G122: =SUM(G123:G140) -> 22330223 | H122: =F122-G122 -> -5273829 | I122: =SUM(I123:I140) -> 19963020
A123: 62021 | B123: 1 | C123: 2 | D123: 6 | E123: مؤتمرات داخل البحرين | F123: 1097045 | G123: 1005993 | H123: =F123-G123 -> 91052 | I123: 718349
A124: 62022 | B124: 1 | C124: 2 | D124: 6 | E124: نفقات المهمات والمؤتمرات الرسمية خارج البحرين | F124: 6925627 | G124: 10529279 | H124: =F124-G124 -> -3603652 | I124: 8833217
A125: 62031 | B125: 1 | C125: 2 | D125: 6 | E125: نفقات تنظيم المعارض داخل البحرين | F125: 26135 | G125: 84508 | H125: =F125-G125 -> -58373 | I125: 36038
A126: 62032 | B126: 1 | C126: 2 | D126: 6 | E126: نفقات المشاركة في المعارض خارج البحرين | F126: 108736 | G126: 115679 | H126: =F126-G126 -> -6943 | I126: 105449
A127: 62033 | B127: 1 | C127: 2 | D127: 6 | E127: نفقات تنظيم الفعاليات والاحتفالات داخل البحرين | F127: 871127 | G127: 867356 | H127: =F127-G127 -> 3771 | I127: 567162
...

Sheet مصروفات الميزانية التحويلية
A1: 9- مصروفات الميزانيات التحويلية
E2: (دينار بحريني)
A3: البيان | B3: 2024 | E3: الفعلي 2023
B4: الاعتماد | C4: الفعلي | D4: نسبة الصرف %
A5: الجهات ذات الميزانيات الملحقة والمستقلة | B5: 349313232 | C5: 395537804 | D5: =C5/B5*100 -> 113.23299 | E5: 393044826
A6: المساهمات في المنظمات الإقليمية والدولية | B6: 14580000 | C6: 13790774 | D6: =C6/B6*100 -> 94.586927 | E6: 13305216
A7: دعم الأسر محدودة الدخل | B7: 128000000 | C7: 132490003 | D7: =C7/B7*100 -> 103.50781 | E7: 141787974
A8: إعانة المواد الغذائية | B8: 35904000 | C8: 43948927 | D8: =C8/B8*100 -> 122.40677 | E8: 48677744
A9: الالتزامات ومبالغ الدعم لأنظمة التقاعد | B9: 21000000 | C9: 20732761 | D9: =C9/B9*100 -> 98.727433 | E9: 20562088
A10: حصة ومساهمة الحكومة في أنظمة التقاعد | B10: 0 | C10: 0 | D10: - | E10: 678885
A11: حصة الحكومة في التأمين ضد التعطل | B11: 21000000 | C11: 22386119 | D11: =C11/B11*100 -> 106.60057 | E11: 22093086
A12: صندوق الضمان الاجتماعي | B12: 21500000 | C12: 23929590 | D12: =C12/B12*100 -> 111.30042 | E12: 23785116
A13: علاوة تحسين مستوى المعيشة للمتقاعدين | B13: 177500000 | C13: 237506799 | D13: =C13/B13*100 -> 133.80665 | E13: 228894107
A14: دعم برامج الإسكان (علاوة الإيجار- تخفيض الأقساط) | B14: 61000000 | C14: 58510526 | D14: =C14/B14*100 -> 95.918895 | E14: 58617762
A15: مساعدات حكومية | B15: 900000 | C15: 420499 | D15: =C15/B15*100 -> 46.722111 | E15: 672637
A16: فوائد الدين الحكومي | B16: 788000000 | C16: 945240897 | D16: =C16/B16*100 -> 119.95443 | E16: 834976341
A17: إلتزامات متنوعة، ومبالغ محجوزة أو مدورة أو طارئة | B17: 33400281 | C17: 79996475 | D17: =C17/B17*100 -> 239.50839 | E17: 79489114
A18: المجموع | B18: =SUM(B5:B17) -> 1652097513 | C18: =SUM(C5:C17) -> 1974491174 | D18: =C18/B18*100 -> 119.5142 | E18: =SUM(E5:E17) -> 1866584896

Sheet مشاريع 
A1: 10- مصروفات المشاريع مصنفة حسب الوزارات والجهات الحكومية
E2: (دينار بحريني)
A3: الوزارة أو الجهة الحكومية | B3: 2024 | E3: الفعلي 2023
B4: الاعتماد | C4: الفعلي | D4: نسبة الصرف %
A5: مكتب رئيس مجلس الوزراء | B5: 6100000 | C5: 6100000 | D5: =C5/B5*100 -> 100 | E5: 6100000 | G5: 11
A6: وزارة الدفاع (إيضاح رقم 11) | B6: 998951 | C6: 995966 | D6: =C6/B6*100 -> 99.701187 | E6: 3850 | G6: 12
A7: وزارة الداخلية | B7: 13606612 | C7: 13606612 | D7: =C7/B7*100 -> 100 | E7: 13115373 | G7: 13 | H7: 21997018
A8: هيئة التشريع والرأي القانوني | B8: 3997 | C8: 3997 | D8: =C8/B8*100 -> 100 | E8: 0
A9: وزارة الخارجية | B9: 1000000 | C9: 937760 | D9: =C9/B9*100 -> 93.776 | E9: 986797 | G9: 16 | H9: 5671647
A10: وزارة العدل والشئون الإسلامية والأوقاف | B10: 400000 | C10: 91463 | D10: =C10/B10*100 -> 22.86575 | E10: 31151
A11: وزارة التربية والتعليم | B11: 14203314 | C11: 14203314 | D11: =C11/B11*100 -> 100 | E11: 13727673 | G11: 21 | H11: 5271730
A12: وزارة الصحة | B12: 183727 | C12: 183727 | D12: =C12/B12*100 -> 100 | E12: 594140 | G12: 22 | H12: 10487893
A13: وزارة شئون البلديات والزراعة | B13: 4230347 | C13: 4230347 | D13: =C13/B13*100 -> 100 | E13: 2919359 | G13: 23 | H13: 11601891
A14: وزارة العمل | B14: 50000 | C14: 24804 | D14: =C14/B14*100 -> 49.608 | E14: 0
A15: وزارة شئون الشباب | B15: 702933 | C15: 163976 | D15: =C15/B15*100 -> 23.327401 | E15: 350343 | G15: 26 | H15: 5298704
A16: نادي راشد للفروسية وسباق الخيل | B16: 8720723 | C16: 8720723 | D16: =C16/B16*100 -> 100 | E16: 2041392 | G16: 28 | H16: 21478
A17: وزارة التنمية الاجتماعية | B17: 100000 | C17: 11669 | D17: =C17/B17*100 -> 11.669 | E17: 29352
A18: وزارة الصناعة والتجارة | B18: 2074702 | C18: 2074702 | D18: =C18/B18*100 -> 100 | E18: 5189473 | G18: 34 | H18: 4603811
A19: وزارة الإسكان والتخطيط العمراني - قطاع الإسكان | B19: 90000000 | C19: 72276825 | D19: =C19/B19*100 -> 80.307583 | E19: 89820446 | G19: 36 | H19: 143004455
A20: وزارة شئون الكهرباء والماء | B20: 3492449 | C20: 3492449 | D20: =C20/B20*100 -> 100 | E20: 4225076
A21: المجلس الأعلى للبيئة | B21: 689568 | C21: 544550 | D21: =C21/B21*100 -> 78.969732 | E21: 309322 | G21: 41 | H21: 195681
A22: وزارة الأشغال | B22: 69907114 | C22: 84235759 | D22: =C22/B22*100 -> 120.49669 | E22: 69707589 | G22: 46 | H22: 62029663
A23: وزارة المواصلات والاتصالات | B23: 4539251 | C23: 4539251 | D23: =C23/B23*100 -> 100 | E23: 6930507 | G23: 48 | H23: 3708048
A24: الحرس الوطني | B24: 1645183 | C24: 1645183 | D24: =C24/B24*100 -> 100 | E24: 617863 | G24: 50 | H24: 4070533
A25: وزارة النفط والبيئة | B25: 0 | C25: 0 | D25: 0 | E25: 82221 | G25: 55 | H25: 6348337
A26: مكتب رئيس مجلس الوزراء - مركز الاتصال الوطني | B26: 300 | C26: 300 | D26: =C26/B26*100 -> 100 | E26: 11743
A27: مجلـس المناقصات والمزايدات | B27: 15576 | C27: 15576 | D27: =C27/B27*100 -> 100 | E27: 3729 | G27: 60 | H27: 93671803
A28: الميزانيات التحويلية (إيضاح رقم 2) | B28: 45990771 | C28: 44492101 | D28: =C28/B28*100 -> 96.741368 | E28: 33111782 | G28: 66 | H28: 6609206
A29: وزارة الإعلام | B29: 4000000 | C29: 2348662 | D29: =C29/B29*100 -> 58.71655 | E29: 1690689
A30: هيئة البحرين للثقافة والآثار | B30: 7112516 | C30: 7112516 | D30: =C30/B30*100 -> 100 | E30: 5660716 | G30: 70 | H30: 3000000
A31: المجلس الأعلى للصحة | B31: 785904 | C31: 785904 | D31: =C31/B31*100 -> 100 | E31: 626396 | G31: 72 | H31: 175796
A32: الجهاز الإداري للنيابة العامة | B32: 454027 | C32: 454027 | D32: =C32/B32*100 -> 100 | E32: 372391
A33: جهاز الخدمة المدنية | B33: 50000 | C33: 29898 | D33: =C33/B33*100 -> 59.796 | E33: 135500 | G33: 76 | H33: 105607
A34: هيئة المعلومات والحكومة الإلكترونية | B34: 3728426 | C34: 3728426 | D34: =C34/B34*100 -> 100 | E34: 5536498 | G34: 77 | H34: 1063630
A35: الأمانة العامة للمجلس الأعلى للشباب والرياضة | B35: 2346855 | C35: 2346855 | D35: =C35/B35*100 -> 100 | E35: 8218175
A36: المجلس الأعلى للقضاء | B36: 104043 | C36: 104043 | D36: =C36/B36*100 -> 100 | E36: 69749 | G36: 78 | H36: 434961
A37: جهاز المساحة والتسجيل العقاري | B37: 600000 | C37: 481219 | D37: =C37/B37*100 -> 80.203167 | E37: 490670 | G37: 83 | H37: 1138004
A38: وزارة المالية والاقتصاد الوطني | B38: 1000000 | C38: 998516 | D38: =C38/B38*100 -> 99.8516 | E38: 1070239 | G38: 88 | H38: 15923320
A39: شئون الجمارك | B39: 1023933 | C39: 1023933 | D39: =C39/B39*100 -> 100 | E39: 69643
A40: وزارة الإسكان والتخطيط العمراني - هيئة التخطيط والتطوير العمراني | B40: 1458900 | C40: 1458900 | D40: =C40/B40*100 -> 100 | E40: 1230089
A41: المجلس الأعلى للشئون الإسلامية | B41: 300000 | C41: 196891 | D41: =C41/B41*100 -> 65.630333 | E41: 210913
A42: الهيئة الوطنية لتنظيم المهن والخدمات الصحية | B42: 327785 | C42: 327785 | D42: =C42/B42*100 -> 100 | E42: 0
A43: الجهاز الوطني للإيرادات | B43: 4512021 | C43: 4512021 | D43: =C43/B43*100 -> 100 | E43: 1238692
A44: وكالة البحرين للفضاء | B44: 100000 | C44: 51289 | D44: =C44/B44*100 -> 51.289 | E44: 145283
A45: الهيئة العامة للرياضة | B45: 2440072 | C45: =2440072+1 -> 2440073 | D45: =C45/B45*100 -> 100.00004 | E45: 548447
A46: المجموع | B46: =SUM(B5:B45) -> 299000000 | C46: =SUM(C5:C45) -> 290992012 | D46: =C46/B46*100 -> 97.321743 | E46: =SUM(E5:E45) -> 277223271

Sheet ملحقات
A1: ملحقات
A2: الحساب الختامي الموحد للدولة
A3: للسنة المالية المنتهية في 31 ديسمبر 2024

Sheet المقبوضات والمدفوعات
A1: 1- كشف المقبوضات والمدفوعات
D2: (دينار بحريني)
A3: البيان | C3: 2024 | D3: 2023
A4: التدفقات النقدية من الأنشطة التشغيلية
A5: المقبوضات
A6: النفط والغاز الطبيعي | C6: 1775553267 | D6: 1961041579
A7: الإيرادات والرسوم | C7: 811837383 | D7: 797102714
A8: المنتجات الخدمية والسلعية الحكومية | C8: 44256728 | D8: 51397592
A9: الغرامات والجزاءات والإيرادات المتنوعة | C9: 25127045 | D9: 33791070
A10: إجمالي المقبوضات التشغيلية | C10: =SUM(C6:C9) -> 2656774423 | D10: =SUM(D6:D9) -> 2843332955
A11: المدفوعات
A12: القوى العاملة | C12: -1337346315 | D12: -1332093625
A13: الخدمات | C13: -246231651 | D13: -241352270
A14: السلع الاستهلاكية | C14: -52959107 | D14: -74308681
A15: الصيانة | C15: -38274062 | D15: -35270214
A16: النفقات التحويلية | C16: -544345187 | D16: -508890374
A17: الإعانات وتسديد فوائد القروض | C17: -1375792252 | D17: -1292028699
A18: مدفوعات مقدمة وتسديد ذمم دائنة | C18: -161331819 | D18: -68121996
A19: مشتريات المخزون | C19: -81605319 | D19: -64884741
A20: إجمالي المدفوعات التشغيلية | C20: =SUM(C12:C19) -> -3837885712 | D20: =SUM(D12:D19) -> -3616950600
A21: صافي التدفقات النقدية من الأنشطة التشغيلية | C21: =C10+C20 -> -1181111289 | D21: =D10+D20 -> -773617645
A22: التدفقات النقدية من الأنشطة الاستثمارية
A23: مدفوعات المشاريع | C23: -309114058 | D23: -310330616
A24: مدفوعات السلع الرأسمالية | C24: -12025171 | D24: -13296285
A25: عوائد الاستثمارات والأملاك الحكومية | C25: 162839125 | D25: 106970584
A26: إيرادات بيع الأصول الرأسمالية | C26: 559196 | D26: 679082
A27: صافي التدفقات النقدية من الأنشطة الاستثمارية | C27: =SUM(C23:C26) -> -157740908 | D27: =SUM(D23:D26) -> -215977235
A28: التدفقات النقدية من الأنشطة التمويلية
A29: القروض المستلمة | C29: 8073936707 | D29: 7957124564
A30: تسديد القروض | C30: -6628070806 | D30: -6798472465
A31: صافي التدفقات النقدية من الأنشطة التمويلية | C31: =SUM(C29:C30) -> 1445865901 | D31: =SUM(D29:D30) -> 1158652099
A32: صافي الزيادة في النقد | C32: =C21+C27+C31 -> 107013704 | D32: =D21+D27+D31 -> 169057219

Sheet المطلوبات المستحقة
A1: 2- المطلوبات المستحقة (الذمم الدائنة)
E2: (دينار بحريني)
A3: الباب | B3: البيــان | D3: 2024 | E3: 2023
A4: 1 | B4: القوى العاملة | D4: 875310 | E4: 2638104
A5: 2 | B5: الخدمات | D5: 17223294 | E5: 9134514
A6: 3 | B6: السلع الاستهلاكية | D6: 607139 | E6: 1422272
A7: 4 | B7: السلع الرأسمالية | D7: 256465 | E7: 392907
A8: 5 | B8: الصيانة | D8: 777519 | E8: 902848
A9: 6 | B9: النفقات التحويلية | D9: 6122741 | E9: 3160346
A10: 7 | B10: الإعانات وتسديد فوائد القروض | D10: 1059873 | E10: 5586507
A11: 8 | B11: المشاريع | D11: 44788434 | E11: 31030255
A12: - | B12: أخرى | D12: 30132233 | E12: 24613257
B13: المجموع | D13: =SUM(D4:D12) -> 101843008 | E13: =SUM(E4:E12) -> 78881010
A15: المطلوبات المستحقة:
A16: هي مبالغ الفواتير المستحقة غير المدفوعة على الوزارات والجهات الحكومية حتى نهاية السنة المالية.

Sheet المصروفات المستحقة
A1: 3- المصروفات المستحقة
E2: (دينار بحريني)
A3: الباب | B3: البيــان | D3: 2024 | E3: 2023
A4: 1 | B4: القوى العاملة | D4: 1791114 | E4: 4138912
A5: 2 | B5: الخدمات | D5: 20912518 | E5: 33936839
A6: 3 | B6: السلع الاستهلاكية | D6: 3133575 | E6: 7550753
A7: 4 | B7: السلع الرأسمالية | D7: 1038792 | E7: 909236
A8: 5 | B8: الصيانة | D8: 1528536 | E8: 2946022
A9: 6 | B9: النفقات التحويلية | D9: 15831051 | E9: 16802207
A10: 7 | B10: الإعانات وتسديد فوائد القروض | D10: 16665421 | E10: 17511938
A11: 8 | B11: المشاريع | D11: 61270307 | E11: 92083775
B12: المجموع | D12: =SUM(D4:D11) -> 122171314 | E12: =SUM(E4:E11) -> 175879682
A14: المصروفات المستحقة
A15: هي قيمة أوامر شراء السلع والخدمات المستلمة من قبل الجهات الحكومية خلال السنة المالية، ولم تسلم فواتيرها من قبل الموردين حتى نهاية السنة المالية.

Sheet الارتباطات
A1: 4- الارتباطات حسب الأبواب
D2: (دينار بحريني)
A3: الباب | B3: البيــان | C3: 2024 | D3: 2023
A4: 1 | B4: القوى العاملة | C4: 402298 | D4: 523722
A5: 2 | B5: الخدمات | C5: 2573941 | D5: 11012323
A6: 3 | B6: السلع الاستهلاكية | C6: 3275667 | D6: 1941089
A7: 4 | B7: السلع الرأسمالية | C7: 78583 | D7: 282385
A8: 5 | B8: الصيانة | C8: 487147 | D8: 565362
A9: 6 | B9: النفقات التحويلية | C9: 323138 | D9: 19509
A10: 7 | B10: الإعانات وتسديد فوائد القروض | C10: 166998 | D10: 1362041
A11: 8 | B11: المشاريع | C11: 21034579 | D11: 24422315
B12: المجموع | C12: =SUM(C4:C11) -> 28342351 | D12: =SUM(D4:D11) -> 40128746
A14: الارتباطات المالية:
A15: يقصد بها المبالغ المحجوزة من الميزانية لشراء سلع وخدمات صدر لأجلها أوامر شراء ولكن لم تُسلم من قبل المورد حتى نهاية السنة المالية.

Sheet التمويـل
A1: 5- القروض
E2: (آلاف الدنانير البحرينية)
A3: بيان القرض | B3: الرصيد في 2024/01/01 | C3: المبلغ المستلم | D3: المبلغ المدفوع | E3: الفرق بين المبلغ المستلم والمدفوع | F3: الرصيد في 2024/12/31
A4: أذونات الخزينة | B4: 2110000 | C4: 4420000 | D4: -4420000 | E4: =C4+D4 -> 0 | F4: =SUM(E4+B4) -> 2110000
A5: صكوك السلم الإسلامية | B5: 129000 | C5: 516000 | D5: -516000 | E5: =C5+D5 -> 0 | F5: =SUM(E5+B5) -> 129000
A6: صكوك التأجير الإسلامية | B6: 731000 | C6: 312000 | D6: -312000 | E6: =C6+D6 -> 0 | F6: =SUM(E6+B6) -> 731000
A7: سندات التنمية الحكومية المحلية | B7: 2520000 | C7: 620000 | D7: -620000 | E7: =C7+D7 -> 0 | F7: =SUM(E7+B7) -> 2520000
A8: مجموع القروض الداخلية | B8: =SUM(B4:B7) -> 5490000 | C8: =SUM(C4:C7) -> 5868000 | D8: =SUM(D4:D7) -> -5868000 | E8: =C8+D8 -> 0 | F8: =SUM(E8+B8) -> 5490000
A9: صكوك التأجير الإسلامية الدولية | B9: 3271200 | C9: 846000 | D9: -752000 | E9: =C9+D9 -> 94000 | F9: =SUM(E9+B9) -> 3365200
A10: سندات التنمية الحكومية الدولية | B10: 5875000 | C10: 376000 | D10: 0 | E10: =C10+D10 -> 376000 | F10: =SUM(E10+B10) -> 6251000
A11: قروض صناديق التنمية* | B11: 2688599 | C11: 44111 | D11: =-(7985+3665) -> -11650 | E11: =C11+D11 -> 32461 | F11: =SUM(E11+B11) -> 2721060
A12: تسهيلات مصرفية مشتركة | B12: 564000 | C12: 940000 | D12: 0 | E12: =C12+D12 -> 940000 | F12: =SUM(E12+B12) -> 1504000
A13: مجموع القروض الخارجية | B13: =SUM(B9:B12) -> 12398799 | C13: =SUM(C9:C12) -> 2206111 | D13: =SUM(D9:D12) -> -763650 | E13: =C13+D13 -> 1442461 | F13: =SUM(E13+B13) -> 13841260
A14: المجموع/ الرصيد | B14: =B13+B8 -> 17888799 | C14: =C13+C8 -> 8074111 | D14: =D13+D8 -> -6631650 | E14: =C14+D14 -> 1442461 | F14: =F13+F8 -> 19331260
A16: * تتضمن القروض المستلمة ضمن برنامج التوازن المالي لمملكة البحرين فيما عدا المبالغ المستلمة من دولة الكويت، والتي تم تصنيفها كودائع وليست قروض.

Sheet التسهيلات الإئتمانية 
A1: 6- التسهيلات الائتمانية
A2: (آلاف الدنانير البحرينية)
A3: البيـــان | C3: 2024 | D3: 2023
A4: تسهيلات غير مستخدمة في بداية السنة | C4: 0 | D4: 0
A5: تسهيلات اضافية | C5: 0 | D5: 0
A6: التسهيلات المتوفرة | C6: 125100 | D6: 125100
A7: المبلغ المستخدم | C7: -102402 | D7: -28567
A8: التسهيلات الملغية
A9: التسهيلات غير المستخدمة في نهاية السنة | C9: =SUM(C4:C7) -> 22698 | D9: =SUM(D4:D7) -> 96533
A13: جميع التسهيلات الائتمانية المذكورة أعلاه عبارة عن عملية تسوية توفيقية لضمان سرعة انسياب التحويلات النقدية بين الحسابات المصرفية الحكومية.
