Workbook
Name leer: '[1]تفصيل المصروفات (3)'!$A$2:$A$6
Name المصروفات_حسب_الأبواب_والأقسام_والبنود: #REF!
Name المصروفات_حسب_الأبواب_والأقسام_والبنود: #REF!

Sheet Final Account
A1: Kingdom Of Bahrain
A2: Consolidated Revenue/Expenditure Statement
A3: For The Year Ended 31 December 2025
E4: BD
A5: Description | B5: Notes | C5: Budget 2025 | D5: Actual 2025 | E5: Actual 2024
A6: Revenue
A7: Oil & Gas | B7: 4،3 | C7: =SUM('Rev Details'!F5:F12) -> 1492162000 | D7: =SUM('Rev Details'!G5:G12) -> 1301443932 | E7: =SUM('Rev Details'!I5:I12) -> 1819851820
A8: Revenues & Fees | B8: 4،3 | C8: =SUM('Rev Details'!F13:F108) -> 1045830568 | D8: =SUM('Rev Details'!G13:G108) -> 1089594373 | E8: =SUM('Rev Details'!I13:I108) -> 943022061
A9: Gov. Goods & Services | B9: 4،3 | C9: =SUM('Rev Details'!F109:F182) -> 74212760 | D9: =SUM('Rev Details'!G109:G182) -> 70068615 | E9: =SUM('Rev Details'!I109:I182) -> 72914586
A10: Investments & Gov. Properties | B10: 4،3 | C10: =SUM('Rev Details'!F183:F199) -> 180438225 | D10: =SUM('Rev Details'!G183:G199) -> 198706839 | E10: =SUM('Rev Details'!I183:I199) -> 166231924
A11: Grants | B11: 4،3
A12: Sale of Capital Assets | B12: 4،3 | C12: =SUM('Rev Details'!F200:F205) -> 582386 | D12: =SUM('Rev Details'!G200:G205) -> 651719 | E12: =SUM('Rev Details'!I200:I205) -> 640021
A13: Fines, Penalties & Mis. | B13: 4،3 | C13: =SUM('Rev Details'!F206:F227) -> 131199061 | D13: =SUM('Rev Details'!G206:G227) -> 27780240 | E13: =SUM('Rev Details'!I206:I227) -> 23433622
A14: Total Revenue | B14: 4،3،2 | C14: =SUM(C7:C13) -> 2924425000 | D14: =SUM(D7:D13) -> 2688245718 | E14: =SUM(E7:E13) -> 3026094034
A15: Recurrent Expenditures
A16: Manpower | B16: 8،7،5 | C16: =SUM('Exp. Detalis'!F5:F113) -> 1395253805 | D16: =SUM('Exp. Detalis'!G5:G113) -> 1424355500 | E16: =SUM('Exp. Detalis'!I5:I113) -> 1377932661
A17: Services | B17: 8،7،5 | C17: =SUM('Exp. Detalis'!F114:F269) -> 248515548 | D17: =SUM('Exp. Detalis'!G114:G269) -> 280435335 | E17: =SUM('Exp. Detalis'!I114:I269) -> 250179667
A18: Consumables | B18: 8،7،5 | C18: =SUM('Exp. Detalis'!F270:F321) -> 58702480 | D18: =SUM('Exp. Detalis'!G270:G321) -> 90446125 | E18: =SUM('Exp. Detalis'!I270:I321) -> 55141382
A19: Assets | B19: 8،7،5 | C19: =SUM('Exp. Detalis'!F322:F364) -> 36738000 | D19: =SUM('Exp. Detalis'!G322:G364) -> 37140245 | E19: =SUM('Exp. Detalis'!I322:I364) -> 13330175
A20: Maintenance | B20: 8،7،5 | C20: =SUM('Exp. Detalis'!F365:F443) -> 32472794 | D20: =SUM('Exp. Detalis'!G365:G443) -> 46255627 | E20: =SUM('Exp. Detalis'!I365:I443) -> 38481640
A21: Transfers | B21: 8،7،5 | C21: =SUM('Exp. Detalis'!F444:F448) -> 753485622 | D21: =SUM('Exp. Detalis'!G444:G448) -> 677688218 | E21: =SUM('Exp. Detalis'!I444:I448) -> 626613466
A22: Grants & Repayment of Loan Interests | B22: 8،7،5 | C22: =SUM('Exp. Detalis'!F449:F478) -> 1557573154 | D22: =SUM('Exp. Detalis'!G449:G478) -> 1580147154 | E22: =SUM('Exp. Detalis'!I449:I478) -> 1399598456
A23: Total Recurrent Expenditure | B23: 8،7،6،5،2 | C23: =SUM(C16:C22) -> 4082741403 | D23: =SUM(D16:D22) -> 4136468204 | E23: =SUM(E16:E22) -> 3761277447
A24: Projects | B24: 10،5،2 | C24: =Projects!B44 -> 317931597 | D24: =Projects!C44 -> 317931596 | E24: =Projects!E44 -> 290992012
A25: Total Expenditure | B25: 5 | C25: =C23+C24 -> 4400673000 | D25: =D23+D24 -> 4454399800 | E25: =E23+E24 -> 4052269459
A27: Surplus / (Deficit) | C27: =C14-C25 -> -1476248000 | D27: =D14-D25 -> -1766154082 | E27: =E14-E25 -> -1026175425
A30: Carried Forward Budget
D31: 2025 | E31: 2024
A32: Recurrent Expenditure Budget | B32: 12،5 | D32: 0 | E32: 0
A33: Projects Budget | B33: 12،5 | D33: 4000000 | E33: 21000000
A34: Total Carried Forward Budget | D34: =SUM(D32:D33) -> 4000000 | E34: =SUM(E32:E33) -> 21000000
D36: H.E. Shaikh Salman bin Khalifa Al-Khalifa
D37: Minister of Finance and National Economy

Sheet Oil Rev.
A1: 2- Oil and Gas Revenue
G2: BD
A3: Description | F3: =G3+1 -> 2018 | G3: 2017
A4: Revenue from Bahrain Field and Refinery
A5: Grand Revenue | F5: 2271373555 | G5: 1771260183
A6: Grand Costs | F6: -2085813879 | G6: -1492617008
A7: Net Revenue | F7: =SUM(F5:F6) -> 185559676 | G7: =SUM(G5:G6) -> 278643175
A9: Revenue from Abu-Sa'afa Field
A10: Grand Revenue | F10: 1086573086 | G10: 821916124
A11: Grand Costs | F11: -99065219 | G11: -98245176
A12: Future Generation Reserve | F12: -20920270 | G12: -14056467
A13: Net Revenue | F13: =SUM(F10:F12) -> 966587597 | G13: =SUM(G10:G12) -> 709614481
A15: Gas Revenue | F15: 495675259 | G15: 443340791
A17: Oil Taxation and Fees | F17: 4695378 | G17: 4863606
A19: Distributed Dividends (Oil & Gas Holding Co.) | F19: 0 | G19: 0
A21: Net Revenue from Oil and Gas | F21: =F7+F13+F15+F17+F19 -> 1652517910 | G21: =G7+G13+G15+G17+G19 -> 1436462053

Sheet Rev & Exp 
A1: 2- Revenues and Expenditures By Ministries & Government Authorities
J2: BD
A3: Ministries & Government Authorities | B3: Revenues | E3: Recurrent Expenditure | H3: Projects Expenditures
B4: Actual | C4: Budget | D4: % Of Collec. | E4: Actual | F4: Budget | G4: % Of Spend | H4: Actual | I4: Budget | J4: % Of Spend
A5: Ministry of Tourism | B5: 11060001 | C5: 11332000 | D5: =(B5/C5)*100 -> 97.599726 | E5: 240266 | F5: 240266 | G5: =(E5/F5)*100 -> 100 | H5: 0 | I5: 0 | J5: 0
A6: Ministry of Sustainable Development | B6: 0 | C6: 0 | D6: 0 | E6: 469251 | F6: 479000 | G6: =(E6/F6)*100 -> 97.964718 | H6: 0 | I6: 0 | J6: 0
A7: Ministry of Legal Affairs | B7: 0 | C7: 0 | D7: 0 | E7: 235870 | F7: 262000 | G7: =(E7/F7)*100 -> 90.026718 | H7: 0 | I7: 0 | J7: 0
A8: Prime Minister's Office | B8: 1669 | C8: 0 | D8: 0 | E8: 19214169 | F8: 19778020 | G8: =(E8/F8)*100 -> 97.149103 | H8: 6100000 | I8: 6100000 | J8: =(H8/I8)*100 -> 100
A9: Ministry of Defence (See Note 11) | B9: 0 | C9: 0 | D9: 0 | E9: 590505785 | F9: 524082000 | G9: =(E9/F9)*100 -> 112.67431 | H9: 378285 | I9: 378285 | J9: =(H9/I9)*100 -> 100
A10: Ministry of Interior | B10: 53679838 | C10: 54231000 | D10: =(B10/C10)*100 -> 98.983677 | E10: 409114004 | F10: 398546697 | G10: =(E10/F10)*100 -> 102.65146 | H10: 9383122 | I10: 9383122 | J10: =(H10/I10)*100 -> 100
A11: National Intelligence Agency | B11: 0 | C11: 0 | D11: 0 | E11: 35331000 | F11: 35331000 | G11: =(E11/F11)*100 -> 100 | H11: 0 | I11: 0 | J11: 0
A12: Legislation & Legal Opinion Commission | B12: 0 | C12: 0 | D12: 0 | E12: 2726546 | F12: 2726547 | G12: =(E12/F12)*100 -> 99.999963 | H12: 21519 | I12: 21519 | J12: =(H12/I12)*100 -> 100
A13: Ministry of Foreign Affairs | B13: 2085959 | C13: 2171000 | D13: =(B13/C13)*100 -> 96.082865 | E13: 44419880 | F13: 44419881 | G13: =(E13/F13)*100 -> 99.999998 | H13: 424786 | I13: 600000 | J13: =(H13/I13)*100 -> 70.797667
A14: Ministry of Justice, Islamic Affairs & Awqaf | B14: 26612944 | C14: 27000000 | D14: =(B14/C14)*100 -> 98.566459 | E14: 12602050 | F14: 12602052 | G14: =(E14/F14)*100 -> 99.999984 | H14: 136670 | I14: 300000 | J14: =(H14/I14)*100 -> 45.556667
A15: Ministry of Education | B15: 325884 | C15: 188000 | D15: =(B15/C15)*100 -> 173.34255 | E15: 315989807 | F15: 298388323 | G15: =(E15/F15)*100 -> 105.89885 | H15: 11717084 | I15: 11717084 | J15: =(H15/I15)*100 -> 100
A16: Ministry of Health | B16: 3393976 | C16: 5011000 | D16: =(B16/C16)*100 -> 67.730513 | E16: 33773367 | F16: 33773369 | G16: =(E16/F16)*100 -> 99.999994 | H16: 276811 | I16: 276811 | J16: =(H16/I16)*100 -> 100
A17: Ministry of Municipalities Affairs & Agriculture | B17: 1404732 | C17: 1230000 | D17: =(B17/C17)*100 -> 114.20585 | E17: 6463441 | F17: 6463442 | G17: =(E17/F17)*100 -> 99.999985 | H17: 1103000 | I17: 1103000 | J17: =(H17/I17)*100 -> 100
A18: Ministry of Labour | B18: 50 | C18: 0 | E18: 5642635 | F18: 5642635 | G18: =(E18/F18)*100 -> 100 | H18: 5776 | I18: 30000 | J18: =(H18/I18)*100 -> 19.253333
A19: Ministry of Youth Affairs | B19: 80246 | C19: 36000 | D19: =(B19/C19)*100 -> 222.90556 | E19: 2949213 | F19: 2949262 | G19: =(E19/F19)*100 -> 99.998339 | H19: 35242 | I19: 100000 | J19: =(H19/I19)*100 -> 35.242
A20: Rashed Club for Equestrian & Horse Racing | B20: 0 | C20: 0 | D20: 0 | E20: 5400000 | F20: 5400000 | G20: =(E20/F20)*100 -> 100 | H20: 11253039 | I20: 11253039 | J20: =(H20/I20)*100 -> 100
A21: Ministry of Social Development | B21: 35994 | C21: 0 | D21: 0 | E21: 9604478 | F21: 9604479 | G21: =(E21/F21)*100 -> 99.99999 | H21: 819909 | I21: 819909 | J21: =(H21/I21)*100 -> 100
A22: Ministry of Cabinet Affairs | B22: 0 | C22: 0 | D22: 0 | E22: 2585950 | F22: 2585952 | G22: =(E22/F22)*100 -> 99.999923 | H22: 0 | I22: 0 | J22: 0
A23: Ministry of Industry & Commerce | B23: 40637199 | C23: 40251000 | D23: =(B23/C23)*100 -> 100.95948 | E23: 8644611 | F23: 8644611 | G23: =(E23/F23)*100 -> 100 | H23: 317091 | I23: 2800000 | J23: =(H23/I23)*100 -> 11.324679
A24: Ministry of Housing & Urban Planning -Housing Sector | B24: 439 | C24: 0 | D24: 0 | E24: 4219615 | F24: 4219616 | G24: =(E24/F24)*100 -> 99.999976 | H24: 105339856 | I24: 105339856 | J24: =(H24/I24)*100 -> 100
A25: Deputy Prime Minister | B25: 0 | C25: 0 | D25: 0 | E25: 678561 | F25: 678562 | G25: =(E25/F25)*100 -> 99.999853 | H25: 0 | I25: 0 | J25: 0
A26: Ministry of Electricity & Water Affairs | B26: 0 | C26: 0 | D26: 0 | E26: 486293 | F26: 610000 | G26: =(E26/F26)*100 -> 79.720164 | H26: 919872 | I26: 919872 | J26: =(H26/I26)*100 -> 100
A27: Supreme Council for Environment | B27: 3922043 | C27: 6444000 | D27: =(B27/C27)*100 -> 60.863485 | E27: 7505156 | F27: 7505161 | G27: =(E27/F27)*100 -> 99.999933 | H27: 953607 | I27: 1000000 | J27: =(H27/I27)*100 -> 95.3607
A28: Mohd Bin Khalifa Al Khalifa Cardiac Center (See Note11) | B28: 0 | C28: 0 | D28: 0 | E28: 29396388 | F28: 25887000 | G28: =(E28/F28)*100 -> 113.55657 | H28: 0 | I28: 0 | J28: 0
A29: Ministry of Works | B29: 1388908 | C29: 12538000 | D29: =(B29/C29)*100 -> 11.077588 | E29: 45984815 | F29: 45987266 | G29: =(E29/F29)*100 -> 99.99467 | H29: 92549564 | I29: 87524899 | J29: =(H29/I29)*100 -> 105.74084
A30: Ministry of Transportation & Telecommunications | B30: 52453283 | C30: 62143000 | D30: =(B30/C30)*100 -> 84.407388 | E30: 29740509 | F30: 29740510 | G30: =(E30/F30)*100 -> 99.999997 | H30: 2462104 | I30: 2462104 | J30: =(H30/I30)*100 -> 100
A31: National Guard | B31: 0 | C31: 0 | D31: 0 | E31: 45025954 | F31: 45025954 | G31: =(E31/F31)*100 -> 100 | H31: 1156415 | I31: 1156415 | J31: =(H31/I31)*100 -> 100
A32: Ministry of Oil and Environment | B32: 0 | C32: 0 | D32: 0 | E32: 2247484 | F32: 2247484 | G32: =(E32/F32)*100 -> 100 | H32: 0 | I32: 0 | J32: 0
A33: Ministry of Parliamentary Affairs | B33: 0 | C33: 0 | D33: 0 | E33: 1491570 | F33: 1491591 | G33: =(E33/F33)*100 -> 99.998592 | H33: 0 | I33: 0 | J33: 0
A34: National communication center | B34: 0 | C34: 0 | D34: 0 | E34: 1920176 | F34: 1920177 | G34: =(E34/F34)*100 -> 99.999948 | H34: 0 | I34: 0 | J34: 0
A35: Ministry of Information | B35: 592713 | C35: 1005000 | D35: =(B35/C35)*100 -> 58.976418 | E35: 23248960 | F35: 23248961 | G35: =(E35/F35)*100 -> 99.999996 | H35: 2109323 | I35: 2109323 | J35: =(H35/I35)*100 -> 100
A36: Tender Board | B36: 914820 | C36: 1079000 | D36: =(B36/C36)*100 -> 84.784059 | E36: 1406969 | F36: 1650000 | G36: =(E36/F36)*100 -> 85.270848 | H36: 16839 | I36: 16839 | J36: =(H36/I36)*100 -> 100
A37: Transfers (See Note 9) | B37: 242375658 | C37: 294022000 | D37: =(B37/C37)*100 -> 82.434531 | E37: 2194168536 | F37: 2247118670 | G37: =(E37/F37)*100 -> 97.643643 | H37: 47668647 | I37: 48971309 | J37: =(H37/I37)*100 -> 97.339949
A38: Oil & Gas Revenue | B38: 1301443932 | C38: 1492162000 | D38: =(B38/C38)*100 -> 87.218675 | E38: 0 | F38: 0 | G38: 0 | H38: 0 | I38: 0 | J38: 0
A39: Bahrain Authority for Culture & Antiquities | B39: 827960 | C39: 383000 | D39: =(B39/C39)*100 -> 216.17755 | E39: 8485826 | F39: 8485829 | G39: =(E39/F39)*100 -> 99.999965 | H39: 6102347 | I39: 6102347 | J39: =(H39/I39)*100 -> 100
A40: Supreme Council for Health | B40: 0 | C40: 19042000 | D40: 0 | E40: 3576845 | F40: 3576845 | G40: =(E40/F40)*100 -> 100 | H40: 171327 | I40: 171327 | J40: =(H40/I40)*100 -> 100
...

Sheet Rev.
A1: 3- Revenue By Chapters, Ministries & Government Authorities
K2: BD
A3: Ministries or Government Authorities | B3: Oil & Gas | C3: Revenues & Fees | D3: Goods & Services | E3: Investments & Properties | F3: Grants | G3: Sale of Capital Assets | H3: Fines & Mis. | I3: Total | J3: Budget | K3: Actual 2024
A4: Ministry of Tourism | B4: 0 | C4: 11060001 | D4: 0 | E4: 0 | G4: 0 | H4: 0 | I4: =SUM(B4:H4) -> 11060001 | J4: 11332000 | K4: 7298988
A5: Prime Minister's Office | B5: 0 | C5: 0 | D5: 0 | E5: 0 | G5: 0 | H5: 1669 | I5: =SUM(B5:H5) -> 1669 | J5: 0 | K5: 178
A6: Ministry of Interior | B6: 0 | C6: 49409724 | D6: 3833803 | E6: 52750 | G6: 197261 | H6: 186300 | I6: =SUM(B6:H6) -> 53679838 | J6: 54231000 | K6: 52261876
A7: Ministry of Foreign Affairs | B7: 0 | C7: 1972844 | D7: 0 | E7: 44670 | G7: 16144 | H7: 52301 | I7: =SUM(B7:H7) -> 2085959 | J7: 2171000 | K7: 1208632
A8: Ministry of Justice, Islamic Affairs & Awqaf | B8: 0 | C8: 9835338 | D8: 165300 | E8: 0 | G8: 160 | H8: 16612146 | I8: =SUM(B8:H8) -> 26612944 | J8: 27000000 | K8: 22397899
A9: Ministry of Education | B9: 0 | C9: 3750 | D9: 98777 | E9: 0 | G9: 222541 | H9: 816 | I9: =SUM(B9:H9) -> 325884 | J9: 188000 | K9: 182457
A10: Ministry of Health | B10: 0 | C10: 20 | D10: 3389283 | E10: 1735 | G10: 1641 | H10: 1297 | I10: =SUM(B10:H10) -> 3393976 | J10: 5011000 | K10: 4621285
A11: Ministry of Municipalities Affairs & Agriculture | B11: 0 | C11: 63929 | D11: 1086781 | E11: 252254 | G11: 1258 | H11: 510 | I11: =SUM(B11:H11) -> 1404732 | J11: 1230000 | K11: 1187215
A12: Ministry of Labour | B12: 0 | C12: 0 | D12: 0 | E12: 0 | G12: 0 | H12: 50 | I12: =SUM(B12:H12) -> 50 | J12: 0 | K12: 2526
A13: Ministry of Youth Affairs | B13: 0 | C13: 0 | D13: 80246 | E13: 0 | G13: 0 | H13: 0 | I13: =SUM(B13:H13) -> 80246 | J13: 36000 | K13: 35217
A14: Ministry of Social Development | B14: 0 | C14: 2950 | D14: 0 | E14: 0 | G14: 33044 | H14: 0 | I14: =SUM(B14:H14) -> 35994 | J14: 0 | K14: 41467
A15: Ministry of Industry & Commerce | B15: 0 | C15: 25250655 | D15: 837543 | E15: 14227480 | G15: 180 | H15: 321341 | I15: =SUM(B15:H15) -> 40637199 | J15: 40251000 | K15: 38927691
... A24: Bahrain Authority for Culture & Antiquities | B24: 0 | C24: 208581 | D24: 544 | E24: 151710 | G24: 0 | H24: 467125 | I24: =SUM(B24:H24) -> 827960 | J24: 383000 | K24: 370048
A25: Supreme Council for Health | C25: 0 | D25: 0 | E25: 0 | G25: 0 | H25: 0 | I25: =SUM(B25:H25) -> 0 | J25: 19042000 | K25: 0
A26: Administrative Organization for Public Prosecution | B26: 0 | C26: 0 | D26: 0 | E26: 0 | G26: 516 | H26: 0 | I26: =SUM(B26:H26) -> 516 | J26: 0 | K26: 940
A27: Education & Training Quality Authority | B27: 0 | C27: 645701 | D27: 73 | E27: 0 | G27: 210 | H27: 0 | I27: =SUM(B27:H27) -> 645984 | J27: 310000 | K27: 299298
A28: Civil Service Bureau | B28: 0 | C28: 0 | D28: 0 | E28: 0 | G28: 0 | H28: 0 | I28: =SUM(B28:H28) -> 0 | J28: 0 | K28: 2750
A29: Information & Egovernment Authority | B29: 0 | C29: 2592911 | D29: 162863 | E29: 0 | G29: 0 | H29: 376 | I29: =SUM(B29:H29) -> 2756150 | J29: 2683000 | K29: 2657642
A30: General Secretariat for Youth & Sports High Council | B30: 0 | C30: 0 | D30: 0 | E30: 12669 | G30: 0 | H30: 0 | I30: =SUM(B30:H30) -> 12669 | J30: 0 | K30: 12600
A31: Supreme Judicial Council | B31: 0 | C31: 0 | D31: 0 | E31: 0 | G31: 0 | H31: 0 | I31: =SUM(B31:H31) -> 0 | J31: 0 | K31: 438
A32: Survey & Land Registration Bureau | B32: 0 | C32: 18552761 | D32: 149025 | E32: 0 | G32: 0 | H32: 0 | I32: =SUM(B32:H32) -> 18701786 | J32: 17222000 | K32: 16639190
A33: Ministry of Finance and National Economy | B33: 0 | C33: 0 | D33: 0 | E33: 0 | G33: 2639 | H33: 89 | I33: =SUM(B33:H33) -> 2728 | J33: 0 | K33: 4933
A34: Customs Affairs | B34: 0 | C34: 105966981 | D34: 2327176 | E34: 0 | G34: 867 | H34: 1368212 | I34: =SUM(B34:H34) -> 109663236 | J34: 112000000 | K34: 107656424
A35: Ministry of Housing & Urban Planning -Urban Planning & Development Authority | B35: 0 | C35: 1877598 | D35: 0 | E35: 0 | G35: 0 | H35: 0 | I35: =SUM(B35:H35) -> 1877598 | J35: 1975000 | K35: 1237141
A36: National Health Regulatory Authority | B36: 0 | C36: 3026122 | D36: 0 | E36: 0 | G36: 0 | H36: 31164 | I36: =SUM(B36:H36) -> 3057286 | J36: 3010000 | K36: 2918833
A37: National Bureau For Revenue | B37: 0 | C37: 805140617 | D37: 950 | E37: 0 | G37: 0 | H37: 3139200 | I37: =SUM(B37:H37) -> 808280767 | J37: 756924000 | K37: 682287051
A38: Bahrain Space Agency | B38: 0 | C38: 0 | D38: 0 | E38: 0 | G38: 0 | H38: 0 | I38: =SUM(B38:H38) -> 0 | J38: 33000 | K38: 32095
A39: General Sports Authority | C39: 0 | D39: 0 | E39: 0 | G39: 8000 | H39: 750 | I39: =SUM(B39:H39) -> 8750 | J39: 0 | K39: 0
A40: Total | B40: =SUM(B4:B39) -> 1301443932 | C40: =SUM(C4:C39) -> 1089594373 | D40: =SUM(D4:D39) -> 70068615 | E40: =SUM(E4:E39) -> 198706839 | F40: =SUM(F6:F38) -> 0 | G40: =SUM(G4:G39) -> 651719 | H40: =SUM(H4:H39) -> 27780240 | I40: =SUM(I4:I39) -> 2688245718 | J40: =SUM(J4:J39) -> 2924425000 | K40: =SUM(K4:K39) -> 3026094034

Sheet Rev Details
A1: 4- Revenue By Chapter, Section, And Item
I2: BD
A3: Code | E3: Description | F3: 2025 | I3: Actual 2024
A4: Itm | B4: Ch | C4: Sec | D4: Ac | F4: Budget | G4: Actual | H4: Difference
A5: 4 | B5: 1 | C5: 1 | D5: 40011 | E5: Oil Sales - Bahrain Field | F5: 127363000 | G5: 170351230 | H5: =G5-F5 -> 42988230 | I5: 183730628
A6: 4 | B6: 1 | C6: 1 | D6: 40012 | E6: Oil Sales - Abu-Sa'afa Field | F6: 980223000 | G6: 1189417769 | H6: =G6-F6 -> 209194769 | I6: 1349618325
A7: 4 | B7: 1 | C7: 1 | D7: 40014 | E7: Future Generations Reserve | F7: -18703000 | G7: -32411730 | H7: =G7-F7 -> -13708730 | I7: -29710199
A8: 4 | B8: 1 | C8: 2 | D8: 40054 | E8: Gas Sales - Other Companies | F8: 395850000 | G8: 104358338 | H8: =G8-F8 -> -291491662 | I8: 310303136
A9: 4 | B9: 1 | C9: 2 | D9: 40055 | E9: LNG Cargoes Purchasing Costs | F9: 0 | G9: -137609795 | H9: =G9-F9 -> -137609795 | I9: 0
A10: 4 | B10: 1 | C10: 3 | D10: 42011 | E10: Gas Income Tax | F10: 0 | G10: 948246 | H10: =G10-F10 -> 948246 | I10: 0
A11: 4 | B11: 1 | C11: 3 | D11: 42013 | E11: Petrol Tax | F11: 7429000 | G11: 5993225 | H11: =G11-F11 -> -1435775 | I11: 5909930
A12: 4 | B12: 1 | C12: 3 | D12: 42014 | E12: Royalties from concession agreements | F12: 0 | G12: 396649 | H12: =G12-F12 -> 396649 | I12: 0
A13: 4 | B13: 2 | C13: 2 | D13: 42501 | E13: Customs Duty on Essential Trade | F13: 50604000 | G13: 52806008 | H13: =G13-F13 -> 2202008 | I13: 50592913
A14: 4 | B14: 2 | C14: 2 | D14: 42503 | E14: Customs Duty on Vehicles | F14: 16000000 | G14: 16362544 | H14: =G14-F14 -> 362544 | I14: 16170619
A15: 4 | B15: 2 | C15: 2 | D15: 42504 | E15: Customs Duty on Manuf./Unmanuf. Tabacco | F15: 20600000 | G15: 19383846 | H15: =G15-F15 -> -1216154 | I15: 20509521
A16: 4 | B16: 2 | C16: 2 | D16: 42506 | E16: Customs Duty on Yachts | F16: 100000 | G16: 43928 | H16: =G16-F16 -> -56072 | I16: 63240
... A227: 4 | B227: 7 | C227: 3 | D227: 49908 | E227: Budget Surplus | F227: 0 | G227: 195847 | H227: =G227-F227 -> 195847 | I227: 291637
E228: Total | F228: =SUM(F5:F227) -> 2924425000 | G228: =SUM(G5:G227) -> 2688245718 | H228: =G228-F228 -> -236179282 | I228: =SUM(I5:I227) -> 3026094034

Sheet Budget
A1: 5- Projects & Recurrent Expenditures Budget
I2: BD
A3: Description | B3: Initial Budget | C3: Emeregancy Budget | D3: Amendments | E3: Budget After Amendment | F3: Carried Forward Budget from Prior Years | G3: Available Budget | H3: Actual Expenditure | I3: Surplus (Exceeding)
A5: Recurrent Expenditure
A6: Manpower | B6: 1325059363 | C6: - | D6: 70194442 | E6: =SUM(B6:D6) -> 1395253805 | F6: 0 | G6: =B6+D6+F6 -> 1395253805 | H6: 1424355500 | I6: =G6-H6 -> -29101695
A7: Services | B7: 229530032 | C7: - | D7: 18985516 | E7: =SUM(B7:D7) -> 248515548 | F7: 0 | G7: =B7+D7+F7 -> 248515548 | H7: 280435335 | I7: =G7-H7 -> -31919787
A8: Consumables | B8: 54770115 | C8: - | D8: 3932365 | E8: =SUM(B8:D8) -> 58702480 | F8: 0 | G8: =B8+D8+F8 -> 58702480 | H8: 90446125 | I8: =G8-H8 -> -31743645
A9: Assets | B9: 15288175 | C9: - | D9: 21449825 | E9: =SUM(B9:D9) -> 36738000 | F9: 0 | G9: =B9+D9+F9 -> 36738000 | H9: 37140245 | I9: =G9-H9 -> -402245
A10: Maintenance | B10: 37527479 | C10: - | D10: -5054685 | E10: =SUM(B10:D10) -> 32472794 | F10: 0 | G10: =B10+D10+F10 -> 32472794 | H10: 46255627 | I10: =G10-H10 -> -13782833
A11: Transfers | B11: 906611285 | C11: 0 | D11: -153125663 | E11: =SUM(B11:D11) -> 753485622 | F11: 0 | G11: =B11+D11+F11 -> 753485622 | H11: 677688218 | I11: =G11-H11 -> 75797404
A12: Grants & Repayment of Loan Interest | B12: 1535886551 | C12: - | D12: 21686603 | E12: =SUM(B12:D12) -> 1557573154 | F12: 0 | G12: =B12+D12+F12 -> 1557573154 | H12: 1580147154 | I12: =G12-H12 -> -22574000
A13: Total Recurrent Expenditure | B13: =SUM(B6:B12) -> 4104673000 | C13: =SUM(C6:C12) -> 0 | D13: =SUM(D6:D12) -> -21931597 | E13: =SUM(E6:E12) -> 4082741403 | F13: =SUM(F6:F12) -> 0 | G13: =SUM(G6:G12) -> 4082741403 | H13: =SUM(H6:H12) -> 4136468204 | I13: =SUM(I6:I12) -> -53726801
A15: Projects | B15: 275000000 | C15: - | D15: 21931597 | E15: =SUM(B15:D15) -> 296931597 | F15: 21000000 | G15: =F15+E15 -> 317931597 | H15: 317931596 | I15: =G15-H15 -> 1
A17: Total Expenditure | B17: =SUM(B13:B15) -> 4379673000 | C17: =SUM(C13:C15) -> 0 | D17: =SUM(D13:D15) -> 0 | E17: =SUM(E13:E15) -> 4379673000 | F17: =SUM(F13:F15) -> 21000000 | G17: =SUM(G13:G15) -> 4400673000 | H17: =SUM(H13:H15) -> 4454399800 | I17: =SUM(I13:I15) -> -53726800

Sheet Amendments
A1: 6- Initial Budget, Amendments, and Variation of Recurrent Expenditures
G2: BD
A3: Government Entity | B3: Initial Budget | C3: Amendment | D3: Carried Forward Budget from Prior Years | E3: Budget After Amendment | F3: Carried Forward Budget From Previous Years | G3: Available Budget
A5: General Public Services Sector | B5: =SUM(B6:B39) -> 262169000 | C5: =SUM(C6:C39) -> -48229826 | D5: =SUM(D6:D8) -> 0 | E5: =SUM(E6:E39) -> 213939174 | F5: =SUM(F6:F39) -> 0 | G5: =SUM(G6:G39) -> 0
A6: Prime Minister's Office | B6: 19736000 | C6: 42020 | D6: 0 | E6: =SUM(B6:D6) -> 19778020
A7: National communication centre | B7: 1345000 | C7: 575177 | D7: 0 | E7: =SUM(B7:D7) -> 1920177
A8: Deputy Prime Minister | B8: 649000 | C8: 29562 | D8: 0 | E8: =SUM(B8:D8) -> 678562
A9: Ministry of Cabinet Affairs | B9: 2298000 | C9: 287952 | D9: 0 | E9: =SUM(B9:D9) -> 2585952
A10: Ministry of Legal Affairs | B10: 262000 | C10: 0 | D10: 0 | E10: =SUM(B10:D10) -> 262000
A11: Legislation & Legal Opinion Commission | B11: 2422000 | C11: 304547 | D11: 0 | E11: =SUM(B11:D11) -> 2726547
A12: Ministry of Parliamentary Affairs | B12: 1489000 | C12: 2591 | D12: 0 | E12: =SUM(B12:D12) -> 1491591
A13: Shura Council | B13: 10700000 | C13: 0 | D13: 0 | E13: =SUM(B13:D13) -> 10700000
A14: Representatives Council | B14: 11974000 | C14: 137600 | D14: 0 | E14: =SUM(B14:D14) -> 12111600
A15: National Audit Court | B15: 5014000 | C15: 0 | D15: 0 | E15: =SUM(B15:D15) -> 5014000
A16: Ministry of Finance and National Economy | B16: 8608000 | C16: 950985 | D16: 0 | E16: =SUM(B16:D16) -> 9558985
A17: National Bureau For Revenue | B17: 6629000 | C17: 152979 | D17: 0 | E17: =SUM(B17:D17) -> 6781979
... A39: Contribution of the Kingdom of Bahrain to the Asian Investment Bank in Infrastructure | B39: 0 | C39: 0 | D39: 0 | E39: =SUM(B39:D39) -> 0
A40: Defence Sector | B40: =SUM(B41:B44) -> 550832000 | C40: =SUM(C41:C44) -> 33278964 | D40: =SUM(D41:D43) -> 0 | E40: =SUM(E41:E44) -> 584110964 | F40: =SUM(F41:F43) -> 0 | G40: =SUM(G41:G43) -> 522457000
A41: Ministry of Defence (see note no.11) | B41: 490915000 | C41: 33167000 | D41: 0 | E41: =SUM(B41:D41) -> 524082000 | F41: 0 | G41: 482050000
A42: General Commission for the Higher Defence Council | B42: 14251000 | C42: 0 | D42: 0 | E42: =SUM(B42:D42) -> 14251000 | F42: 0 | G42: 284000
A43: National Guard | B43: 44974000 | C43: 51954 | D43: 0 | E43: =SUM(B43:D43) -> 45025954 | F43: 0 | G43: 40123000
A44: Bahrain Space Agency | B44: 692000 | C44: 60010 | D44: 0 | E44: =SUM(B44:D44) -> 752010
A45: Public Order and Safety Sector | B45: =SUM(B46:B53) -> 464738000 | C45: =SUM(C46:C53) -> 28786393 | D45: =SUM(D46:D53) -> 0 | E45: =SUM(E46:E53) -> 493524393 | F45: =SUM(F46:F53) -> 0 | G45: =SUM(G46:G53) -> 449076875
A46: Ministry of Interior | B46: 373946000 | C46: 24600697 | D46: 0 | E46: =SUM(B46:D46) -> 398546697 | F46: 0 | G46: 352756000
A47: Governorates | B47: 4237000 | C47: 0 | D47: 0 | E47: =SUM(B47:D47) -> 4237000 | F47: 0 | G47: 4421000
A48: National Security Agency | B48: 35331000 | C48: 0 | D48: 0 | E48: =SUM(B48:D48) -> 35331000 | F48: 0 | G48: 41616000
A49: Customs Affairs | B49: 18319000 | C49: 1488430 | D49: 0 | E49: =SUM(B49:D49) -> 19807430 | F49: 0 | G49: 19957000
A50: Supreme Judicial Council | B50: 15311000 | C50: 1198847 | D50: 0 | E50: =SUM(B50:D50) -> 16509847 | F50: 0 | G50: 12851000
A51: Ministry of Justice & Islamic Affairs & Awqaf | B51: 11651000 | C51: 951052 | D51: 0 | E51: =SUM(B51:D51) -> 12602052 | F51: 0 | G51: 11686851
A52: Administrative Organization for Public Prosecution | B52: 3673000 | C52: 547367 | D52: 0 | E52: =SUM(B52:D52) -> 4220367 | F52: 0 | G52: 3498024
A53: Constitutional Court | B53: 2270000 | C53: 0 | D53: 0 | E53: =SUM(B53:D53) -> 2270000 | F53: 0 | G53: 2291000
A54: Economic Affairs and Infrastructure Sector | B54: =SUM(B55:B68) -> 115355000 | C54: =SUM(C55:C68) -> 11454755 | D54: =SUM(D55:D68) -> 0 | E54: =SUM(E55:E68) -> 126809755 | F54: =SUM(F55:F68) -> 0 | G54: =SUM(G55:G68) -> 126568957
A55: Economic Development Board | B55: 5369000 | C55: 2263846 | D55: 0 | E55: =SUM(B55:D55) -> 7632846 | F55: 0 | G55: 5683000
A56: Ministry of Industry & Commerce | B56: 8541000 | C56: 103611 | D56: 0 | E56: =SUM(B56:D56) -> 8644611 | F56: 0 | G56: 11581665
A57: Ministry of Labour | B57: 5131000 | C57: 511635 | D57: 0 | E57: =SUM(B57:D57) -> 5642635 | F57: 0 | G57: 16025000
A58: Ministry of Social Development | B58: 9313000 | C58: 291479 | D58: 0 | E58: =SUM(B58:D58) -> 9604479
A59: Ministry of Tourism | B59: 230000 | C59: 10266 | D59: 0 | E59: =SUM(B59:D59) -> 240266
A60: Labour Market Regulatory Authority | B60: 10024000 | C60: 340498 | D60: 0 | E60: =SUM(B60:D60) -> 10364498 | F60: 0 | G60: 8864000
A61: Ministry of Oil and Environment | B61: 1869000 | C61: 378484 | D61: 0 | E61: =SUM(B61:D61) -> 2247484 | F61: 0 | G61: 226000
A62: Ministry of Electricity & Water Affairs | B62: 610000 | C62: 0 | D62: 0 | E62: =SUM(B62:D62) -> 610000 | F62: 0 | G62: 249000
...

Sheet Exp.
A1: 7- Recurrent Expenditure By Chapters, Ministries and Government Authorities
K2: BD
A3: Ministries or Government Authorities | B3: Manpower | C3: Services | D3: Consumables | E3: Assets | F3: Maintenance | G3: Transfers | H3: Grants & Repayment of Loan Interests | I3: Total | J3: Budget | K3: Actual 2024
A4: Ministry of Tourism | B4: 199189 | C4: 41077 | D4: 0 | E4: 0 | F4: 0 | G4: 0 | H4: 0 | I4: =SUM(B4:H4) -> 240266 | J4: 240266 | K4: 283454
A5: Ministry of Sustainable Development | B5: 380351 | C5: 87984 | D5: 867 | E5: 0 | F5: 49 | G5: 0 | H5: 0 | I5: =SUM(B5:H5) -> 469251 | J5: 479000 | K5: 497346
A6: Ministry of Legal Affairs | B6: 222503 | C6: 11881 | D6: 1253 | E6: 233 | F6: 0 | G6: 0 | H6: 0 | I6: =SUM(B6:H6) -> 235870 | J6: 262000 | K6: 261607
A7: Prime Minister's Office | B7: 5636179 | C7: 2605093 | D7: 111484 | E7: 68909 | F7: 102388 | G7: 10000000 | H7: 690116 | I7: =SUM(B7:H7) -> 19214169 | J7: 19778020 | K7: 18621568
A8: Ministry of Defence (See Note 11) | B8: 485967770 | C8: 38365043 | D8: 28260631 | E8: 7206966 | F8: 27924517 | G8: 0 | H8: 2780858 | I8: =SUM(B8:H8) -> 590505785 | J8: 524082000 | K8: 516657511
A9: Ministry of Interior | B9: 343791126 | C9: 30001068 | D9: 6826925 | E9: 23600327 | F9: 4894558 | G9: 0 | H9: 0 | I9: =SUM(B9:H9) -> 409114004 | J9: 398546697 | K9: 387514407
A10: National Intelligence Agency | B10: 0 | C10: 0 | D10: 0 | E10: 0 | F10: 0 | G10: 35331000 | H10: 0 | I10: =SUM(B10:H10) -> 35331000 | J10: 35331000 | K10: 34130480
A11: Legislation & Legal Opinion Commission | B11: 2418419 | C11: 278866 | D11: 1829 | E11: 13769 | F11: 13663 | G11: 0 | H11: 0 | I11: =SUM(B11:H11) -> 2726546 | J11: 2726547 | K11: 2516928
A12: Ministry of Foreign Affairs | B12: 26604635 | C12: 15421902 | D12: 511135 | E12: 1105673 | F12: 762807 | G12: 0 | H12: 13728 | I12: =SUM(B12:H12) -> 44419880 | J12: 44419881 | K12: 45061874
A13: Ministry of Justice, Islamic Affairs & Awqaf | B13: 9107435 | C13: 3262726 | D13: 34950 | E13: 13259 | F13: 110680 | G13: 7000 | H13: 66000 | I13: =SUM(B13:H13) -> 12602050 | J13: 12602052 | K13: 12146019
A14: Ministry of Education | B14: 267015319 | C14: 40466115 | D14: 3519691 | E14: 2414543 | F14: 2574139 | G14: 0 | H14: 0 | I14: =SUM(B14:H14) -> 315989807 | J14: 298388323 | K14: 302518036
A15: Ministry of Health | B15: 8037720 | C15: 22066119 | D15: 3345284 | E15: 156028 | F15: 168216 | G15: 0 | H15: 0 | I15: =SUM(B15:H15) -> 33773367 | J15: 33773369 | K15: 28500527
... A56: General Sports Authority | B56: 1808296 | C56: 2297853 | D56: 247635 | E56: 20592 | F56: 1487941 | G56: 8689262 | H56: 20829020 | I56: =SUM(B56:H56) -> 35380599 | J56: 35380644 | K56: 23456461
A57: Total | B57: =SUM(B4:B56) -> 1424355500 | C57: =SUM(C4:C56) -> 280435335 | D57: =SUM(D4:D56) -> 90446125 | E57: =SUM(E4:E56) -> 37140245 | F57: =SUM(F4:F56) -> 46255627 | G57: =SUM(G4:G56) -> 677688218 | H57: =SUM(H4:H56) -> 1580147154 | I57: =SUM(I4:I56) -> 4136468204 | ... K57: =SUM(K4:K56) -> 3761277447

Sheet Exp. Detalis
A1: 8- Recurrent Expenditures By Chapters, Sections, and Items
I2: BD
A3: Code | E3: Description | F3: 2025 | I3: 2024
A4: Itm | B4: Ch | C4: Sec | D4: Ac | F4: Budget | G4: Actual | H4: Difference
A5: 6 | B5: 1 | C5: 1 | D5: 60011 | E5: Basic Salaries (Including Lump Sum) | F5: 806311262 | G5: 800632093 | H5: =F5-G5 -> 5679169 | I5: 796603168
A6: 6 | B6: 1 | C6: 1 | D6: 60021 | E6: Overtime | F6: 4022411 | G6: 3641694 | H6: =F6-G6 -> 380717 | I6: 3647925
A7: 6 | B7: 1 | C7: 1 | D7: 61011 | E7: Social Allowance | F7: 47472616 | G7: 47775297 | H7: =F7-G7 -> -302681 | I7: 45959884
A8: 6 | B8: 1 | C8: 1 | D8: 61012 | E8: Standard of Living Improvement | F8: 86739725 | G8: 90483580 | H8: =F8-G8 -> -3743855 | I8: 78949053
A9: 6 | B9: 1 | C9: 1 | D9: 61013 | E9: Car Allowance | F9: 5787146 | G9: 5949363 | H9: =F9-G9 -> -162217 | I9: 5899708
A10: 6 | B10: 1 | C10: 1 | D10: 61014 | E10: Ideal Employee Reward | F10: 54000 | G10: 27000 | H10: =F10-G10 -> 27000 | I10: 31000
A11: 6 | B11: 1 | C11: 1 | D11: 61015 | E11: Judiciary Allowance | F11: 3256089 | G11: 3417812 | H11: =F11-G11 -> -161723 | I11: 3319675
A12: 6 | B12: 1 | C12: 1 | D12: 61016 | E12: Acting Allowance | F12: 644882 | G12: 505069 | H12: =F12-G12 -> 139813 | I12: 502274
A13: 6 | B13: 1 | C13: 1 | D13: 61017 | E13: Other Allowance | F13: 298092 | G13: 133113 | H13: =F13-G13 -> 164979 | I13: 146526
A14: 6 | B14: 1 | C14: 1 | D14: 61019 | E14: Suggestion Reward | F14: 10800 | G14: 3700 | H14: =F14-G14 -> 7100 | I14: 1900
A15: 6 | B15: 1 | C15: 1 | D15: 61021 | E15: Transport Allowance | F15: 20859666 | G15: 20262920 | H15: =F15-G15 -> 596746 | I15: 19754598
A16: 6 | B16: 1 | C16: 1 | D16: 61022 | E16: Communication Allowances | F16: 4933544 | G16: 4791593 | H16: =F16-G16 -> 141951 | I16: 4776226
... A478: 6 | B478: 7 | C478: 9 | D478: 81999 | E478: Other Grants | F478: 1460000 | G478: 591188 | H478: =F478-G478 -> 868812 | I478: 905462
A479: Total | F479: =SUM(F5:F478) -> 4082741403 | G479: =SUM(G5:G478) -> 4136468204 | H479: =F479-G479 -> -53726801 | I479: =SUM(I5:I478) -> 3761277447

Sheet Tran. Budget Exp
A1: 9- Transferred Budget Expenditures
E2: BD
A3: Government Entity | B3: Budget | C3: Actual | D3: % Of Spend | E3: Actual 2024
A4: Government Entities with Attached & Independent budgets | B4: 417833467 | C4: 421580473 | D4: =C4/B4*100 -> 100.89677 | E4: 395537804
A5: Contributions in Regional & International Organizations | B5: 16380199 | C5: 16082049 | D5: =C5/B5*100 -> 98.179815 | E5: 13790774
A6: Citizen Account | B6: 312600000 | C6: 166082289 | D6: =C6/B6*100 -> 53.129331 | E6: 163614829
A7: Food Subsidies - Flour | B7: 16000000 | C7: 15859570 | D7: =C7/B7*100 -> 99.122312 | E7: 12824101
A8: Social Insurance Organization | B8: 21000000 | C8: 20723306 | D8: =C8/B8*100 -> 98.68241 | E8: 20732761
A9: Government's Share and Contribution in the Social System | B9: 0 | C9: 0 | D9: 0 | E9: 0
A10: Government's Share in the Unemployment Insurance Program | B10: 22500000 | C10: 23942123 | D10: =C10/B10*100 -> 106.40944 | E10: 22386119
A11: Social Security Fund | B11: 22000000 | C11: 23882370 | D11: =C11/B11*100 -> 108.55623 | E11: 23929590
A12: Allowance for Improvement of Standard of Living for Retirees | B12: 298000000 | C12: 292858710 | D12: =C12/B12*100 -> 98.274735 | E12: 237506799
A13: Housing Program Support (Rent Allowance-Reduce of Instalments) | B13: 58000000 | C13: 56756874 | D13: =C13/B13*100 -> 97.856679 | E13: 58510526
A14: Government Aids | B14: 900000 | C14: 433366 | D14: =C14/B14*100 -> 48.151778 | E14: 420499
A15: Interest on Loans and Securities | B15: 1031000000 | C15: 1052280003 | D15: =C15/B15*100 -> 102.06402 | E15: 945240897
A16: Retentions, Forwarded budgets, and Other Commitments | B16: 30905004 | C16: 103687403 | D16: =C16/B16*100 -> 335.50361 | E16: 79996475
A17: Total | B17: =SUM(B4:B16) -> 2247118670 | C17: =SUM(C4:C16) -> 2194168536 | D17: =C17/B17*100 -> 97.643643 | E17: =SUM(E4:E16) -> 1974491174

Sheet Projects
A1: 10- Projects Expenditures By Ministries & Government Authorities
E2: BD
A3: Ministries or Government Authorities | B3: Budget | C3: Actual | D3: % Of Spend | E3: Actual 2024
A4: Prime Minister's Office | B4: 6100000 | C4: 6100000 | D4: =(C4/B4)*100 -> 100 | E4: 6100000
A5: Ministry of Defence (See Note 11) | B5: 378285 | C5: 378285 | D5: =(C5/B5)*100 -> 100 | E5: 995966
A6: Ministry of Interior | B6: 9383122 | C6: 9383122 | D6: =(C6/B6)*100 -> 100 | E6: 13606612
A7: Legislation & Legal Opinion Commission | B7: 21519 | C7: 21519 | D7: =(C7/B7)*100 -> 100 | E7: 3997
A8: Ministry of Foreign Affairs | B8: 600000 | C8: 424786 | D8: =(C8/B8)*100 -> 70.797667 | E8: 937760
A9: Ministry of Justice, Islamic Affairs & Awqaf | B9: 300000 | C9: 136670 | D9: =(C9/B9)*100 -> 45.556667 | E9: 91463
A10: Ministry of Education | B10: 11717084 | C10: 11717084 | D10: =(C10/B10)*100 -> 100 | E10: 14203314
A11: Ministry of Health | B11: 276811 | C11: 276811 | D11: =(C11/B11)*100 -> 100 | E11: 183727
A12: Ministry of Municipalities Affairs & Agriculture | B12: 1103000 | C12: 1103000 | D12: =(C12/B12)*100 -> 100 | E12: 4230347
A13: Ministry of Labour | B13: 30000 | C13: 5776 | D13: =(C13/B13)*100 -> 19.253333 | E13: 24804
A14: Ministry of Youth Affairs | B14: 100000 | C14: 35242 | D14: =(C14/B14)*100 -> 35.242 | E14: 163976
A15: Rashed Club for Equestrian & Horse Racing | B15: 11253039 | C15: 11253039 | D15: =(C15/B15)*100 -> 100 | E15: 8720723
... A23: National Guard | B23: 1156415 | C23: 1156415 | D23: =(C23/B23)*100 -> 100 | E23: 1645183
A24: National communication centre | B24: 0 | C24: 0 | D24: 0 | E24: 300
A25: Tender Board | B25: 16839 | C25: 16839 | D25: =(C25/B25)*100 -> 100 | E25: 15576
A26: Transfers (Notes No.2) | B26: 48971309 | C26: 47668647 | D26: =(C26/B26)*100 -> 97.339949 | E26: 44492101
A27: Ministry of Information | B27: 2109323 | C27: 2109323 | D27: =(C27/B27)*100 -> 100 | E27: 2348662
A28: Bahrain Authority for Culture and Antiquities | B28: 6102347 | C28: 6102347 | D28: =(C28/B28)*100 -> 100 | E28: 7112516
A29: Supreme Council for Health | B29: 171327 | C29: 171327 | D29: =(C29/B29)*100 -> 100 | E29: 785904
A30: Administrative Organization for Public Prosecution | B30: 105758 | C30: 105758 | D30: =(C30/B30)*100 -> 100 | E30: 454027
A31: Civil Service Bureau | B31: 707577 | C31: 707577 | D31: =(C31/B31)*100 -> 100 | E31: 29898
A32: Informatiom and Egoverment Authority | B32: 3300000 | C32: 2998550 | D32: =(C32/B32)*100 -> 90.865152 | E32: 3728426
A33: General Secretariat for Youth & Sports High Council | B33: 400000 | C33: 149143 | D33: =(C33/B33)*100 -> 37.28575 | E33: 2346855
A34: Supreme Judicial Council | B34: 150000 | C34: 97261 | D34: =(C34/B34)*100 -> 64.840667 | E34: 104043
A35: Survey & Land Registration Bureau | B35: 848738 | C35: 848738 | D35: =(C35/B35)*100 -> 100 | E35: 481219
A36: Ministry of Finance and National Economy | B36: 822377 | C36: 822377 | D36: =(C36/B36)*100 -> 100 | E36: 998516
... A39: High Council for Islamic Affairs | B39: 300000 | C39: 139870 | D39: =(C39/B39)*100 -> 46.623333 | E39: 196891
A40: National Health Regulatory Authority | B40: 0 | C40: 0 | D40: 0 | E40: 327785
A41: National Bureau For Revenue | B41: 6126262 | C41: 6126262 | D41: =(C41/B41)*100 -> 100 | E41: 4512021
A42: Bahrain Space Agency | B42: 29505 | C42: 29505 | D42: =(C42/B42)*100 -> 100 | E42: 51289
A43: General Sports Authority | B43: 3327876 | C43: 3327876 | D43: =(C43/B43)*100 -> 100 | E43: 2440073
A44: Total | B44: =SUM(B4:B43) -> 317931597 | C44: =SUM(C4:C43) -> 317931596 | D44: =C44/B44*100 -> 100 | E44: =SUM(E4:E43) -> 290992012

Sheet Abu-Sa'afa Field
A1: 11-Oil Sales - Abu-Sa'afa Field
A3: The oil revenues of the Abu Safah field for the year 2019 include an amount representing the sales of December 2018 at a value of 98,498,683 dinars, as the Ministry of Finance and National Economy was recording the oil revenues of the Abu Safah field for the month of December for each year within the revenues of the subsequent fiscal year, due to the delay in receiving the amounts of those revenues. Starting from the fiscal year 2019, the Ministry of Finance and National Economy modified the mechanism for recording these revenues, as the revenues from oil sales for the Abu Safah field for the month of December received in January of the following year (2020) were included in the revenues of the year in which the sale was made (2019), which was An amount of 140,328,135 dinars.

Sheet BDF
A1: 11-Defence Force and Affiliated Entities Expenditures
A3: Statement (A) of Article No.4 of Audit Court Bureau Law No. 16 for the year 2002 amended by the Legislative Decree No. 49 for year 2010, stated that: "Court's audit shall exclude any entity which the constitution or a law impose a care for its security …", furthermore, Statement (G) of Article No. 33 of Bahrain constitution regarding Defence Force, stated " a care shall be maintained for its security". Based on that, Ministry of Defence and its related entities have been audited by an audit firm, not by the Audit Court Bereau.

Sheet Carry forward Proj
A1: 12- Carried Forwared Amounts of Projects Budget
A2: Based on the public interest, Ministry of Finance and National Economy approved carrying forward part of the budget to the next financial year for certain projects, after considering the cash flow required to meet obliged commitments and the financial requirements for completing the remaining phases. Carried forward amount represents remaining project's budget for Ministries and Government Entities including Government Funded Organizations Included in the State Budget for the Fiscal Year 2025.

Sheet Comparison
A1: 13- Comparison Numbers
A3: Some compartive amounts have been modified for few 2024 expenses, to provide a reasonable comparison with the current year's presentation.

Sheet CF
A1: Appendix 1: Statement of Receipts & Payments
C2: BD
A3: Descriptions | B3: 2025 | C3: =B3-1 -> 2024
A5: Cash Flow from Operating Activities
A6: Receipts
A7: Oil & Gas | B7: 1452836588 | C7: 1775553267
A8: Revenues & Fees | B8: 890428517 | C8: 811837383
A9: Goods & Services | B9: 37855836 | C9: 44256728
A10: Grants
A11: Fines, Penalties & Mis. | B11: 27860763 | C11: 25127045
A12: Amounts received for the benefit of others | B12: 42758579 | C12: 0
A13: Total | B13: =SUM(B7:B12) -> 2451740283 | C13: =SUM(C7:C12) -> 2656774423
A14: Payments
A15: Manpower | B15: -1344995730 | C15: -1337346315
A16: Services | B16: -259821217 | C16: -246231651
A17: Consumables | B17: -81755218 | C17: -52959107
A18: Maintenance | B18: -42508667 | C18: -38274062
A19: Transfers | B19: -762710436 | C19: -544345187
A20: Grants & Repayment of Loan Interests | B20: -1476268555 | C20: -1375792252
A21: Advance payment and payment of payables | B21: -126813258 | C21: -161331819
A22: Inventory Purchases | B22: -44450990 | C22: -81605319
A23: Total | B23: =SUM(B15:B22) -> -4139324071 | C23: =SUM(C15:C22) -> -3837885712
A24: Net Cash Flow from Operating Activities | B24: =B13+B23 -> -1687583788 | C24: =C13+C23 -> -1181111289
A26: Cash Flow from Investment Activities
A27: Projects | B27: -322433079 | C27: -309114058
A28: Capital Assets | B28: -3503136 | C28: -12025171
A29: Investments & Gov. Properties | B29: 115021961 | C29: 162839125
A30: Sale of Assets | B30: 565818 | C30: 559196
A31: Net Cash Flow from Investment Activities | B31: =SUM(B27:B30) -> -210348436 | C31: =SUM(C27:C30) -> -157740908
A33: Cash Flow from Financing Activities
A34: Loans Received | B34: 10021519651 | C34: 8073936707
A35: Loans Repayment | B35: -7187749732 | C35: -6628070806
A36: Net Cash Flow from Financing Activities | B36: =SUM(B34:B35) -> 2833769919 | C36: =SUM(C34:C35) -> 1445865901
A37: Net Increase/Decrease in Cash | B37: =B24+B31+B36 -> 935837695 | C37: =C24+C31+C36 -> 107013704

Sheet Account Pay
A1: Appendix 2: Account Payable
D2: BD
A3: Chapter | B3: Descriptions | C3: 2025 | D3: =C3-1 -> 2024
A4: 1 | B4: Manpower | C4: 1262330 | D4: 875310
A5: 2 | B5: Services | C5: 21620091 | D5: 17223294
A6: 3 | B6: Consumables | C6: 866495 | D6: 607139
A7: 4 | B7: Assets | C7: 256197 | D7: 256465
A8: 5 | B8: Maintenance | C8: 1203701 | D8: 777519
A9: 6 | B9: Transfers | C9: 6675047 | D9: 6122741
A10: 7 | B10: Grants & Repayment of Loan Interests | C10: 1226297 | D10: 1059873
A11: 8 | B11: Projects | C11: 40657794 | D11: 44788434
A12: - | B12: Other | C12: 19426236 | D12: 30132233
A13: Total | C13: =SUM(C4:C12) -> 93194188 | D13: =SUM(D4:D12) -> 101843008

Sheet Accrued Exp
A1: Appendix 3: Accrued Expenses
D2: BD
A3: Chapter | B3: Descriptions | C3: 2025 | D3: =C3-1 -> 2024
A4: 1 | B4: Manpower | C4: 2782121 | D4: 1791114
A5: 2 | B5: Services | C5: 22963034 | D5: 20912518
A6: 3 | B6: Consumables | C6: 1937977 | D6: 3133575
A7: 4 | B7: Assets | C7: 618181 | D7: 1038792
A8: 5 | B8: Maintenance | C8: 1520745 | D8: 1528536
A9: 6 | B9: Transfers | C9: 17790544 | D9: 15831051
A10: 7 | B10: Grants & Repayment of Loan Interests | C10: 22891482 | D10: 16665421
A11: 8 | B11: Projects | C11: 64960485 | D11: 61270307
A12: - | B12: Other | C12: 0 | D12: 0
A13: Total | C13: =SUM(C4:C12) -> 135464569 | D13: =SUM(D4:D12) -> 122171314

Sheet Encum
A1: Appendix 4: Encumbrances By Chapters
D2: BD
A3: Chapter | B3: Descriptions | C3: 2025 | D3: =C3-1 -> 2024
A4: 1 | B4: Manpower | C4: 174020 | D4: 402298
A5: 2 | B5: Services | C5: 3744480 | D5: 2573941
A6: 3 | B6: Consumables | C6: 373633 | D6: 3275667
A7: 4 | B7: Assets | C7: 44545 | D7: 78583
A8: 5 | B8: Maintenance | C8: 383892 | D8: 487147
A9: 6 | B9: Transfers | C9: 13556 | D9: 323138
A10: 7 | B10: Grants & Repayment of Loan Interests | C10: 164952 | D10: 166998
A11: 8 | B11: Projects | C11: 24171801 | D11: 21034579
A12: Total | C12: =SUM(C4:C11) -> 29070879 | D12: =SUM(D4:D11) -> 28342351

Sheet Financing
A1: Appendix 5: Loans
A2: Thousand BD
A3: Description | B3: Beginning Balance | C3: Amount Received | D3: Amount Paid | E3: Difference | F3: Ending Balance
A4: Treasury Bills | B4: 2110000 | C4: 4490000 | D4: -4490000 | E4: =C4+D4 -> 0 | F4: =SUM(B4+E4) -> 2110000
A5: AL-Salam Islamic Securities | B5: 129000 | C5: 558000 | D5: -537000 | E5: =C5+D5 -> 21000 | F5: =SUM(B5+E5) -> 150000
A6: Islamic Leasing Securities | B6: 731000 | C6: 888000 | D6: -762000 | E6: =C6+D6 -> 126000 | F6: =SUM(B6+E6) -> 857000
A7: Other Local Loans | B7: 0 | E7: 0 | F7: 0
A8: Government Local Development Bonds | B8: 2520000 | C8: 1130000 | D8: -500000 | E8: =C8+D8 -> 630000 | F8: =SUM(B8+E8) -> 3150000
A9: Total Local Loans | B9: =SUM(B4:B8) -> 5490000 | C9: =SUM(C4:C8) -> 7066000 | D9: =SUM(D4:D8) -> -6289000 | E9: =SUM(E4:E8) -> 777000 | F9: =SUM(F4:F8) -> 6267000
A11: International Islamic Leasing Securities | B11: 3365200 | C11: 1222000 | D11: -695600 | E11: =C11+D11 -> 526400 | F11: =SUM(B11+E11) -> 3891600
A12: International Government Development Bonds | B12: 6251000 | C12: 846000 | D12: -188000 | E12: =C12+D12 -> 658000 | F12: =SUM(B12+E12) -> 6909000
A13: Development Funds Loans | B13: 2721060 | C13: 60321 | D13: -14689.925 | E13: =C13+D13 -> 45631.075 | F13: =SUM(B13+E13) -> 2766691.1
A14: Bank Facilities Loans | B14: 1504000 | C14: 827200 | D14: 0 | E14: =C14+D14 -> 827200 | F14: =SUM(B14+E14) -> 2331200
A15: Foreign Loans | B15: =SUM(B11:B14) -> 13841260 | C15: =SUM(C11:C14) -> 2955521 | D15: =SUM(D11:D14) -> -898289.92 | E15: =SUM(E11:E14) -> 2057231.1 | F15: =SUM(F11:F14) -> 15898491
A17: Total (Balance) | B17: =SUM(B9+B15) -> 19331260 | C17: =SUM(C9+C15) -> 10021521 | D17: =SUM(D9+D15) -> -7187289.9 | E17: =SUM(E9+E15) -> 2834231.1 | F17: =SUM(F9+F15) -> 22165491

Sheet Credits
A1: Appendix 6: Credit Facilities
C2: Thousand BD
A3: Description | B3: 2025 | C3: =B3-1 -> 2024
A4: Available Credit Facilities | B4: 125100 | C4: 125100
A5: Utilized Credit | B5: -40992 | C5: -102402
A6: Unutilized Credit Facilities at the end of the year | B6: =SUM(B4:B5) -> 84108 | C6: =SUM(C4:C5) -> 22698
