Workbook
Name leer: '[1]تفصيل المصروفات (3)'!$A$2:$A$6
Name leer: '[1]تفصيل المصروفات (3)'!$A$2:$A$6
Name المصروفات_حسب_الأبواب_والأقسام_والبنود: #REF!
Name المصروفات_حسب_الأبواب_والأقسام_والبنود: #REF!
Name المصروفات_حسب_الأبواب_والأقسام_والبنود: #REF!
Name المصروفات_حسب_الأبواب_والأقسام_والبنود: #REF!
Name المصروفات_حسب_الأبواب_والأقسام_والبنود: #REF!
Name المصروفات_حسب_الأبواب_والأقسام_والبنود: #REF!
Name المصروفات_حسب_الأبواب_والأقسام_والبنود: #REF!

Sheet الحساب الختامي
A1: بيان الإيرادات والمصروفات الموحد للدولة
A2: للسنة المالية المنتهية في 31 ديسمبر 2013
E3: (دينار بحريني)
A4: البيان | B4: الإيضاحات | C4: الاعتماد | D4: الفعلي 2013 | E4: الفعلي 2012
A5: الإيرادات
A6: النفط والغاز الطبيعي | B6: 5,4,2 | C6: ='تفصيل الإيرادات'!F5 -> 2406600000 | D6: ='تفصيل الإيرادات'!G5 -> 2600157462 | E6: ='تفصيل الإيرادات'!I5 -> 2645361891
A7: الضرائب والرسوم | B7: 5,4 | C7: ='تفصيل الإيرادات'!F28 -> 198008551 | D7: ='تفصيل الإيرادات'!G28 -> 223770501 | E7: ='تفصيل الإيرادات'!I28 -> 217752920
A8: منتجات خدمية وسلعية حكومية | B8: 5,4 | C8: ='تفصيل الإيرادات'!F89 -> 51875230 | D8: ='تفصيل الإيرادات'!G89 -> 52604109 | E8: ='تفصيل الإيرادات'!I89 -> 45020826
A9: الإستثمارات والأملاك الحكومية | B9: 5,4 | C9: ='تفصيل الإيرادات'!F151 -> 74289097 | D9: ='تفصيل الإيرادات'!G151 -> 17571022 | E9: ='تفصيل الإيرادات'!I151 -> 15023753
A10: الإعانات | B10: 5,4 | C10: ='تفصيل الإيرادات'!F170 -> 37600000 | D10: ='تفصيل الإيرادات'!G170 -> 0 | E10: ='تفصيل الإيرادات'!I170 -> 56436545
A11: مبيعات الأصول الرأسمالية | B11: 5,4 | C11: ='تفصيل الإيرادات'!F173 -> 442600 | D11: ='تفصيل الإيرادات'!G173 -> 274773 | E11: ='تفصيل الإيرادات'!I173 -> 714036
A12: غرامات وجزاءات وإيرادات متنوعة | B12: 5,4 | C12: ='تفصيل الإيرادات'!F186 -> 22076522 | D12: ='تفصيل الإيرادات'!G186 -> 49279669 | E12: ='تفصيل الإيرادات'!I186 -> 53942102
A13: مجموع الإيرادات | B13: 5,4,3 | C13: =SUM(C6:C12) -> 2790892000 | D13: =SUM(D6:D12) -> 2943657536 | E13: =SUM(E6:E12) -> 3034252073
A14: المصروفات المتكررة
A15: القوى العاملة | B15: 9,8,6 | C15: ='تفصيل المصروفات '!F5 -> 1330367017 | D15: ='تفصيل المصروفات '!G5 -> 1300403906 | E15: ='تفصيل المصروفات '!I5 -> 1204151011
A16: الخدمات | B16: 9,8,6 | C16: ='تفصيل المصروفات '!F93 -> 196680606 | D16: ='تفصيل المصروفات '!G93 -> 210798858 | E16: ='تفصيل المصروفات '!I93 -> 183681226
A17: السلع الإستهلاكية | B17: 9,8,6 | C17: ='تفصيل المصروفات '!F161 -> 133491541 | D17: ='تفصيل المصروفات '!G161 -> 131207934 | E17: ='تفصيل المصروفات '!I161 -> 110332561
A18: السلع الرأسمالية | B18: 9,8,6 | C18: ='تفصيل المصروفات '!F215 -> 36829565 | D18: ='تفصيل المصروفات '!G215 -> 30769606 | E18: ='تفصيل المصروفات '!I215 -> 30712004
A19: الصيانة | B19: 9,8,6 | C19: ='تفصيل المصروفات '!F314 -> 65036190 | D19: ='تفصيل المصروفات '!G314 -> 66514923 | E19: ='تفصيل المصروفات '!I314 -> 60761332
A20: نفقات تحويلية | B20: 9,8,6 | C20: ='تفصيل المصروفات '!F371 -> 832426830 | D20: ='تفصيل المصروفات '!G371 -> 694960427 | E20: ='تفصيل المصروفات '!I371 -> 581699366
A21: الإعانات وتسديد فوائد القروض | B21: 9,8,6 | C21: ='تفصيل المصروفات '!F383 -> 457760251 | D21: ='تفصيل المصروفات '!G383 -> 442388256 | E21: ='تفصيل المصروفات '!I383 -> 352521750
A22: مجموع المصروفات المتكررة | B22: 9,8,7,6,3 | C22: =SUM(C15:C21) -> 3052592000 | D22: =SUM(D15:D21) -> 2877043910 | E22: =SUM(E15:E21) -> 2523859250
A23: مصروفات المشاريع | B23: 11,6,3 | C23: =مشاريع!B46 -> 848093577 | D23: =مشاريع!C46 -> 476701208 | E23: =مشاريع!E46 -> 737037571
A24: مجموع المصروفات | B24: 6 | C24: =SUM(C22:C23) -> 3900685577 | D24: =SUM(D22:D23) -> 3353745118 | E24: =SUM(E22:E23) -> 3260896821
A25: العجز للسنة | C25: =C13-C24 -> -1109793577 | D25: =D13-D24 -> -410087582 | E25: =E13-E24 -> -226644748
A27: مصروفات مشاريع التسليح والتطوير | B27: 14 | C27: 0 | D27: 0 | E27: 0
A28: العجز للسنة | C28: =C25-C27 -> -1109793577 | D28: =D25-D27 -> -410087582 | E28: =E25-E27 -> -226644748
A29: بيان الاعتمادات المدورة
D30: 2013 | E30: 2012
A31: اعتمادات المصروفات المتكررة | B31: 15,7,6 | D31: 0 | E31: 0
A32: اعتمادات المشاريع | B32: 16,6 | D32: 270562104 | E32: 276593577
A33: مجموع الاعتمادات المدورة | D33: =SUM(D31:D32) -> 270562104 | E33: =SUM(E31:E32) -> 276593577
A35: الإيضاحات الواردة على الصفحات من (4) إلى (31) هي جزء مكمل للحساب الختامي الموحد للدولة.

Sheet إيرادات النفط 
A1: 2- إيرادات النفط والغاز الطبيعي
C2: (دينار بحريني)
A3: البيان | B3: الفعلي 2013 | C3: الفعلي 2012
A5: إيرادات حقل البحرين والمصفاة
A6: الإيرادات
A7: إجمالي الإيرادات | B7: 3854885734 | C7: 4051532635
A8: إجمالي التكاليف | B8: -3631231590 | C8: -3798366767
A9: صافي الإيرادات | B9: =SUM(B7:B8) -> 223654144 | C9: =SUM(C7:C8) -> 253165868
A11: إيرادات حقل أبو سعفة
A12: إجمالي الإيرادات | B12: 2082583680 | C12: 2021572160
A13: إجمالي التكاليف | B13: -103316501 | C13: -70356084
A14: إحتياطي الاجيال القادمة | B14: -19597752 | C14: -18121073
A15: صافي الإيرادات | B15: =SUM(B12:B14) -> 1959669427 | C15: =SUM(C12:C14) -> 1933095003
A17: مبيعات الغاز الطبيعي
A18: مبيعات الغاز الطبيعي | B18: 401014351 | C18: 380177200
A20: ضرائب ورسوم نفطية | B20: 15819540 | C20: 22523820
A22: توزيعات أرباح مستلمة (الشركة القابضة للنفط والغاز) | B22: 0 | C22: 56400000
A24: صافي إيرادات النفط والغاز الطبيعي | B24: =B9+B15+B18+B20+B22 -> 2600157462 | C24: =C9+C15+C18+C20+C22 -> 2645361891

Sheet مصروفات وايرادات الوزارات
A1: 3- الإيرادات والمصروفات مصنفة حسب الوزارات والجهات الحكومية
B2: (دينار بحريني)
A3: الوزارة أو الجهة الحكومية | B3: الإيرادات | F3: المصروفات المتكررة | J3: مصروفات المشاريع
B4: الفعلي | C4: الاعتماد | D4: نسبة التحصيل % | F4: الفعلي | G4: الاعتماد | H4: نسبة الصرف % | J4: الفعلي | K4: الاعتماد | L4: نسبة الصرف %
A5: ديوان صاحب السمو الملكي رئيس الوزراء | B5: 958 | C5: 0 | D5: - | F5: 17931596 | G5: 18151000 | H5: =F5/G5*100 -> 98.791229 | J5: 0 | K5: 0 | L5: -
A6: وزارة الدفاع (إيضاح رقم 13) | B6: 0 | C6: 0 | D6: - | F6: 465097894 | G6: 465097894 | H6: =F6/G6*100 -> 100 | J6: 534291 | K6: 534291 | L6: =J6/K6*100 -> 100
A7: وزارة الداخلية | B7: 38079849 | C7: 33922000 | D7: =B7/C7*100 -> 112.25709 | F7: 324731640 | G7: 330000000 | H7: =F7/G7*100 -> 98.403527 | J7: 23072323 | K7: 30000000 | L7: =J7/K7*100 -> 76.907743
A8: جهاز الأمن الوطني | B8: 760 | C8: 0 | D8: - | F8: 32200000 | G8: 32200000 | H8: =F8/G8*100 -> 100 | J8: 832753 | K8: 832753 | L8: =J8/K8*100 -> 100
A9: هيئة التشريع والإفتاء القانوني | B9: 7684 | C9: 5000 | D9: =B9/C9*100 -> 153.68 | F9: 2221688 | G9: 2375000 | H9: =F9/G9*100 -> 93.544758 | J9: 0 | K9: 40000 | L9: -
A10: وزارة الخارجية | B10: 1850282 | C10: 1876000 | D10: =B10/C10*100 -> 98.629104 | F10: 35022820 | G10: 35022820 | H10: =F10/G10*100 -> 100 | J10: 72155 | K10: 6000000 | L10: =J10/K10*100 -> 1.2025833
A11: وزارة العدل والشئون الإسلامية والأوقاف- شئون العدل | B11: 10824306 | C11: 9248000 | D11: =B11/C11*100 -> 117.04483 | F11: 14968658 | G11: 14968658 | H11: =F11/G11*100 -> 100 | J11: 958867 | K11: 2298999 | L11: =J11/K11*100 -> 41.708022
A12: وزارة التربية والتعليم | B12: 1091114 | C12: 3219000 | D12: =B12/C12*100 -> 33.896055 | F12: 318883208 | G12: 325100000 | H12: =F12/G12*100 -> 98.087729 | J12: 10446290 | K12: 17150164 | L12: =J12/K12*100 -> 60.910729
A13: وزارة الصحة | B13: 13815100 | C13: 14750000 | D13: =B13/C13*100 -> 93.661695 | F13: 249775333 | G13: 249775333 | H13: =F13/G13*100 -> 100 | J13: 6272133 | K13: 28734100 | L13: =J13/K13*100 -> 21.828187
A14: وزارة شئون البلديات والتخطيط العمراني - الإدارة العامة للتخطيط العمراني وإدارة الإستملاك والتعويض وشئون الزراعة والثروة البحرية | B14: 326067 | C14: 330000 | D14: =B14/C14*100 -> 98.808182 | F14: 17505393 | G14: 17744000 | H14: =F14/G14*100 -> 98.655281 | J14: 4026287 | K14: 25612600 | L14: =J14/K14*100 -> 15.719946
A15: وزارة العمل | B15: 2024889 | C15: 2126000 | D15: =B15/C15*100 -> 95.244073 | F15: 6164974 | G15: 6164974 | H15: =F15/G15*100 -> 100 | J15: 102587 | K15: 660255 | L15: =J15/K15*100 -> 15.537482
A16: المؤسسة العامة للشباب والرياضة | B16: 57640 | C16: 35500 | D16: =B16/C16*100 -> 162.3662 | F16: 12337237 | G16: 13093000 | H16: =F16/G16*100 -> 94.227732 | J16: 3865258 | K16: 24418660 | L16: =J16/K16*100 -> 15.829116
A17: نادى راشد للفروسية وسباق الخيل | B17: 0 | C17: 0 | D17: - | F17: 1452000 | G17: 1452000 | H17: =F17/G17*100 -> 100 | J17: 0 | K17: 0 | L17: -
A18: وزارة التنمية الإجتماعية | B18: 159670 | C18: 12500 | D18: =B18/C18*100 -> 1277.36 | F18: 26712404 | G18: 26712404 | H18: =F18/G18*100 -> 100 | J18: 944366 | K18: 2924199 | L18: =J18/K18*100 -> 32.294861
A19: مكتب وزير الدولة لشئون المتابعة | B19: 0 | C19: 0 | D19: - | F19: 291714 | G19: 359000 | H19: =F19/G19*100 -> 81.257382 | J19: 0 | K19: 0 | L19: 0
A20: وزارة الصناعة والتجارة | B20: 8990818 | C20: 8282000 | D20: =B20/C20*100 -> 108.55854 | F20: 11284851 | G20: 11723000 | H20: =F20/G20*100 -> 96.262484 | J20: 1829239 | K20: 14025709 | L20: =J20/K20*100 -> 13.042043
A21: وزارة الإسكان | B21: 33460 | C21: 29000 | D21: =B21/C21*100 -> 115.37931 | F21: 5360542 | G21: 5360542 | H21: =F21/G21*100 -> 100 | J21: 125124677 | K21: 152885646 | L21: =J21/K21*100 -> 81.842004
A22: مكتب صاحب السمو الملكي النائب الأول لرئيس مجلس الوزراء | B22: 0 | C22: 0 | D22: - | F22: 175291 | G22: 2000000 | H22: =F22/G22*100 -> 8.76455 | J22: 0 | K22: 3000000 | L22: -
A23: مكاتب نواب صاحب سمو الملكي رئيس مجلس الوزارء | B23: 0 | C23: 0 | D23: - | F23: 2785164 | G23: 3562940 | H23: =F23/G23*100 -> 78.170387 | J23: 66300 | K23: 116025 | L23: =J23/K23*100 -> 57.142857
A24: مكاتب مستشاري صاحب سمو الملكي رئيس مجلس الوزراء | B24: 0 | C24: 0 | D24: - | F24: 999535 | G24: 1060183 | H24: =F24/G24*100 -> 94.279478 | J24: 0 | K24: 0 | L24: 0
A25: وزير الدولة لشئون الكهرباء والماء | B25: 0 | C25: 0 | D25: - | F25: 192059 | G25: 300000 | H25: =F25/G25*100 -> 64.019667 | J25: 0 | K25: 0 | L25: 0
A26: المجلس الأعلى للبيئة | B26: 224975 | C26: 519000 | D26: =B26/C26*100 -> 43.347784 | F26: 6893974 | G26: 6893974 | H26: =F26/G26*100 -> 100 | J26: 264672 | K26: 1150000 | L26: =J26/K26*100 -> 23.014957
A27: مركز الشيخ محمد بن خليفة آل خليفة التخصصي للقلب (إيضاح رقم 13) | B27: 0 | C27: 0 | D27: - | F27: 14700078 | G27: 14700078 | H27: =F27/G27*100 -> 100 | J27: 0 | K27: 0 | L27: -
A28: وزارة الأشغال | B28: 430991 | C28: 393000 | D28: =B28/C28*100 -> 109.66692 | F28: 30503971 | G28: 30503971 | H28: =F28/G28*100 -> 100 | J28: 124381380 | K28: 180689124 | L28: =J28/K28*100 -> 68.837226
A29: 3- الإيرادات والمصروفات مصنفة حسب الوزارات والجهات الحكومية (تتمة)
B30: (دينار بحريني)
A31: الوزارة أو الجهة الحكومية | B31: الإيرادات | F31: المصروفات المتكررة | J31: مصروفات المشاريع
B32: الفعلي | C32: الاعتماد | D32: نسبة التحصيل % | F32: الفعلي | G32: الاعتماد | H32: نسبة الصرف % | J32: الفعلي | K32: الاعتماد | L32: نسبة الصرف %
A33: هيئة الكهرباء والماء (إيضاح رقم 12) | B33: 0 | C33: 0 | D33: - | F33: 350000000 | G33: 350000000 | H33: =F33/G33*100 -> 100 | J33: 0 | K33: 0 | L33: -
A34: وزارة المواصلات | B34: 40630784 | C34: 35414000 | D34: =B34/C34*100 -> 114.73085 | F34: 27936443 | G34: 29910000 | H34: =F34/G34*100 -> 93.401682 | J34: 2173060 | K34: 20343506 | L34: =J34/K34*100 -> 10.681836
A35: الحرس الوطنى | B35: 0 | C35: 0 | D35: - | F35: 40199992 | G35: 40200000 | H35: =F35/G35*100 -> 99.99998 | J35: 919006 | K35: 16706716 | L35: =J35/K35*100 -> 5.5008178
A36: الهيئة الوطنية للنفط والغاز | B36: 16456 | C36: 0 | D36: - | F36: 2678385 | G36: 2719000 | H36: =F36/G36*100 -> 98.506252 | J36: 0 | K36: 0 | L36: -
A37: وزير الدولة لشئون الإتصالات | B37: 0 | C37: 0 | D37: - | F37: 434080 | G37: 434080 | H37: =F37/G37*100 -> 100 | J37: 392944 | K37: 714600 | L37: =J37/K37*100 -> 54.987965
A38: وزارة شئون مجلسي الشورى والنواب | B38: 0 | C38: 0 | D38: - | F38: 1472535 | G38: 1491000 | H38: =F38/G38*100 -> 98.761569 | J38: 0 | K38: 0 | L38: -
A39: وزير الدولة لشئون الإعلام | B39: 0 | C39: 0 | D39: - | F39: 419444 | G39: 700000 | H39: =F39/G39*100 -> 59.920571 | J39: 0 | K39: 0 | L39: -
A40: وزارة شئون حقوق الإنسان | B40: 0 | C40: 0 | D40: - | F40: 1029369 | G40: 2000000 | H40: =F40/G40*100 -> 51.46845 | J40: 0 | K40: 0 | L40: -
A41: مجلس المناقصات والمزايدات | B41: 0 | C41: 0 | D41: - | F41: 1124560 | G41: 1124560 | H41: =F41/G41*100 -> 100 | J41: 121934 | K41: 200000 | L41: =J41/K41*100 -> 60.967
A42: الميزانية التحويلية | B42: 66285676 | C42: 140182000 | D42: =B42/C42*100 -> 47.28544 | F42: 707938113 | G42: 861380011 | H42: =F42/G42*100 -> 82.186504 | J42: 132461358 | K42: 232982649 | L42: =J42/K42*100 -> 56.854602
A43: إيرادات النفط والغاز الطبيعي | B43: 2600157462 | C43: 2406600000 | D43: =B43/C43*100 -> 108.04278 | F43: 0 | G43: 0 | H43: 0 | J43: 0 | K43: 0 | L43: -
A44: هيئة شئون الإعلام | B44: 1588485 | C44: 1074000 | D44: =B44/C44*100 -> 147.90363 | F44: 22798608 | G44: 22904000 | H44: =F44/G44*100 -> 99.539853 | J44: 5998187 | K44: 12418094 | L44: =J44/K44*100 -> 48.301994
A45: وزارة الثقافة | B45: 10977595 | C45: 8504000 | D45: =B45/C45*100 -> 129.08743 | F45: 8837354 | G45: 8913299 | H45: =F45/G45*100 -> 99.147959 | J45: 15803910 | K45: 21455409 | L45: =J45/K45*100 -> 73.659328
A46: ديوان الخدمة المدنية | B46: 367 | C46: 5000 | D46: =B46/C46*100 -> 7.34 | F46: 5856402 | G46: 5856403 | H46: =F46/G46*100 -> 99.999983 | J46: 152498 | K46: 1217388 | L46: =J46/K46*100 -> 12.526655
A47: وزارة شئون مجلس الوزراء | B47: 0 | C47: 0 | D47: - | F47: 1291108 | G47: 1684000 | H47: =F47/G47*100 -> 76.669121 | J47: 0 | K47: 0 | L47: -
A48: الجهاز المركزي للمعلومات والإتصالات | B48: 1828030 | C48: 1503000 | D48: =B48/C48*100 -> 121.62542 | F48: 8365845 | G48: 8725000 | H48: =F48/G48*100 -> 95.88361 | J48: 967080 | K48: 9714015 | L48: =J48/K48*100 -> 9.9555127
A49: الأمانة العامة للمجلس الأعلى للشباب والرياضة | B49: 250 | C49: 0 | D49: - | F49: 13001536 | G49: 13011000 | H49: =F49/G49*100 -> 99.927262 | J49: 0 | K49: 0 | L49: -
A50: المجلس الأعلى للقضاء | B50: 0 | C50: 0 | D50: - | F50: 10263368 | G50: 10263368 | H50: =F50/G50*100 -> 100 | J50: 81730 | K50: 152447 | L50: =J50/K50*100 -> 53.612075
A51: وزارة العدل والشئون الإسلامية والأوقاف- الشئون الإسلامية | B51: 13323 | C51: 10000 | D51: =B51/C51*100 -> 133.23 | F51: 4051431 | G51: 4051433 | H51: =F51/G51*100 -> 99.999951 | J51: 1424044 | K51: 4135378 | L51: =J51/K51*100 -> 34.435643
A52: جهاز المساحة والتسجيل العقاري | B52: 18773590 | C52: 11364000 | D52: =B52/C52*100 -> 165.20231 | F52: 6126697 | G52: 6126697 | H52: =F52/G52*100 -> 100 | J52: 2779903 | K52: 5220196 | L52: =J52/K52*100 -> 53.252847
A53: وزارة المالية | B53: 44993 | C53: 2000 | D53: =B53/C53*100 -> 2249.65 | F53: 7498827 | G53: 8338000 | H53: =F53/G53*100 -> 89.93556 | J53: 1717075 | K53: 10414475 | L53: =J53/K53*100 -> 16.487389
A54: إدارة المخازن المركزية | D54: - | H54: - | L54: -
A55: شئون الجمارك | B55: 125421962 | C55: 111487000 | D55: =B55/C55*100 -> 112.49918 | F55: =15093411 -> 15093411 | G55: 16005000 | H55: =F55/G55*100 -> 94.304349 | J55: 1473515 | K55: =6044794 -> 6044794 | L55: =J55/K55*100 -> 24.376596
A56: المؤسسة العامة للموانئ البحرية | B56: 0 | C56: 0 | D56: - | F56: 0 | G56: 0 | H56: - | J56: - | K56: - | L56: -
A57: مستشفى الملك حمد (إيضاح رقم 14،13) | B57: 0 | C57: 0 | D57: - | F57: 42434378 | G57: 42434378 | H57: =F57/G57*100 -> 100 | J57: 7441386 | K57: 15301385 | L57: =J57/K57*100 -> 48.632107
A58: المجموع | B58: =SUM(B5:B57) -> 2943657536 | C58: =SUM(C5:C57) -> 2790892000 | D58: =B58/C58*100 -> 105.47372 | F58: =SUM(F5:F57) -> 2877043910 | G58: =SUM(G5:G57) -> 3052592000 | H58: =F58/G58*100 -> 94.249212 | J58: =SUM(J5:J57) -> 476701208 | K58: =SUM(K5:K57) -> 848093577 | L58: =J58/K58*100 -> 56.208562

Sheet الايرادات
A1: 4- الإيرادات مصنفة حسب الأبواب والوزارات والجهات الحكومية
B2: (دينار بحريني)
A3: الوزارة أو الجهة الحكومية | B3: النفط والغاز الطبيعي | C3: ضــرائـب ورســوم | D3: منتجات خدمية وسلعية حكومية | E3: إستثمارات وأملاك حكومية | F3: الإعانات | G3: مبيعات أصول رأسمالية | H3: غرامــات وإيرادات متنوعة | I3: المجموع | J3: الاعتماد | K3: الفعلي 2012
A4: ديوان صاحب السمو الملكي رئيس الوزراء | B4: 0 | C4: 0 | D4: 0 | E4: 0 | F4: 0 | G4: 0 | H4: 958 | I4: =SUM(B4:H4) -> 958 | J4: 0 | K4: 7706
A5: وزارة الدفاع (إيضاح رقم 13) | B5: 0 | C5: 0 | D5: 0 | E5: 0 | F5: 0 | G5: 0 | H5: 0 | I5: 0 | J5: 0 | K5: 371
A6: وزارة الداخلية | B6: 0 | C6: 31448709 | D6: 5733163 | E6: 45000 | F6: 0 | G6: 46383 | H6: 806594 | I6: =SUM(B6:H6) -> 38079849 | J6: 33922000 | K6: 36839976
A7: جهاز الأمن الوطني | B7: 0 | C7: 0 | D7: 760 | E7: 0 | F7: 0 | G7: 0 | H7: 0 | I7: =SUM(B7:H7) -> 760 | J7: 0 | K7: 680
A8: هيئة التشريع والإفتاء القانوني | B8: 0 | C8: 420 | D8: 3773 | E8: 0 | F8: 0 | G8: 78 | H8: 3413 | I8: =SUM(B8:H8) -> 7684 | J8: 5000 | K8: 7541
A9: وزارة الخارجية | B9: 0 | C9: 1779245 | D9: 0 | E9: 0 | F9: 0 | G9: 0 | H9: 71037 | I9: =SUM(B9:H9) -> 1850282 | J9: 1876000 | K9: 2005658
A10: وزارة العدل والشئون الإسلامية والأوقاف- شئون العدل | B10: 0 | C10: 5755992 | D10: 11788 | E10: 59273 | F10: 0 | G10: 196 | H10: 4997057 | I10: =SUM(B10:H10) -> 10824306 | J10: 9248000 | K10: 10430631
A11: وزارة التربية والتعليم | B11: 0 | C11: 23370 | D11: 95256 | E11: 0 | F11: 0 | G11: 96575 | H11: 875913 | I11: =SUM(B11:H11) -> 1091114 | J11: 3219000 | K11: 400414
A12: وزارة الصحة | B12: 0 | C12: 12988 | D12: 13488560 | E12: 128820 | F12: 0 | G12: 26260 | H12: 158472 | I12: =SUM(B12:H12) -> 13815100 | J12: 14750000 | K12: 14115972
A13: وزارة شئون البلديات و التخطيط العمراني- الإدارة العامة للتخطيط العمراني وإدارة الإستملاك والتعويض وشئون الزراعة والثروة البحرية | B13: 0 | C13: 37614 | D13: 124330 | E13: 54611 | F13: 0 | G13: 50643 | H13: 58869 | I13: =SUM(B13:H13) -> 326067 | J13: 330000 | K13: 287380
A14: وزارة العمل | B14: 0 | C14: 2011070 | D14: 8160 | E14: 400 | F14: 0 | G14: 0 | H14: 5259 | I14: =SUM(B14:H14) -> 2024889 | J14: 2126000 | K14: 2007197
A15: المؤسسة العامة للشباب والرياضة | B15: 0 | C15: 15200 | D15: 0 | E15: 600 | F15: 0 | G15: 0 | H15: 41840 | I15: =SUM(B15:H15) -> 57640 | J15: 35500 | K15: 68344
A16: وزارة التنمية الاجتماعية | B16: 0 | C16: 835 | D16: 0 | E16: 0 | F16: 0 | G16: 1522 | H16: 157313 | I16: =SUM(B16:H16) -> 159670 | J16: 12500 | K16: 6346
A17: مستشار سمو رئيس الوزراء للشئون القانونية | I17: =SUM(B17:H17) -> 0
A18: مكاتب نواب صاحب السمو الملكي رئيس مجلس الوزراء | B18: 0 | C18: 0 | D18: 0 | E18: 0 | F18: 0 | G18: 0 | H18: 0 | I18: =SUM(B18:H18) -> 0 | J18: 0 | K18: 105
A19: نواب صاحب السمو الملكي رئيس الوزراء | B19: 0 | C19: 0 | D19: 0 | E19: 0 | F19: 0 | G19: 0 | H19: 0 | I19: 0 | J19: 0 | K19: 0
A20: وزارة الصناعة والتجارة | B20: 0 | C20: 4978334 | D20: 255204 | E20: 3730502 | F20: 0 | G20: 0 | H20: 26778 | I20: =SUM(B20:H20) -> 8990818 | J20: 8282000 | K20: 8815219
A21: وزارة الإسكان | B21: 0 | C21: 33460 | D21: 0 | E21: 0 | F21: 0 | G21: 0 | H21: 0 | I21: =SUM(B21:H21) -> 33460 | J21: 29000 | K21: 21760
A22: المجلس الأعلى للبيئة | B22: 0 | C22: 74687 | D22: 56 | E22: 61614 | F22: 0 | G22: 0 | H22: 88618 | I22: =SUM(B22:H22) -> 224975 | J22: 519000 | K22: 507793
A23: وزارة الأشغال | B23: 0 | C23: 254779 | D23: 8490 | E23: 0 | F23: 0 | G23: 36261 | H23: 131461 | I23: =SUM(B23:H23) -> 430991 | J23: 393000 | K23: 209927
A24: وزارة المواصلات | B24: 0 | C24: 2517558 | D24: 30954351 | E24: 6873854 | F24: 0 | G24: 0 | H24: 285021 | I24: =SUM(B24:H24) -> 40630784 | J24: 35414000 | K24: 4708274
A25: الهيئة الوطنية للنفط والغاز | B25: 0 | C25: 270 | D25: 0 | E25: 0 | F25: 0 | G25: 13420 | H25: 2766 | I25: =SUM(B25:H25) -> 16456 | J25: 0 | K25: 99945
A26: شئون الطيران المدني | B26: 0 | C26: 0 | D26: 0 | E26: 0 | F26: 0 | G26: 0 | H26: 0 | I26: 0 | J26: 0 | K26: 19239748
A27: مجلس المناقصات والمزايدات | B27: 0 | C27: 0 | D27: 0 | E27: 0 | F27: 0 | G27: 0 | H27: 0 | I27: 0 | J27: 0 | K27: 60
A28: وزارة شئون مجلسي الشورى والنواب | B28: 0 | I28: 0
A29: الميزانية التحويلية | B29: 0 | C29: 27198332 | D29: 909310 | E29: 6494568 | F29: 0 | G29: 0 | H29: 31683466 | I29: =SUM(B29:H29) -> 66285676 | J29: 140182000 | K29: 145234944
A30: إيرادات النفط والغاز الطبيعي | B30: 2600157462 | C30: 0 | D30: 0 | E30: 0 | F30: 0 | G30: 0 | H30: 0 | I30: =SUM(B30:H30) -> 2600157462 | J30: 2406600000 | K30: 2645361891
A31: هيئة شئون الإعلام | B31: 0 | C31: 522743 | D31: 813903 | E31: 83400 | F31: 0 | G31: 0 | H31: 168439 | I31: =SUM(B31:H31) -> 1588485 | J31: 1074000 | K31: 1088955
A32: وزارة الثقافة | B32: 0 | C32: 10896800 | D32: 11608 | E32: 38700 | F32: 0 | G32: 75 | H32: 30412 | I32: =SUM(B32:H32) -> 10977595 | J32: 8504000 | K32: 9358622
A33: ديوان الخدمة المدنية | B33: 0 | C33: 250 | D33: 0 | E33: 0 | F33: 0 | G33: 0 | H33: 117 | I33: =SUM(B33:H33) -> 367 | J33: 5000 | K33: 4930
A34: وزارة شئون مجلس الوزراء | B34: 0 | I34: =SUM(B34:H34) -> 0
A35: وزارة الثقافة | I35: =SUM(B35:H35) -> 0
A36: 4- الإيرادات مصنفة حسب الأبواب والوزارات والجهات الحكومية (تتمة)
B37: (دينار بحريني)
A38: الوزارة أو الجهة الحكومية | B38: النفط والغاز الطبيعي | C38: ضــرائـب ورســوم | D38: منتجات خدمية وسلعية حكومية | E38: إستثمارات وأملاك حكومية | F38: الإعانات | G38: مبيعات أصول رأسمالية | H38: غرامــات وإيرادات متنوعة | I38: المجموع | J38: الاعتماد | K38: الفعلي 2012
A40: الجهاز المركزي للمعلومات والإتصالات | B40: 0 | C40: 1822680 | D40: 1990 | E40: 0 | F40: 0 | G40: 3360 | H40: 0 | I40: =SUM(B40:H40) -> 1828030 | J40: 1503000 | K40: 1705086
A41: الأمانة العامة للمجلس الأعلى للشباب والرياضة | B41: 0 | C41: 250 | D41: 0 | E41: 0 | F41: 0 | G41: 0 | H41: 0 | I41: =SUM(B41:H41) -> 250 | J41: 0 | K41: 0
A42: وزارة العدل والشئون الإسلامية والأوقاف-الشئون الإسلامية | B42: 0 | C42: 800 | D42: 0 | E42: 0 | F42: 0 | G42: 0 | H42: 12523 | I42: =SUM(B42:H42) -> 13323 | J42: 10000 | K42: 18485
A43: جهاز المساحة والتسجيل العقاري | B43: 0 | C43: 18650748 | D43: 116155 | E43: 0 | F43: 0 | G43: 0 | H43: 6687 | I43: =SUM(B43:H43) -> 18773590 | J43: 11364000 | K43: 13411250
A44: وزارة المالية | B44: 0 | C44: 4510 | D44: 0 | E44: 180 | F44: 0 | G44: 0 | H44: 40303 | I44: =SUM(B44:H44) -> 44993 | J44: 2000 | K44: 1927
A45: شئون الجمارك | B45: 0 | C45: 115728857 | D45: 67252 | E45: -500 | F45: 0 | G45: 0 | H45: 9626353 | I45: =SUM(B45:H45) -> 125421962 | J45: 111487000 | K45: 118284936
A46: المجموع | B46: =SUM(B4:B45) -> 2600157462 | C46: =SUM(C4:C45) -> 223770501 | D46: =SUM(D4:D45) -> 52604109 | E46: =SUM(E4:E45) -> 17571022 | F46: =SUM(F4:F45) -> 0 | G46: =SUM(G4:G45) -> 274773 | H46: =SUM(H4:H45) -> 49279669 | I46: =SUM(I4:I45) -> 2943657536 | ... K46: =SUM(K4:K45) -> 3034252073

Sheet تفصيل الإيرادات
A1: 5- الإيرادات مصنفة حسب الأبواب والأقسام والبنود
A2: (دينار بحريني)
A3: التبويــب | E3: البيـــان | F3: 2013 | I3: 2012 الفعلي
A4: بند | B4: قسم | C4: باب | D4: نوع | F4: الاعتماد | G4: الفعلي | H4: الفرق
C5: 1 | D5: 4 | E5: النفط والغاز الطبيعي | F5: =F6+F10+F22+F26 -> 2406600000 | G5: =G6+G10+G22+G26 -> 2600157462 | H5: =G5-F5 -> 193557462 | I5: =I6+I10+I22+I26 -> 2645361891
B6: 1 | C6: 1 | D6: 4 | E6: مبيعات النفط | F6: =SUM(F7:F9) -> 1987430900 | G6: =SUM(G7:G9) -> 2183323571 | H6: =G6-F6 -> 195892671 | I6: =SUM(I7:I9) -> 2186260871
A7: 40011 | B7: 1 | C7: 1 | D7: 4 | E7: حقل البحرين والمصفاة | F7: 232986000 | G7: =223654144 -> 223654144 | H7: =G7-F7 -> -9331856 | I7: 253165868
A8: 40012 | B8: 1 | C8: 1 | D8: 4 | E8: حقل أبوسعفة | F8: 1775444900 | G8: 1979267179 | H8: =G8-F8 -> 203822279 | I8: 1951216076
A9: 40014 | B9: 1 | C9: 1 | D9: 4 | E9: احتياطي الأجيال القادمة- حقل أبوسعفة | F9: -21000000 | G9: -19597752 | H9: =G9-F9 -> 1402248 | I9: -18121073
B10: 2 | C10: 1 | D10: 4 | E10: مبيعات الغاز | F10: =SUM(F11:F21) -> 405350400 | G10: =SUM(G11:G21) -> 401014351 | H10: =G10-F10 -> -4336049 | I10: =SUM(I11:I21) -> 380177200
A11: 40031 | B11: 2 | C11: 1 | D11: 4 | E11: محطة المنامة للكهرباء | F11: 0 | G11: 0 | H11: =G11-F11 -> 0 | I11: 0
A12: 40032 | B12: 2 | C12: 1 | D12: 4 | E12: محطة سترة للكهرباء | F12: 17206700 | G12: 0 | H12: =G12-F12 -> -17206700 | I12: 0
A13: 40033 | B13: 2 | C13: 1 | D13: 4 | E13: محطة سترة للمياه | F13: 0 | G13: 0 | H13: =G13-F13 -> 0 | I13: 0
A14: 40034 | B14: 2 | C14: 1 | D14: 4 | E14: محطة الرفاع للكهرباء | F14: 23824500 | G14: 0 | H14: =G14-F14 -> -23824500 | I14: 0
A15: 40035 | B15: 2 | C15: 1 | D15: 4 | E15: محطة الحد للكهرباء | F15: 68826600 | G15: 0 | H15: =G15-F15 -> -68826600 | I15: 0
A16: 40036 | B16: 2 | C16: 1 | D16: 4 | E16: محطة الحد للماء | F16: 0 | H16: =G16-F16 -> 0
A17: 40037 | B17: 2 | C17: 1 | D17: 4 | E17: مبيعات الغاز- محطات الكهرباء والماء | F17: 54267300 | G17: 54155855 | H17: =G17-F17 -> -111445 | I17: 70874032
A18: 40051 | B18: 2 | C18: 1 | D18: 4 | E18: شركة المنيوم البحرين (ألبا) | F18: 99269000 | G18: 101266533 | H18: =G18-F18 -> 1997533 | I18: 89823701
A19: 40052 | B19: 2 | C19: 1 | D19: 4 | E19: شركة نفط البحرين (بابكو) | F19: 40237200 | G19: 37630660 | H19: =G19-F19 -> -2606540 | I19: 37438539
A20: 40053 | B20: 2 | C20: 1 | D20: 4 | E20: شركة غاز البحرين الوطنية (بناغاز) | F20: 34197700 | G20: 34248280 | H20: =G20-F20 -> 50580 | I20: 35861855
A21: 40054 | B21: 2 | C21: 1 | D21: 4 | E21: الشركات المحلية الاخرى | F21: 67521400 | G21: 173713023 | H21: =G21-F21 -> 106191623 | I21: 146179073
B22: 3 | C22: 1 | D22: 4 | E22: الضرائب والرسوم النفطية | F22: =SUM(F23:F25) -> 13818700 | G22: =SUM(G23:G25) -> 15819540 | H22: =SUM(H23:H25) -> 2000840 | I22: =SUM(I23:I25) -> 22523820
A23: 42011 | B23: 3 | C23: 1 | D23: 4 | E23: ضريبة دخل الغاز | F23: 8352200 | G23: 11676073 | H23: =G23-F23 -> 3323873 | I23: 18584545
A24: 42012 | B24: 3 | C24: 1 | D24: 4 | E24: رسوم تفتيش المنتجات النفطية | H24: =G24-F24 -> 0
A25: 42013 | B25: 3 | C25: 1 | D25: 4 | E25: ضريبة البنزين | F25: 5466500 | G25: 4143467 | H25: =G25-F25 -> -1323033 | I25: 3939275
B26: 4 | C26: 1 | D26: 4 | E26: عوائد الاستثمارات في النفط | F26: =F27 -> 0 | G26: =G27 -> 0 | H26: =H27 -> 0 | I26: =I27 -> 56400000
A27: 45014 | B27: 4 | C27: 1 | D27: 4 | E27: عوائد الاستثمارات في النفط | F27: 0 | G27: 0 | H27: =G27-F27 -> 0 | I27: 56400000
C28: 2 | D28: 4 | E28: الضرائب والرسوم | F28: =SUM(F29,F31,F38,F49) -> 198008551 | G28: =SUM(G29,G31,G38,G49) -> 223770501 | H28: =G28-F28 -> 25761950 | I28: =SUM(I29,I31,I38,I49) -> 217752920
B29: 1 | C29: 2 | D29: 4 | E29: الضرائب والرسوم على استهلاك السلع والمنتجات | F29: =SUM(F30) -> 0 | G29: =SUM(G30) -> 0 | H29: =G29-F29 -> 0 | I29: =SUM(I30) -> 0
A30: 42013 | B30: 1 | C30: 2 | D30: 4 | E30: ضريبة البنزين | F30: 0 | G30: 0 | H30: =G30-F30 -> 0 | I30: 0
B31: 2 | C31: 2 | D31: 4 | E31: الضرائب والرسوم على التجارة الدولية | F31: =SUM(F32:F37) -> 108321000 | G31: =SUM(G32:G37) -> 115083869 | H31: =G31-F31 -> 6762869 | I31: =SUM(I32:I37) -> 114167730
A32: 42501 | B32: 2 | C32: 2 | D32: 4 | E32: ضرائب جمركية على السلع الضرورية الأساسية | F32: 50000000 | G32: 28116872 | H32: =G32-F32 -> -21883128 | I32: 40525740
A33: 42503 | B33: 2 | C33: 2 | D33: 4 | E33: ضرائب جمركية على العربات | F33: 12000000 | G33: 8877231 | H33: =G33-F33 -> -3122769 | I33: 18362875
A34: 42504 | B34: 2 | C34: 2 | D34: 4 | E34: ضرائب جمركية على التبغ المصنع وغير المصنع ومشتقاته | F34: 30000000 | G34: 59526086 | H34: =G34-F34 -> 29526086 | I34: 38789104
A35: 42505 | B35: 2 | C35: 2 | D35: 4 | E35: ضرائب جمركية على السلع الكمالية | F35: 16000000 | G35: 18019058 | H35: =G35-F35 -> 2019058 | I35: 16113804
A36: 42506 | B36: 2 | C36: 2 | D36: 4 | E36: ضرائب جمركية على اليخوت والزوارق والقوارب | F36: 21000 | G36: 46703 | H36: =G36-F36 -> 25703 | I36: 30872
A37: 42507 | B37: 2 | C37: 2 | D37: 4 | E37: ضريبة حماية الصناعة الوطنية | F37: 300000 | G37: 497919 | H37: =G37-F37 -> 197919 | I37: 345335
B38: 3 | C38: 2 | D38: 4 | E38: رسوم التسجيل والتراخيص | F38: =SUM(F39:F48) -> 1064462 | G38: =SUM(G39:G48) -> 1688722 | H38: =G38-F38 -> 624260 | I38: =SUM(I39:I48) -> 870672
A39: 43011 | B39: 3 | C39: 2 | D39: 4 | E39: نشاطات التجارة العامة | F39: 84148 | G39: 623569 | H39: =G39-F39 -> 539421 | I39: 35047
A40: 43021 | B40: 3 | C40: 2 | D40: 4 | E40: نشاطات الصناعة | F40: 5000 | G40: 3288 | H40: =G40-F40 -> -1712 | I40: 11721
A41: 43031 | B41: 3 | C41: 2 | D41: 4 | E41: نشاطات الخدمات المالية | F41: 15000 | G41: 13450 | H41: =G41-F41 -> -1550 | I41: 33574
A42: 43041 | B42: 3 | C42: 2 | D42: 4 | E42: نشاطات الخدمات المتنوعة | F42: 756314 | G42: 754447 | H42: =G42-F42 -> -1867 | I42: 776385
A43: 43051 | B43: 3 | C43: 2 | D43: 4 | E43: رسوم تسجيل الوكالات التجارية | F43: 14000 | G43: 18197 | H43: =G43-F43 -> 4197 | I43: 13945
A44: 43061 | B44: 3 | C44: 2 | D44: 4 | E44: تراخيص مكاتب المحاماة | H44: =G44-F44 -> 0
A45: 43071 | B45: 3 | C45: 2 | D45: 4 | E45: رسوم تنظيم مزاولة المهن الهندسية | F45: 190000 | G45: 194639 | H45: =G45-F45 -> 4639 | I45: 0
A46: 44041 | B46: 3 | C46: 2 | D46: 4 | E46: رسوم وتراخيص المواد الصيدلانية | F46: 0 | G46: 15445 | H46: =G46-F46 -> 15445 | I46: 0
A47: 44042 | B47: 3 | C47: 2 | D47: 4 | E47: رسوم وتراخيص المرافق الصحية | F47: 0 | G47: 31613 | H47: =G47-F47 -> 31613 | I47: 0
A48: 44043 | B48: 3 | C48: 2 | D48: 4 | E48: رسوم وتراخيص المهن الصحية | F48: 0 | G48: 34074 | H48: =G48-F48 -> 34074 | I48: 0
B49: 4 | C49: 2 | D49: 4 | E49: الرسوم والأتعاب الإدارية | F49: =SUM(F50:F69,F75:F88) -> 88623089 | G49: =SUM(G50:G69,G75:G88) -> 106997910 | H49: =SUM(H50:H69,H75:H88) -> 18374821 | I49: =SUM(I50:I69,I75:I88) -> 102714518
A50: 42012 | B50: 4 | C50: 2 | D50: 4 | E50: رسوم تفتيش المنتجات النفطية | F50: 0 | G50: 0 | H50: 0 | I50: 85889
A51: 44011 | B51: 4 | C51: 2 | D51: 4 | E51: رسوم الجوازات | F51: 1605900 | G51: 1470554 | H51: =G51-F51 -> -135346 | I51: 1658242
A52: 44012 | B52: 4 | C52: 2 | D52: 4 | E52: رسوم الإقامات | F52: 2073600 | G52: 2145700 | H52: =G52-F52 -> 72100 | I52: 2090590
A53: 44013 | B53: 4 | C53: 2 | D53: 4 | E53: رسوم التأشيرات وشهادات عدم الممانعة | F53: 8099000 | G53: 9291907 | H53: =G53-F53 -> 1192907 | I53: 8607617
A54: 44014 | B54: 4 | C54: 2 | D54: 4 | E54: رسوم البطاقة الشخصية | H54: =G54-F54 -> 0
A55: 44015 | B55: 4 | C55: 2 | D55: 4 | E55: رسوم البطاقة السكانية | F55: 1500000 | G55: 1546156 | H55: =G55-F55 -> 46156 | I55: 1623429
A56: 44016 | B56: 4 | C56: 2 | D56: 4 | E56: رسوم تقديم الخدمات الاستشارية | F56: 110000 | G56: 19012 | H56: =G56-F56 -> -90988 | I56: 14150
A57: 44021 | B57: 4 | C57: 2 | D57: 4 | E57: رسوم هيئة تنظيم سوق العمل | F57: 25650000 | G57: 26949976 | H57: =G57-F57 -> 1299976 | I57: 35321821
A58: 44031 | B58: 4 | C58: 2 | D58: 4 | E58: رسوم رخص العمل | F58: 1310000 | G58: 1200965 | H58: =G58-F58 -> -109035 | I58: 1228170
A59: 44032 | B59: 4 | C59: 2 | D59: 4 | E59: رسوم تجديد رخص العمل | F59: 782000 | G59: 768775 | H59: =G59-F59 -> -13225 | I59: 726075
A60: 44051 | B60: 4 | C60: 2 | D60: 4 | E60: رسوم تسجيل الملكية | F60: 150000 | G60: 79757 | H60: =G60-F60 -> -70243 | I60: 78345
A61: 44052 | B61: 4 | C61: 2 | D61: 4 | E61: رسوم نقل الملكية | F61: 11000000 | G61: 18569156 | H61: =G61-F61 -> 7569156 | I61: 13170650
A62: 44071 | B62: 4 | C62: 2 | D62: 4 | E62: رسوم تسجيل العربات | F62: 12216257 | G62: 14183298 | H62: =G62-F62 -> 1967041 | I62: 12804387
A63: 44072 | B63: 4 | C63: 2 | D63: 4 | E63: رسوم رخص السياقة | F63: 3218788 | G63: 3512006 | H63: =G63-F63 -> 293218 | I63: 3390280
A64: 44091 | B64: 4 | C64: 2 | D64: 4 | E64: رسوم قضائية | F64: 3926000 | G64: 5097901 | H64: =G64-F64 -> 1171901 | I64: 4429719
A65: 44092 | B65: 4 | C65: 2 | D65: 4 | E65: رسوم التوثيق | F65: 500000 | G65: 571020 | H65: =G65-F65 -> 71020 | I65: 508223
A66: 44093 | B66: 4 | C66: 2 | D66: 4 | E66: رسوم تصديق المعاملات الرسمية | F66: 1230000 | G66: 2424129 | H66: =G66-F66 -> 1194129 | I66: 2058117
... A69: 44131 | B69: 4 | C69: 2 | D69: 4 | E69: رسوم فحص الذهب | F69: 141750 | G69: 199195 | H69: =G69-F69 -> 57445 | I69: 131580
A70: 44171 | B70: 4 | C70: 2 | D70: 4 | E70: رسوم المغادرة | F70: 0 | G70: 0 | H70: =G70-F70 -> 0
A71: 5- الإيرادات مصنفة حسب الأبواب والأقسام والبنود (تتمة)
A72: (دينار بحريني)
A73: التبويــب | E73: البيـــان | F73: 2013 | I73: 2012 الفعلي
A74: بند | B74: قسم | C74: باب | D74: نوع | F74: الاعتماد | G74: الفعلي | H74: الفرق
A75: 44132 | B75: 4 | C75: 2 | D75: 4 | E75: رسوم فحص اللؤلؤ | F75: 26250 | G75: 42490 | H75: =G75-F75 -> 16240 | I75: 29362
A76: 44151 | B76: 4 | C76: 2 | D76: 4 | E76: رسوم المواصفات والمقاييس | F76: 5000 | G76: 6438 | H76: =G76-F76 -> 1438 | I76: 3916
A77: 44152 | B77: 4 | C77: 2 | D77: 4 | E77: رسوم التصميمات والعلامات التجارية | F77: 1600000 | G77: 1349574 | H77: =G77-F77 -> -250426 | I77: 1371522
A78: 44153 | B78: 4 | C78: 2 | D78: 4 | E78: رسوم تأشير السجل والعلامات التجارية | F78: 3000000 | G78: 3254755 | H78: =G78-F78 -> 254755 | I78: 2492495
A79: 44171 | B79: 4 | C79: 2 | D79: 4 | E79: رسوم المغادرة | F79: 57750 | G79: 1195076 | H79: =G79-F79 -> 1137326 | I79: 0
A80: 44172 | B80: 4 | C80: 2 | D80: 4 | E80: رسوم التصاريح | F80: 144429 | G80: 939758 | H80: =G80-F80 -> 795329 | I80: 329798
A81: 44191 | B81: 4 | C81: 2 | D81: 4 | E81: رسوم المناقصات | F81: 193865 | G81: 194415 | H81: =G81-F81 -> 550 | I81: 156375
A82: 44211 | B82: 4 | C82: 2 | D82: 4 | E82: رسوم الأجهزة اللآسلكية | F82: 576000 | G82: 893524 | H82: =G82-F82 -> 317524 | I82: 359876
A83: 44212 | B83: 4 | C83: 2 | D83: 4 | E83: حقوق توزيع أشرطة الفيديو | F83: 3000 | G83: 8110 | H83: =G83-F83 -> 5110 | I83: 3831
A84: 44901 | B84: 4 | C84: 2 | D84: 4 | E84: رسوم الجهة التحاسبية | F84: 0 | G84: 0 | H84: =G84-F84 -> 0 | I84: 0
A85: 44902 | B85: 4 | C85: 2 | D85: 4 | E85: رسوم اعتماد النوعية | F85: 0 | G85: 0 | H85: =G85-F85 -> 0 | I85: 0
A86: 44904 | B86: 4 | C86: 2 | D86: 4 | E86: رسوم رخص الوصول والمغادرة للسفن | F86: 780000 | G86: 543125 | H86: =G86-F86 -> -236875 | I86: 703387
... A88: 44908 | B88: 4 | C88: 2 | D88: 4 | E88: رسوم تقديم الطلبات | F88: 290000 | G88: 261418 | H88: =G88-F88 -> -28582 | I88: 256116
C89: 3 | D89: 4 | E89: المنتجات الخدمية والسلعية الحكومية | F89: =F90+F136 -> 51875230 | G89: =G90+G136 -> 52604109 | H89: =G89-F89 -> 728879 | I89: =I90+I136 -> 45020826
B90: 1 | C90: 3 | D90: 4 | E90: المنتجات الخدمية الحكومية | F90: =SUM(F91:F135) -> 51384380 | G90: =SUM(G91:G135) -> 52006228 | H90: =G90-F90 -> 621848 | I90: =SUM(I91:I135) -> 44489031
A91: 40132 | B91: 1 | C91: 3 | D91: 4 | E91: مبيعات المطبوعات | F91: 0 | H91: =G91-F91 -> 0
A92: 40135 | B92: 1 | C92: 3 | D92: 4 | E92: مبيعات الإستمارات والأوراق الرسمية | F92: 0 | G92: 0 | H92: =G92-F92 -> 0 | I92: 0
A93: 40136 | B93: 1 | C93: 3 | D93: 4 | E93: تزويد المطار بالمعلومات | F93: 0 | H93: =G93-F93 -> 0
A94: 41011 | B94: 1 | C94: 3 | D94: 4 | E94: الغرف الخاصة بالمستشفيات | F94: 550000 | G94: 466034 | H94: =G94-F94 -> -83966 | I94: 475346
A95: 41012 | B95: 1 | C95: 3 | D95: 4 | E95: الرعاية الصحية الأساسية | F95: 9800000 | G95: 9155804 | H95: =G95-F95 -> -644196 | I95: 9298805
A96: 41013 | B96: 1 | C96: 3 | D96: 4 | E96: خدمات الصحة العامة | F96: 1425000 | G96: 1399255 | H96: =G96-F96 -> -25745 | I96: 1403112
A97: 41014 | B97: 1 | C97: 3 | D97: 4 | E97: الخدمات الطبية الخاصة | F97: 15000 | G97: 11636 | H97: =G97-F97 -> -3364 | I97: 11339
A98: 41015 | B98: 1 | C98: 3 | D98: 4 | E98: رسوم علاج اصابات حوادث الطرق | F98: 5000 | G98: 419 | H98: =G98-F98 -> -4581 | I98: 0
A99: 41016 | B99: 1 | C99: 3 | D99: 4 | E99: الطب الخاص المحدود | F99: 10000 | G99: 26283 | H99: =G99-F99 -> 16283 | I99: 22289
A100: 41017 | B100: 1 | C100: 3 | D100: 4 | E100: المرضى الخارجيون | F100: 1040000 | G100: 1100859 | H100: =G100-F100 -> 60859 | I100: 1034283
A101: 41018 | B101: 1 | C101: 3 | D101: 4 | E101: القومسيون الطبي | F101: 310000 | G101: 240736 | H101: =G101-F101 -> -69264 | I101: 286800
A102: 41019 | B102: 1 | C102: 3 | D102: 4 | E102: رسوم علاج اصابات العمل | F102: 270000 | G102: 270000 | H102: =G102-F102 -> 0 | I102: 270000
A103: 41020 | B103: 1 | C103: 3 | D103: 4 | E103: رسوم الفحص الطبي للعمالة الجديدة | F103: 440000 | G103: 421290 | H103: =G103-F103 -> -18710 | I103: 447251
...

Sheet الميزانية المعتمدة
A1: 6- ميزانية المصروفات المتكررة والمشاريع
I2: (دينار بحريني)
A3: البيـان | B3: الاعتمادات الأصلية | C3: الاعتماد الإضافي | D3: التعديل | E3: الاعتمادات بعد التعديل | F3: الإعتمادات المدورة من سنوات سابقة | G3: الاعتمادات المتوفرة | H3: المصروفات الفعلية | I3: الوفر (التجاوز)
A4: المصروفات المتكررة
A5: القوى العاملة | B5: 1311952074 | C5: - | D5: 18414943 | E5: =SUM(B5:D5) -> 1330367017 | F5: 0 | G5: =F5+E5 -> 1330367017 | H5: ='الحساب الختامي'!D15 -> 1300403906 | I5: =G5-H5 -> 29963111
A6: الخدمات | B6: 168006952 | C6: - | D6: 28673654 | E6: =SUM(B6:D6) -> 196680606 | F6: 0 | G6: =F6+E6 -> 196680606 | H6: ='الحساب الختامي'!D16 -> 210798858 | I6: =G6-H6 -> -14118252
A7: السلع الإستهلاكية | B7: 116475696 | C7: - | D7: 17015845 | E7: =SUM(B7:D7) -> 133491541 | F7: 0 | G7: =F7+E7 -> 133491541 | H7: ='الحساب الختامي'!D17 -> 131207934 | I7: =G7-H7 -> 2283607
A8: السلع الرأسمالية | B8: 31830904 | C8: - | D8: 4998661 | E8: =SUM(B8:D8) -> 36829565 | F8: 0 | G8: =F8+E8 -> 36829565 | H8: ='الحساب الختامي'!D18 -> 30769606 | I8: =G8-H8 -> 6059959
A9: الصيانة | B9: 64359424 | C9: - | D9: 676766 | E9: =SUM(B9:D9) -> 65036190 | F9: 0 | G9: =F9+E9 -> 65036190 | H9: ='الحساب الختامي'!D19 -> 66514923 | I9: =G9-H9 -> -1478733
A10: نفقات تحويلية | B10: 916726150 | C10: - | D10: -84299320 | E10: =SUM(B10:D10) -> 832426830 | F10: 0 | G10: =F10+E10 -> 832426830 | H10: ='الحساب الختامي'!D20 -> 694960427 | I10: =G10-H10 -> 137466403
A11: الإعانات وتسديد فوائد القروض | B11: 443240800 | C11: - | D11: 14519451 | E11: =SUM(B11:D11) -> 457760251 | F11: 0 | G11: =F11+E11 -> 457760251 | H11: ='الحساب الختامي'!D21 -> 442388256 | I11: =G11-H11 -> 15371995
A12: مجموع المصروفات المتكررة | B12: =SUM(B5:B11) -> 3052592000 | C12: - | D12: =SUM(D5:D11) -> 0 | E12: =SUM(E5:E11) -> 3052592000 | F12: =SUM(F5:F11) -> 0 | G12: =SUM(G5:G11) -> 3052592000 | H12: =SUM(H5:H11) -> 2877043910 | I12: =SUM(I5:I11) -> 175548090
A13: مصروفات المشاريع | B13: 571500000 | C13: - | D13: 0 | E13: =B13+D13 -> 571500000 | F13: 276593577 | G13: =F13+E13 -> 848093577 | H13: ='الحساب الختامي'!D23 -> 476701208 | I13: =G13-H13 -> 371392369
A14: المجموع | B14: =B13+B12 -> 3624092000 | C14: - | D14: =D13+D12 -> 0 | E14: =E13+E12 -> 3624092000 | F14: =F13+F12 -> 276593577 | G14: =G13+G12 -> 3900685577 | H14: =H13+H12 -> 3353745118 | I14: =I13+I12 -> 546940459

Sheet مناقلات الميزانية 
A1: 7- الميزانية الأصلية والتعديل والمناقلات للمصروفات المتكررة
G2: (دينار بحريني)
A3: البيـان | B3: الاعتمادات الأصلية | C3: الاعتماد الإضافي | D3: التعديل | E3: الاعتمادات بعد التعديل | F3: الاعتمادات المدورة من سنوات سابقة | G3: الاعتمادات المتوفرة
A5: قطاع الإدارة العامة | B5: =SUM(B6:B25) -> 1009150000 | C5: =SUM(C6:C25) -> 0 | D5: =SUM(D6:D25) -> 30993774 | E5: =SUM(E6:E25) -> 1040143774 | F5: =SUM(F6:F25) -> 0 | G5: =SUM(G6:G25) -> 1040143774
A6: ديوان صاحب السمو الملكي رئيس الوزراء | B6: 18151000 | C6: 0 | D6: 0 | E6: =SUM(B6:D6) -> 18151000 | F6: 0 | G6: =E6+F6 -> 18151000
A7: مكتب صاحب السمو الملكي النائب الأول لرئيس مجلس الوزراء | B7: 2000000 | C7: 0 | D7: 0 | E7: =SUM(B7:D7) -> 2000000 | F7: 0 | G7: =E7+F7 -> 2000000
A8: مكاتب نواب صاحب السمو الملكي رئيس الوزراء | B8: 3523000 | C8: 0 | D8: 39940 | E8: =SUM(B8:D8) -> 3562940 | F8: 0 | G8: =E8+F8 -> 3562940
A9: مكاتب مستشاري صاحب السمو الملكي رئيس الوزراء | B9: 723000 | C9: 0 | D9: 337183 | E9: =SUM(B9:D9) -> 1060183 | F9: 0 | G9: =E9+F9 -> 1060183
A10: مكتب وزير الدولة لشئون المتابعة | B10: 359000 | C10: 0 | D10: 0 | E10: =SUM(B10:D10) -> 359000 | F10: 0 | G10: =E10+F10 -> 359000
A11: وزارة الدفاع | B11: 464970000 | C11: 0 | D11: 127894 | E11: =SUM(B11:D11) -> 465097894 | F11: 0 | G11: =E11+F11 -> 465097894
A12: وزارة الداخلية | B12: 330000000 | C12: 0 | D12: 0 | E12: =SUM(B12:D12) -> 330000000 | F12: 0 | G12: =E12+F12 -> 330000000
A13: شئون الجمارك | B13: 16005000 | C13: 0 | D13: 0 | E13: =SUM(B13:D13) -> 16005000 | F13: 0 | G13: =E13+F13 -> 16005000
A14: جهاز الأمن الوطني | B14: 25000000 | C14: 0 | D14: 7200000 | E14: =SUM(B14:D14) -> 32200000 | F14: 0 | G14: =E14+F14 -> 32200000
A15: الحرس الوطني | B15: 34200000 | C15: 0 | D15: 6000000 | E15: =SUM(B15:D15) -> 40200000 | F15: 0 | G15: =E15+F15 -> 40200000
A16: هيئة التشريع والإفتاء القانوني | B16: 2375000 | C16: 0 | D16: 0 | E16: =SUM(B16:D16) -> 2375000 | F16: 0 | G16: =E16+F16 -> 2375000
A17: وزارة الخارجية | B17: 30246000 | C17: 0 | D17: 4776820 | E17: =SUM(B17:D17) -> 35022820 | F17: 0 | G17: =E17+F17 -> 35022820
... A25: مستشفى الملك حمد | B25: 35000000 | C25: 0 | D25: 7434378 | E25: =SUM(B25:D25) -> 42434378 | F25: 0 | G25: =E25+F25 -> 42434378
A27: قطاع الخدمات الإجتماعية | B27: =SUM(B28:B37) -> 624172000 | C27: =SUM(C28:C37) -> 0 | D27: =SUM(D28:D37) -> 44202010 | E27: =SUM(E28:E37) -> 668374010 | F27: =SUM(F28:F37) -> 0 | G27: =SUM(G28:G37) -> 668374010
A28: وزارة الثقافة | B28: 7535000 | C28: 0 | D28: 1378299 | E28: =SUM(B28:D28) -> 8913299 | F28: 0 | G28: =E28+F28 -> 8913299
A29: هيئة شئون الإعلام | B29: 19154000 | C29: 0 | D29: 3750000 | E29: =SUM(B29:D29) -> 22904000 | F29: 0 | G29: =E29+F29 -> 22904000
A30: وزارة التربية والتعليم | B30: 325100000 | C30: 0 | D30: 0 | E30: =SUM(B30:D30) -> 325100000 | F30: 0 | G30: =E30+F30 -> 325100000
A31: وزارة الصحة | B31: 213912000 | C31: 0 | D31: 35863333 | E31: =SUM(B31:D31) -> 249775333 | F31: 0 | G31: =E31+F31 -> 249775333
A32: وزارة العمل | B32: 6067000 | C32: 0 | D32: 97974 | E32: =SUM(B32:D32) -> 6164974 | F32: 0 | G32: =E32+F32 -> 6164974
A33: وزارة التنمية الإجتماعية | B33: 24000000 | C33: 0 | D33: 2712404 | E33: =SUM(B33:D33) -> 26712404 | F33: 0 | G33: =E33+F33 -> 26712404
A34: المؤسسة العامة للشباب والرياضة | B34: 13093000 | C34: 0 | D34: 0 | E34: =SUM(B34:D34) -> 13093000 | F34: 0 | G34: =E34+F34 -> 13093000
A35: الأمانة العامة للمجلس الأعلى للشباب والرياضة | B35: 13011000 | C35: 0 | D35: 0 | E35: =SUM(B35:D35) -> 13011000 | F35: 0 | G35: =E35+F35 -> 13011000
A36: وزير الدولة لشئون الإعلام | B36: 300000 | C36: 0 | D36: 400000 | E36: =SUM(B36:D36) -> 700000 | F36: 0 | G36: =E36+F36 -> 700000
A37: وزارة شئون حقوق الإنسان | B37: 2000000 | C37: 0 | D37: 0 | E37: =SUM(B37:D37) -> 2000000 | F37: 0 | G37: =E37+F37 -> 2000000
A39: قطاع الخدمات الإقتصادية | B39: =SUM(B40:B42) -> 22713000 | C39: 0 | D39: =SUM(D40:D42) -> 67000 | E39: =SUM(E40:E42) -> 22780000 | F39: 0 | G39: =SUM(G40:G42) -> 22780000
A40: وزارة الصناعة والتجارة | B40: 11723000 | C40: 0 | D40: 0 | E40: =SUM(B40:D40) -> 11723000 | F40: 0 | G40: =E40+F40 -> 11723000
A41: الهيئة الوطنية للنفط والغاز | B41: 2652000 | C41: 0 | D41: 67000 | E41: =SUM(B41:D41) -> 2719000 | F41: 0 | G41: =E41+F41 -> 2719000
A42: وزارة المالية | B42: 8338000 | C42: 0 | D42: 0 | E42: =SUM(B42:D42) -> 8338000 | F42: 0 | G42: =E42+F42 -> 8338000
A43: قطاع البنية الأساسية | B43: =SUM(B44:B53) -> 415448000 | C43: =SUM(C44:C53) -> 0 | D43: =SUM(D44:D53) -> 1060593 | E43: =SUM(E44:E53) -> 416508593 | F43: =SUM(F44:F53) -> 0 | G43: =SUM(G44:G53) -> 416508593
A44: وزارة الإسكان | B44: 5000000 | C44: 0 | D44: 360542 | E44: =SUM(B44:D44) -> 5360542 | F44: 0 | G44: =E44+F44 -> 5360542
A45: 7- الميزانية الأصلية والتعديل والمناقلات للمصروفات المتكررة (تتمة)
G46: (دينار بحريني)
A47: البيـان | B47: الاعتمادات الأصلية | C47: الاعتماد الإضافي | D47: التعديل | E47: الاعتمادات بعد التعديل | F47: الاعتمادات المدورة من سنوات سابقة | G47: الاعتمادات المتوفرة
A49: وزارة الأشغال | B49: 29938000 | C49: 0 | D49: 565971 | E49: =SUM(B49:D49) -> 30503971 | F49: 0 | G49: =E49+F49 -> 30503971
A50: وزير الدولة لشئون الكهرباء والماء | B50: 300000 | C50: 0 | D50: 0 | E50: =SUM(B50:D50) -> 300000 | F50: 0 | G50: =E50+F50 -> 300000
A51: هيئة الكهرباء والماء | B51: 350000000 | C51: 0 | D51: 0 | E51: =SUM(B51:D51) -> 350000000 | F51: 0 | G51: =E51+F51 -> 350000000
A52: وزارة المواصلات | B52: 29910000 | C52: 0 | D52: 0 | E52: =SUM(B52:D52) -> 29910000 | F52: 0 | G52: =E52+F52 -> 29910000
A53: وزير الدولة لشئون الاتصالات | B53: 300000 | C53: 0 | D53: 134080 | E53: =SUM(B53:D53) -> 434080 | F53: 0 | G53: =E53+F53 -> 434080
A55: الميزانيات المتنوعة | B55: =SUM(B56:B61) -> 34822000 | C55: =SUM(C56:C61) -> 0 | D55: =SUM(D56:D61) -> 8583612 | E55: =SUM(E56:E61) -> 43405612 | F55: =SUM(F56:F61) -> 0 | G55: =SUM(G56:G61) -> 43405612
A56: وزارة شئون البلديات والتخطيط العمراني - الإدارة العامة للتخطيط العمراني وإدارة الإستملاك والتعويض وشئون الزراعة والثروة البحرية | B56: 11744000 | C56: 0 | D56: 6000000 | E56: =SUM(B56:D56) -> 17744000 | F56: 0 | G56: =E56+F56 -> 17744000
A57: نادي راشد للفروسية وسباق الخيل | B57: 1452000 | C57: 0 | D57: 0 | E57: =SUM(B57:D57) -> 1452000 | F57: 0 | G57: =E57+F57 -> 1452000
A58: المجلس الأعلى للبيئة | B58: 4428000 | C58: 0 | D58: 2465974 | E58: =SUM(B58:D58) -> 6893974 | F58: 0 | G58: =E58+F58 -> 6893974
A59: مركز الشيخ محمد بن خليفة آل خليفة التخصصي للقلب (إيضاح رقم 13) | B59: 14700000 | C59: 0 | D59: 78 | E59: =SUM(B59:D59) -> 14700078 | F59: 0 | G59: =E59+F59 -> 14700078
A60: وزارة شئون مجلسي الشورى والنواب | B60: 1450000 | C60: 0 | D60: 41000 | E60: =SUM(B60:D60) -> 1491000 | F60: 0 | G60: =E60+F60 -> 1491000
A61: مجلس المناقصات والمزايدات | B61: 1048000 | C61: 0 | D61: 76560 | E61: =SUM(B61:D61) -> 1124560 | F61: 0 | G61: =E61+F61 -> 1124560
A63: الميزانيات التحويلية وحسابات تحت اشراف وزارة المالية | B63: =B64+B106 -> 946287000 | C63: =C64+C106 -> 0 | D63: =D64+D106 -> -84906989 | E63: =E64+E106 -> 861380011 | F63: =F64+F106 -> 0 | G63: =G64+G106 -> 861380011
A64: الميزانيات التحويلية | B64: =SUM(B65:B105) -> 263101000 | C64: =SUM(C65:C105) -> 0 | D64: =SUM(D65:D105) -> 8503440 | E64: =SUM(E65:E105) -> 271604440 | F64: =SUM(F65:F105) -> 0 | G64: =SUM(G65:G105) -> 271604440
A65: المجالس البلدية | B65: 612000 | C65: 0 | D65: 0 | E65: =SUM(B65:D65) -> 612000 | F65: 0 | G65: =E65+F65 -> 612000
A66: المحكمة الدستورية | B66: 2361000 | C66: 0 | D66: 180005 | E66: =SUM(B66:D66) -> 2541005 | F66: 0 | G66: =E66+F66 -> 2541005
A67: صندوق النفقة | B67: 250000 | C67: 0 | D67: 0 | E67: =SUM(B67:D67) -> 250000 | F67: 0 | G67: =E67+F67 -> 250000
A68: غرفة البحرين لتسوية المنازعات الاقتصادية والمالية والإستثمارية | B68: 1500000 | C68: 0 | D68: 0 | E68: =SUM(B68:D68) -> 1500000 | F68: 0 | G68: =E68+F68 -> 1500000
A69: هيئة الحكومة الإلكترونية | B69: 4072000 | C69: 0 | D69: 0 | E69: =SUM(B69:D69) -> 4072000 | F69: 0 | G69: =E69+F69 -> 4072000
A70: الهيئه الوطنية لتنظيم المهن والخدمات الصحية | B70: 1500000 | C70: 0 | D70: 0 | E70: =SUM(B70:D70) -> 1500000 | F70: 0 | G70: =E70+F70 -> 1500000
A71: الأوقاف السنية | B71: 2700000 | C71: 0 | D71: 0 | E71: =SUM(B71:D71) -> 2700000 | F71: 0 | G71: =E71+F71 -> 2700000
A72: الأوقاف الجعفرية | B72: 2700000 | C72: 0 | D72: 0 | E72: =SUM(B72:D72) -> 2700000 | F72: 0 | G72: =E72+F72 -> 2700000
A73: شركة بورصة البحرين | B73: 2000000 | C73: 0 | D73: 0 | E73: =SUM(B73:D73) -> 2000000 | F73: 0 | G73: =E73+F73 -> 2000000
A74: جامعة البحرين | B74: 45278000 | C74: 0 | D74: 3303000 | E74: =SUM(B74:D74) -> 48581000 | F74: 0 | G74: =E74+F74 -> 48581000
A75: كلية المعلمين (جامعة البحرين) | B75: 6000000 | C75: 0 | D75: 0 | E75: =SUM(B75:D75) -> 6000000 | F75: 0 | G75: =E75+F75 -> 6000000
A76: بوليتكنك البحرين | B76: 13100000 | C76: 0 | D76: 0 | E76: =SUM(B76:D76) -> 13100000 | F76: 0 | G76: =E76+F76 -> 13100000
... A105: بدالة انترنت البحرين | B105: 2000000 | C105: 0 | D105: 0 | E105: =SUM(B105:D105) -> 2000000 | F105: 0 | G105: =E105+F105 -> 2000000
A106: حسابات تحت إشراف وزارة المالية | B106: =SUM(B107:B121) -> 683186000 | C106: =SUM(C107:C121) -> 0 | D106: =SUM(D107:D121) -> -93410429 | E106: =SUM(E107:E121) -> 589775571 | F106: =SUM(F107:F121) -> 0 | G106: =SUM(G107:G121) -> 589775571
A107: فوائد الدين الحكومي | B107: 180000000 | C107: 0 | D107: 12262944 | E107: =SUM(B107:D107) -> 192262944 | F107: 0 | G107: =E107+F107 -> 192262944
A108: نصيب البحرين في مجلس التعاون | B108: 7400000 | C108: 0 | D108: 503068 | E108: =SUM(B108:D108) -> 7903068 | F108: 0 | G108: =E108+F108 -> 7903068
A109: مساعدات حكومية | B109: 14405000 | C109: 0 | D109: 0 | E109: =SUM(B109:D109) -> 14405000 | F109: 0 | G109: =E109+F109 -> 14405000
A110: حصة ومساهمة الحكومة في أنظمة التقاعد | B110: 800000 | C110: 0 | D110: 0 | E110: =SUM(B110:D110) -> 800000 | F110: 0 | G110: =E110+F110 -> 800000
A111: إشتراكات ومساهمات في منظمات الأمم المتحدة | B111: 2650000 | C111: 0 | D111: 612169 | E111: =SUM(B111:D111) -> 3262169 | F111: 0 | G111: =E111+F111 -> 3262169
A112: إلتزامات متنوعة | B112: 8500000 | C112: 0 | D112: 10780612 | E112: =SUM(B112:D112) -> 19280612 | F112: 0 | G112: =E112+F112 -> 19280612
A113: علاوة تحسين مستوى المعيشة للمتقاعدين | B113: 76955000 | C113: 0 | D113: 920907 | E113: =SUM(B113:D113) -> 77875907 | F113: 0 | G113: =E113+F113 -> 77875907
A114: تقديرات أخرى للوزارات والجهات الحكومية | B114: 124466000 | C114: 0 | D114: -98732815 | E114: =SUM(B114:D114) -> 25733185 | F114: 0 | G114: =E114+F114 -> 25733185
A115: تمويل الأخطار | B115: 600000 | C115: 0 | D115: 0 | E115: =SUM(B115:D115) -> 600000 | F115: 0 | G115: =E115+F115 -> 600000
A116: الهيئة العامة للتأمين الإجتماعي | B116: 16500000 | C116: 0 | D116: 219491 | E116: =SUM(B116:D116) -> 16719491 | F116: 0 | G116: =E116+F116 -> 16719491
A117: برنامج التقاعد المبكر | B117: 14000000 | C117: 0 | D117: 0 | E117: =SUM(B117:D117) -> 14000000 | F117: 0 | G117: =E117+F117 -> 14000000
A118: حصة الحكومة في التأمين ضد التعطل | B118: 17000000 | C118: 0 | D118: 1378 | E118: =SUM(B118:D118) -> 17001378 | F118: 0 | G118: =E118+F118 -> 17001378
... A121: حساب الاحتياطي (3%) | B121: 88910000 | C121: 0 | D121: -19978183 | E121: =SUM(B121:D121) -> 68931817 | F121: 0 | G121: =E121+F121 -> 68931817
A122: دعم الأسر البحرينية | E122: =SUM(B122:D122) -> 0 | F122: 0 | G122: =E122+F122 -> 0
A123: السلامة الوطنية | E123: =SUM(B123:D123) -> 0 | F123: 0 | G123: =E123+F123 -> 0
A124: الإجمالي | B124: =B5+B27+B39+B43+B55+B63 -> 3052592000 | C124: =C5+C27+C39+C43+C55+C63 -> 0 | D124: =D5+D27+D39+D43+D55+D63 -> 0 | E124: =E5+E27+E39+E43+E55+E63 -> 3052592000 | F124: =F5+F27+F39+F43+F55+F63 -> 0 | G124: =G5+G27+G39+G43+G55+G63 -> 3052592000

Sheet مصروفات الوزارات
A1: 8- المصروفات المتكررة مصنفة حسب الأبواب والوزارات والجهات الحكومية
K2: (دينار بحريني)
A3: الوزارة أو الجهة الحكومية | B3: قوى عاملة | C3: خدمات | D3: سلع إستهلاكية | E3: سلع رأسمالية | F3: صيانة | G3: نفقات تحويلية | H3: الإعانات وتسديد فوائد القروض | I3: المجموع | J3: الاعتماد | K3: الفعلي 2012
A4: ديوان صاحب السمو الملكي رئيس الوزراء | B4: 3759498 | C4: 3334202 | D4: 206618 | E4: 114595 | F4: 16683 | G4: 10500000 | H4: 0 | I4: =SUM(B4:H4) -> 17931596 | J4: 18151000 | K4: 18614724
A5: وزارة الدفاع (إيضاح رقم 13) | B5: 332022069 | C5: 39853087 | D5: 40169604 | E5: 12036644 | F5: 40196596 | G5: 115694 | H5: 704200 | I5: =SUM(B5:H5) -> 465097894 | J5: 465097894 | K5: 408760059
A6: وزارة الداخلية | B6: 286731690 | C6: 20888939 | D6: 6734610 | E6: 4371762 | F6: 6004639 | G6: 0 | H6: 0 | I6: =SUM(B6:H6) -> 324731640 | J6: 330000000 | K6: 313610327
A7: جهاز الأمن الوطني | B7: 0 | C7: 0 | D7: 0 | E7: 0 | F7: 0 | G7: 32200000 | H7: 0 | I7: =SUM(B7:H7) -> 32200000 | J7: 32200000 | K7: 27062969
A8: هيئة التشريع والإفتاء القانوني | B8: 1757048 | C8: 370931 | D8: 18024 | E8: 47403 | F8: 28282 | G8: 0 | H8: 0 | I8: =SUM(B8:H8) -> 2221688 | J8: 2375000 | K8: 1920497
A9: وزارة الخارجية | B9: 20693190 | C9: 12505188 | D9: 611513 | E9: 425376 | F9: 720000 | G9: 0 | H9: 67553 | I9: =SUM(B9:H9) -> 35022820 | J9: 35022820 | K9: 32480603
A10: وزارة العدل والشئون الإسلامية والأوقاف - شئون العدل | B10: 10417232 | C10: 3346472 | D10: 228214 | E10: 234748 | F10: 543992 | G10: 0 | H10: 198000 | I10: =SUM(B10:H10) -> 14968658 | J10: 14968658 | K10: 21751595
A11: وزارة التربية والتعليم | B11: 273320858 | C11: 34278171 | D11: 4597693 | E11: 2214332 | F11: 4395100 | G11: 0 | H11: 77054 | I11: =SUM(B11:H11) -> 318883208 | J11: 325100000 | K11: 294072020
A12: وزارة الصحة | B12: 147651152 | C12: 40496752 | D12: 55639591 | E12: 1184595 | F12: 4794243 | G12: 0 | H12: 9000 | I12: =SUM(B12:H12) -> 249775333 | J12: 249775333 | K12: 226627729
A13: وزارة شئون البلديات والتخطيط العمراني - الإدارة العامة للتخطيط العمراني وإدارة الإستملاك والتعويض وشئون الزراعة والثروة البحرية | B13: 9098439 | C13: 1641888 | D13: 488397 | E13: 92571 | F13: 184098 | G13: 6000000 | H13: 0 | I13: =SUM(B13:H13) -> 17505393 | J13: 17744000 | K13: 16836412
A14: وزارة العمل | B14: 4949991 | C14: 973524 | D14: 159758 | E14: 44228 | F14: 37473 | G14: 0 | H14: 0 | I14: =SUM(B14:H14) -> 6164974 | J14: 6164974 | K14: 5866092
A15: المؤسسة العامة للشباب والرياضة | B15: 3148799 | C15: 3376187 | D15: 132777 | E15: 237303 | F15: 466672 | G15: 3046792 | H15: 1928707 | I15: =SUM(B15:H15) -> 12337237 | J15: 13093000 | K15: 10546805
... A24: وزير الدولة لشئون الكهرباء والماء | B24: 120883 | C24: 65458 | D24: 5258 | E24: 460 | F24: 0 | G24: 0 | H24: 0 | I24: =SUM(B24:H24) -> 192059 | J24: 300000 | K24: 52258
A25: وزارة الثقافة | I25: =SUM(B25:H25) -> 0 | J25: 0 | K25: 0
A26: 8- المصروفات المتكررة مصنفة حسب الأبواب والوزارات والجهات الحكومية (تتمة)
K27: (دينار بحريني)
A28: الوزارة أو الجهة الحكومية | B28: قوى عاملة | C28: خدمات | D28: سلع إستهلاكية | E28: سلع رأسمالية | F28: صيانة | G28: نفقات تحويلية | H28: الإعانات وتسديد فوائد القروض | I28: المجموع | J28: الاعتماد | K28: الفعلي 2012
A30: المجلس الأعلى للبيئة | B30: 4409445 | C30: 1668638 | D30: 194264 | E30: 63961 | F30: 557666 | G30: 0 | H30: 0 | I30: =SUM(B30:H30) -> 6893974 | J30: 6893974 | K30: 7439809
A31: مركز الشيخ محمد بن خليفة آل خليفة التخصصي للقلب (إيضاح رقم 13) | B31: 6561323 | C31: 261059 | D31: 6053810 | E31: 1362834 | F31: 461052 | G31: 0 | H31: 0 | I31: =SUM(B31:H31) -> 14700078 | J31: 14700078 | K31: 12866168
A32: وزارة الأشغال | B32: 25512166 | C32: 4161997 | D32: 234310 | E32: 258485 | F32: 337013 | G32: 0 | H32: 0 | I32: =SUM(B32:H32) -> 30503971 | J32: 30503971 | K32: 30288450
A33: هيئة الكهرباء والماء (إيضاح رقم 12) | B33: 0 | C33: 0 | D33: 0 | E33: 0 | F33: 0 | G33: 350000000 | H33: 0 | I33: =SUM(B33:H33) -> 350000000 | J33: 350000000 | K33: 297382183
A34: وزارة المواصلات | B34: 15367249 | C34: 11247418 | D34: 189471 | E34: 204443 | F34: 927862 | G34: 0 | H34: 0 | I34: =SUM(B34:H34) -> 27936443 | J34: 29910000 | K34: 8775878
A35: الحرس الوطنى | B35: 38230224 | C35: 587422 | D35: 644707 | E35: 143527 | F35: 146106 | G35: 0 | H35: 448006 | I35: =SUM(B35:H35) -> 40199992 | J35: 40200000 | K35: 34160197
A36: الهيئة الوطنية للنفط والغاز | B36: 1612580 | C36: 955681 | D36: 20199 | E36: 65993 | F36: 23932 | G36: 0 | H36: 0 | I36: =SUM(B36:H36) -> 2678385 | J36: 2719000 | K36: 2546861
A37: شئون الطيران المدني | B37: 0 | C37: 0 | D37: 0 | E37: 0 | F37: 0 | G37: 0 | H37: 0 | I37: =SUM(B37:H37) -> 0 | J37: 0 | K37: 14143585
A38: وزير الدولة لشئون الاتصالات | B38: 153329 | C38: 222987 | D38: 37805 | E38: 19959 | F38: 0 | G38: 0 | H38: 0 | I38: =SUM(B38:H38) -> 434080 | J38: 434080 | K38: 0
A39: وزارة شئون مجلسي الشورى والنواب | B39: 1104120 | C39: 337054 | D39: 10377 | E39: 20350 | F39: 634 | G39: 0 | H39: 0 | I39: =SUM(B39:H39) -> 1472535 | J39: 1491000 | K39: 1354094
A40: وزير الدولة لشئون الإعلام | B40: 334285 | C40: 61884 | D40: 13095 | E40: 10180 | F40: 0 | G40: 0 | H40: 0 | I40: =SUM(B40:H40) -> 419444 | J40: 700000 | K40: 273203
A41: وزارة شئون حقوق الإنسان | B41: 478813 | C41: 408979 | D41: 29609 | E41: 108792 | F41: 3176 | G41: 0 | H41: 0 | I41: =SUM(B41:H41) -> 1029369 | J41: 2000000 | K41: 198514
... A55: مستشفى الملك حمد (إيضاح رقم 14،13) | B55: 21452076 | C55: 906395 | D55: 10765425 | E55: 5954272 | F55: 3356210 | G55: 0 | H55: 0 | I55: =SUM(B55:H55) -> 42434378 | J55: 42434378 | K55: 31644924
A56: المجموع | B56: =SUM(B4:B55) -> 1300403906 | C56: =SUM(C4:C55) -> 210798858 | D56: =SUM(D4:D55) -> 131207934 | E56: =SUM(E4:E55) -> 30769606 | F56: =SUM(F4:F55) -> 66514923 | G56: =SUM(G4:G55) -> 694960427 | H56: =SUM(H4:H55) -> 442388256 | I56: =SUM(I4:I55) -> 2877043910 | ... K56: =SUM(K4:K55) -> 2523859250

Sheet تفصيل المصروفات 
A1: 9- المصروفات المتكررة مصنفة حسب الأبواب والأقسام والبنود
F2: (دينار بحريني)
A3: التبويــب | E3: البيـــان | F3: 2013 | I3: 2012 الفعلي
A4: بند | B4: قسم | C4: باب | D4: نوع | F4: الاعتماد | G4: الفعلي | H4: الفرق
C5: 1 | D5: 6 | E5: نفقات القوى العاملة | F5: =F6+F23+F39+F47+F58+F68+F81+F90 -> 1330367017 | G5: =G6+G23+G39+G47+G58+G68+G81+G90 -> 1300403906 | H5: =F5-G5 -> 29963111 | I5: =I6+I23+I39+I47+I58+I68+I81+I90 -> 1204151011
B6: 1 | C6: 1 | D6: 6 | E6: وظائف البحرينيين | F6: =SUM(F7:F22) -> 992934960 | G6: =SUM(G7:G22) -> 972206747 | H6: =F6-G6 -> 20728213 | I6: =SUM(I7:I22) -> 918592583
A7: 60011 | B7: 1 | C7: 1 | D7: 6 | E7: الرواتب الأساسية | F7: 798247813 | G7: 768711715 | H7: =F7-G7 -> 29536098 | I7: 729478294
A8: 60021 | B8: 1 | C8: 1 | D8: 6 | E8: العمل الإضافي | F8: 16397814 | G8: 16280448 | H8: =F8-G8 -> 117366 | I8: 14993202
A9: 61011 | B9: 1 | C9: 1 | D9: 6 | E9: العلاوة الاجتماعية | F9: 40758629 | G9: 41191953 | H9: =F9-G9 -> -433324 | I9: 39855920
A10: 61012 | B10: 1 | C10: 1 | D10: 6 | E10: علاوة تحسين المعيشة | F10: 53180077 | G10: 54646890 | H10: =F10-G10 -> -1466813 | I10: 49383796
A11: 61021 | B11: 1 | C11: 1 | D11: 6 | E11: علاوة السيارة والمواصلات | F11: 22665425 | G11: 23393611 | H11: =F11-G11 -> -728186 | I11: 22463079
A12: 61022 | B12: 1 | C12: 1 | D12: 6 | E12: علاوة هاتف | F12: 2302896 | G12: 3171371 | H12: =F12-G12 -> -868475 | I12: 2869609
A13: 61031 | B13: 1 | C13: 1 | D13: 6 | E13: علاوات شخصية أخرى | F13: 39850042 | G13: 41971919 | H13: =F13-G13 -> -2121877 | I13: 41830564
A14: 61032 | B14: 1 | C14: 1 | D14: 6 | E14: مكافأة خاصة | F14: 35400 | G14: 4400 | H14: =F14-G14 -> 31000 | I14: 0
A15: 61034 | B15: 1 | C15: 1 | D15: 6 | E15: مكافأة انضباط | F15: 78322 | G15: 52200 | H15: =F15-G15 -> 26122 | I15: 71700
A16: 61035 | B16: 1 | C16: 1 | D16: 6 | E16: بدل علاوة الأطباء المستشاريين | F16: 2486000 | G16: 2169566 | H16: =F16-G16 -> 316434 | I16: 1880109
A17: 61036 | B17: 1 | C17: 1 | D17: 6 | E17: بدل تفرغ للأطباء الإستشاريين | F17: 2490999 | G17: 3136555 | H17: =F17-G17 -> -645556 | I17: 2842082
A18: 61038 | B18: 1 | C18: 1 | D18: 6 | E18: بدل الملاحة الجوية | F18: 496800 | G18: 504941 | H18: =F18-G18 -> -8141 | I18: 458981
... A22: 61991 | B22: 1 | C22: 1 | D22: 6 | E22: علاوات وتكاليف أخرى | F22: 9414428 | G22: 13526571 | H22: =F22-G22 -> -4112143 | I22: 9424183
B23: 2 | C23: 1 | D23: 6 | E23: وظائف غير البحرينيين | F23: =SUM(F24:F38) -> 117258180 | G23: =SUM(G24:G38) -> 118403394 | H23: =F23-G23 -> -1145214 | I23: =SUM(I24:I38) -> 91161269
A24: 60011 | B24: 2 | C24: 1 | D24: 6 | E24: الرواتب الأساسية | F24: 67752080 | G24: 69333927 | H24: =F24-G24 -> -1581847 | I24: 51503683
A25: 60021 | B25: 2 | C25: 1 | D25: 6 | E25: العمل الإضافي | F25: 2054326 | G25: 2402163 | H25: =F25-G25 -> -347837 | I25: 2102990
A26: 61011 | B26: 2 | C26: 1 | D26: 6 | E26: العلاوة الاجتماعية | F26: 2875510 | G26: 3147659 | H26: =F26-G26 -> -272149 | I26: 2913134
A27: 61012 | B27: 2 | C27: 1 | D27: 6 | E27: علاوة تحسين المعيشة | F27: 51030 | G27: 55986 | H27: =F27-G27 -> -4956 | I27: 63422
A28: 61021 | B28: 2 | C28: 1 | D28: 6 | E28: علاوة السيارة والمواصلات | F28: 1319576 | G28: 1269651 | H28: =F28-G28 -> 49925 | I28: 1209244
A29: 61022 | B29: 2 | C29: 1 | D29: 6 | E29: علاوة هاتف | F29: 76218 | G29: 65703 | H29: =F29-G29 -> 10515 | I29: 62006
A30: 61031 | B30: 2 | C30: 1 | D30: 6 | E30: علاوات شخصية أخرى | F30: 5038381 | G30: 5332425 | H30: =F30-G30 -> -294044 | I30: 4911015
A31: 61034 | B31: 2 | C31: 1 | D31: 6 | E31: مكافأة انضباط | F31: 8600 | G31: 3200 | H31: =F31-G31 -> 5400 | I31: 17600
A32: 61035 | B32: 2 | C32: 1 | D32: 6 | E32: بدل علاوة الأطباء المستشاريين | F32: 53000 | G32: 37065 | H32: =F32-G32 -> 15935 | I32: 36311
A33: 61036 | B33: 2 | C33: 1 | D33: 6 | E33: بدل التفرغ للعمل الحكومي للأطباء الاستشاريين | H33: =F33-G33 -> 0
A34: 61041 | B34: 2 | C34: 1 | D34: 6 | E34: بدل اغتراب | F34: 376168 | G34: 154600 | H34: =F34-G34 -> 221568 | I34: 161684
A35: 61042 | B35: 2 | C35: 1 | D35: 6 | E35: توظيف وإجازة وإنهاء عقود الموظفين | F35: 20926422 | G35: 17828147 | H35: =F35-G35 -> 3098275 | I35: 13166774
A36: 61043 | B36: 2 | C36: 1 | D36: 6 | E36: تكاليف سكن | F36: 12609419 | G36: 13701276 | H36: =F36-G36 -> -1091857 | I36: 10901909
A37: 61991 | B37: 2 | C37: 1 | D37: 6 | E37: علاوات وتكاليف أخرى | F37: 4117097 | G37: 5071256 | H37: =F37-G37 -> -954159 | I37: 4111497
A38: 64021 | B38: 2 | C38: 1 | D38: 6 | E38: أجور السفر | F38: 353 | G38: 336 | H38: =F38-G38 -> 17 | I38: 0
B39: 3 | C39: 1 | D39: 6 | E39: الوظائف المؤقتة للبحرينيين | F39: =SUM(F40:F46) -> 3089978 | G39: =SUM(G40:G46) -> 2919901 | H39: =F39-G39 -> 170077 | I39: =SUM(I40:I46) -> 2869459
A40: 60011 | B40: 3 | C40: 1 | D40: 6 | E40: الرواتب الأساسية | F40: 3004558 | G40: 2885395 | H40: =F40-G40 -> 119163 | I40: 2807432
A41: 60021 | B41: 3 | C41: 1 | D41: 6 | E41: العمل الإضافي | F41: 16360 | G41: 7600 | H41: =F41-G41 -> 8760 | I41: 9241
A42: 61011 | B42: 3 | C42: 1 | D42: 6 | E42: العلاوة الاجتماعية | F42: 45264 | G42: 17757 | H42: =F42-G42 -> 27507 | I42: 34202
A43: 61021 | B43: 3 | C43: 1 | D43: 6 | E43: علاوة السيارة والمواصلات | F43: 23796 | G43: 8514 | H43: =F43-G43 -> 15282 | I43: 18135
A44: 61022 | B44: 3 | C44: 1 | D44: 6 | E44: علاوة هاتف | F44: 0 | G44: 175 | H44: =F44-G44 -> -175 | I44: 225
A45: 61031 | B45: 3 | C45: 1 | D45: 6 | E45: علاوات شخصية أخرى | F45: 0 | G45: 460 | H45: =F45-G45 -> -460 | I45: 224
A46: 61991 | B46: 3 | C46: 1 | D46: 6 | E46: علاوات وتكاليف أخرى | F46: 0 | G46: 0 | H46: =F46-G46 -> 0 | I46: 0
B47: 4 | C47: 1 | D47: 6 | E47: الوظائف المؤقتة لغير البحرينيين | F47: =SUM(F48:F53) -> 473700 | G47: =SUM(G48:G53) -> 324774 | H47: =F47-G47 -> 148926 | I47: =SUM(I48:I53) -> 291244
A48: 60011 | B48: 4 | C48: 1 | D48: 6 | E48: الرواتب الأساسية | F48: 465918 | G48: 320277 | H48: =F48-G48 -> 145641 | I48: 289460
A49: 60021 | B49: 4 | C49: 1 | D49: 6 | E49: العمل الإضافي | F49: 840 | G49: 1105 | H49: =F49-G49 -> -265 | I49: 466
A50: 61011 | B50: 4 | C50: 1 | D50: 6 | E50: العلاوة الاجتماعية | F50: 4943 | G50: 2226 | H50: =F50-G50 -> 2717 | I50: 1094
A51: 61021 | B51: 4 | C51: 1 | D51: 6 | E51: علاوة السيارة والمواصلات | F51: 1999 | G51: 1166 | H51: =F51-G51 -> 833 | I51: 424
A52: 61031 | B52: 4 | C52: 1 | D52: 6 | E52: علاوات شخصية أخرى | H52: =F52-G52 -> 0
A53: 61991 | B53: 4 | C53: 1 | D53: 6 | E53: علاوات وتكاليف أخرى | F53: 0 | G53: 0 | H53: =F53-G53 -> 0 | I53: -200
A54: 9- المصروفات المتكررة مصنفة حسب الأبواب والأقسام والبنود (تتمة)
F55: (دينار بحريني)
A56: التبويــب | E56: البيـــان | F56: 2013 | I56: 2012 الفعلي
A57: بند | B57: قسم | C57: باب | D57: نوع | F57: الاعتماد | G57: الفعلي | H57: الفرق
B58: 5 | C58: 1 | D58: 6 | E58: تدريب الموظفين داخل البحرين | F58: =F59+SUM(F60:F67) -> 8394429 | G58: =G59+SUM(G60:G67) -> 6869274 | H58: =F58-G58 -> 1525155 | I58: =I59+SUM(I60:I67) -> 6680146
A59: 61051 | B59: 5 | C59: 1 | D59: 6 | E59: مخصصات التدريب | F59: 148750 | G59: 108077 | H59: =F59-G59 -> 40673 | I59: 103561
A60: 61052 | B60: 5 | C60: 1 | D60: 6 | E60: مخصصات التدريب لتقنية المعلومات | F60: 25950 | G60: 0 | H60: =F60-G60 -> 25950 | I60: 360
A61: 62011 | B61: 5 | C61: 1 | D61: 6 | E61: تكاليف المقررات والرسوم الدراسية | F61: 7931829 | G61: 6689665 | H61: =F61-G61 -> 1242164 | I61: 6517222
A62: 62012 | B62: 5 | C62: 1 | D62: 6 | E62: تكاليف المقررات الدراسية للحاسب الآلي | F62: 129500 | G62: 6503 | H62: =F62-G62 -> 122997 | I62: 10551
A63: 62014 | B63: 5 | C63: 1 | D63: 6 | E63: تكاليف المقررات والرسوم الدراسية لتقنية المعلومات | F63: 0 | G63: 7560 | H63: =F63-G63 -> -7560 | I63: 0
A64: 62021 | B64: 5 | C64: 1 | D64: 6 | E64: مؤتمرات داخلية | F64: 0 | G64: 1100 | H64: =F64-G64 -> -1100 | I64: 0
A65: 62024 | B65: 5 | C65: 1 | D65: 6 | E65: تكاليف الدراسة الأكاديمية والمهنية | F65: 100000 | G65: 35591 | H65: =F65-G65 -> 64409 | I65: 29497
A66: 74021 | B66: 5 | C66: 1 | D66: 6 | E66: تكاليف الكتب وأدوات القرطاسية | F66: 55400 | G66: 20778 | H66: =F66-G66 -> 34622 | I66: 18955
A67: 74022 | B67: 5 | C67: 1 | D67: 6 | E67: تكاليف المواد الدراسية لتقنية المعلومات | F67: 3000 | G67: 0 | H67: =F67-G67 -> 3000 | I67: 0
B68: 6 | C68: 1 | D68: 6 | E68: تدريب الموظفين خارج البحرين | F68: =SUM(F69:F80) -> 22570292 | G68: =SUM(G69:G80) -> 23015323 | H68: =F68-G68 -> -445031 | I68: =SUM(I69:I80) -> 21274033
A69: 61051 | B69: 6 | C69: 1 | D69: 6 | E69: مخصصات التدريب | F69: 9677692 | G69: 11314407 | H69: =F69-G69 -> -1636715 | I69: 9408467
A70: 61052 | B70: 6 | C70: 1 | D70: 6 | E70: مخصصات التدريب لتقنية المعلومات | F70: 12700 | G70: 360 | H70: =F70-G70 -> 12340 | I70: 0
A71: 61059 | B71: 6 | C71: 1 | D71: 6 | E71: علاوات التدريب | F71: 461583 | G71: 217384 | H71: =F71-G71 -> 244199 | I71: 176547
A72: 61992 | B72: 6 | C72: 1 | D72: 6 | E72: علاوات التدريب لتقنية المعلومات | F72: 120000 | G72: 0 | H72: =F72-G72 -> 120000 | I72: 0
A73: 62011 | B73: 6 | C73: 1 | D73: 6 | E73: تكاليف المقررات والرسوم الدراسية | F73: 8316662 | G73: 7362310 | H73: =F73-G73 -> 954352 | I73: 8053169
A74: 62012 | B74: 6 | C74: 1 | D74: 6 | E74: تكاليف المقررات الدراسية للحاسب الآلي | F74: 7750 | G74: 0 | H74: =F74-G74 -> 7750 | I74: 1993
A75: 62024 | B75: 6 | C75: 1 | D75: 6 | E75: تكاليف الدراسة الأكاديمية والمهنية | F75: 178465 | G75: 102645 | H75: =F75-G75 -> 75820 | I75: 193575
A76: 64021 | B76: 6 | C76: 1 | D76: 6 | E76: أجور السفر | F76: 3769290 | G76: 4013129 | H76: =F76-G76 -> -243839 | I76: 3432942
A77: 64022 | B77: 6 | C77: 1 | D77: 6 | E77: أجور السفر لدورات تقنية المعلومات | F77: 5750 | G77: 0 | H77: =F77-G77 -> 5750 | I77: 0
A78: 74021 | B78: 6 | C78: 1 | D78: 6 | E78: تكاليف الكتب وأدوات القرطاسية | F78: 20400 | G78: 4937 | H78: =F78-G78 -> 15463 | I78: 7340
A79: 74022 | B79: 6 | C79: 1 | D79: 6 | E79: تكاليف المواد الدراسية لتقنية المعلومات | F79: 0 | G79: 151 | H79: =F79-G79 -> -151 | I79: 0
A80: 75999 | B80: 6 | C80: 1 | D80: 6 | E80: أدوات ومعدات أخرى | H80: =F80-G80 -> 0 | I80: 0
B81: 7 | C81: 1 | D81: 6 | E81: الفوائد النقدية والعينية للموظفين | F81: =SUM(F82:F89) -> 180238089 | G81: =SUM(G82:G89) -> 169461722 | H81: =F81-G81 -> 10776367 | I81: =SUM(I82:I89) -> 157261664
A82: 63011 | B82: 7 | C82: 1 | D82: 6 | E82: حصة الحكومة في نظام التقاعد المدني | F82: 76800276 | G82: 72841422 | H82: =F82-G82 -> 3958854 | I82: 70543107
A83: 63012 | B83: 7 | C83: 1 | D83: 6 | E83: نظام التقاعد للعسكريين البحرينيين | F83: 69698889 | G83: 50531322 | H83: =F83-G83 -> 19167567 | I83: 47818978
A84: 63013 | B84: 7 | C84: 1 | D84: 6 | E84: نظام المكافآت للعسكريين غير البحرينيين | F84: 8170000 | G84: 6809291 | H84: =F84-G84 -> 1360709 | I84: 5358953
A85: 63014 | B85: 7 | C85: 1 | D85: 6 | E85: حصة الحكومة في نظام التأمين ضد التعطل | F85: 8030288 | G85: 8696008 | H85: =F85-G85 -> -665720 | I85: 7971340
A86: 63015 | B86: 7 | C86: 1 | D86: 6 | E86: مكافأة شراء مدة الخدمة الافتراضية | F86: 5907408 | G86: 1484099 | H86: =F86-G86 -> 4423309 | I86: 0
A87: 70031 | B87: 7 | C87: 1 | D87: 6 | E87: إيجار المركبات والشاحنات | H87: =F87-G87 -> 0
A88: 75031 | B88: 7 | C88: 1 | D88: 6 | E88: ملابس للموظفين | F88: 4815497 | G88: 10112040 | H88: =F88-G88 -> -5296543 | I88: 6990175
A89: 75033 | B89: 7 | C89: 1 | D89: 6 | E89: أغذية للموظفين | F89: 6815731 | G89: 18987540 | H89: =F89-G89 -> -12171809 | I89: 18579111
B90: 8 | C90: 1 | D90: 6 | E90: توريد الأيدي العاملة والعمل الجزئي | F90: =SUM(F91:F92) -> 5407389 | G90: =SUM(G91:G92) -> 7202771 | H90: =F90-G90 -> -1795382 | I90: =SUM(I91:I92) -> 6020613
A91: 65041 | B91: 8 | C91: 1 | D91: 6 | E91: توريد الأيدي العاملة | F91: 1174867 | G91: 1115760 | H91: =F91-G91 -> 59107 | I91: 1084651
A92: 65042 | B92: 8 | C92: 1 | D92: 6 | E92: العمل الجزئي | F92: 4232522 | G92: 6087011 | H92: =F92-G92 -> -1854489 | I92: 4935962
C93: 2 | D93: 6 | E93: نفقات الخدمات | F93: =F94+F102+F114+F119+F131+F139+F148+F159 -> 196680606 | G93: =G94+G102+G114+G119+G131+G139+G148+G159 -> 210798858 | H93: =F93-G93 -> -14118252 | I93: =I94+I102+I114+I119+I131+I139+I148+I159 -> 183681226
B94: 1 | C94: 2 | D94: 6 | E94: نفقات إقامة المؤتمرات والمهمات الرسمية والمعارض والدورات | F94: =SUM(F95:F101) -> 22789334 | G94: =SUM(G95:G101) -> 20644093 | H94: =F94-G94 -> 2145241 | I94: =SUM(I95:I101) -> 21371012
A95: 62021 | B95: 1 | C95: 2 | D95: 6 | E95: مؤتمرات داخل البحرين | F95: 2682926 | G95: 1914994 | H95: =F95-G95 -> 767932 | I95: 1175790
A96: 62022 | B96: 1 | C96: 2 | D96: 6 | E96: مؤتمرات ومهمات رسمية خارج البحرين | F96: 9736138 | G96: 9589258 | H96: =F96-G96 -> 146880 | I96: 12583017
A97: 62023 | B97: 1 | C97: 2 | D97: 6 | E97: نفقات المهام الرسمية | F97: 28000 | G97: 56394 | H97: =F97-G97 -> -28394 | I97: 32905
A98: 62031 | B98: 1 | C98: 2 | D98: 6 | E98: نفقات إقامة المعارض داخل وخارج البحرين | F98: 3105197 | G98: 2585609 | H98: =F98-G98 -> 519588 | I98: 1733530
A99: 62041 | B99: 1 | C99: 2 | D99: 6 | E99: نفقات إقامة الدورات الرياضية داخل البحرين | F99: 69700 | G99: 32639 | H99: =F99-G99 -> 37061 | I99: 14914
A100: 62042 | B100: 1 | C100: 2 | D100: 6 | E100: نفقات إقامة الدورات الرياضية خارج البحرين | F100: 542000 | G100: 723064 | H100: =F100-G100 -> -181064 | I100: 416852
A101: 68021 | B101: 1 | C101: 2 | D101: 6 | E101: نفقات الضيافة داخل البحرين | F101: 6625373 | G101: 5742135 | H101: =F101-G101 -> 883238 | I101: 5414004
B102: 2 | C102: 2 | D102: 6 | E102: الإتصالات والتراخيص | F102: =SUM(F103:F113) -> 9273644 | G102: =SUM(G103:G113) -> 9766098 | H102: =F102-G102 -> -492454 | I102: =SUM(I103:I113) -> 11034462
A103: 66011 | B103: 2 | C103: 2 | D103: 6 | E103: تكاليف تركيب واستخدام الهاتف | F103: 8884797 | G103: 9258949 | H103: =F103-G103 -> -374152 | I103: 10844998
...

Sheet مصروفات الميزانية التحويلية
A1: 10- مصروفات الميزانيات التحويلية
E2: (دينار بحريني)
A3: البيان | B3: 2013 | E3: الفعلي 2012
B4: الاعتماد | C4: الفعلي | D4: نسبة الصرف %
A5: الجهات ذات الميزانيات الملحقة والمستقلة | B5: 152737739 | C5: 144592181 | D5: 95 | E5: 160103986
A6: المساهمات في المنظمات الاقليمية والدولية | B6: 11165237 | C6: 10637371 | D6: 95 | E6: 8955280
A7: دعم الاسر محدودة الدخل | B7: 105000000 | C7: 104947340 | D7: 100 | E7: 56493200
A8: دعم السلع الغذائية (اللحوم-الدواجن-الطحين) | B8: 67000000 | C8: 51080293 | D8: 76 | E8: 51867618
A9: الهيئة العامة للتأمين الاجتماعي | B9: 16719491 | C9: 16719491 | D9: 100 | E9: 16616929
A10: حصة و مساهمة الحكومة في انظمة التقاعد | B10: 800000 | C10: 515317 | D10: 64 | E10: 516879
A11: برنامج التقاعد المبكر | B11: 14000000 | C11: 0 | D11: - | E11: 936233
A12: حصة الحكومة في التأمين ضد التعطل | B12: 17001378 | C12: 17001378 | D12: 100 | E12: 15670439
A13: صندوق الضمان الاجتماعي | B13: 26000000 | C13: 19000000 | D13: 73 | E13: 9499998
A14: علاوة تحسين مستوى المعيشة للمتقاعدين | B14: 77875907 | C14: 77875907 | D14: 100 | E14: 37493165
A15: دعم برامج الاسكان (علاوة الايجار-تخفيض الاقساط) | B15: 47466700 | C15: 47466700 | D15: 100 | E15: 44314100
A16: مساعدات حكومية | B16: 18805000 | C16: 6120765 | D16: 33 | E16: 3880733
A17: الفوائد على القروض والصكوك | B17: 192262944 | C17: 192262944 | D17: 100 | E17: 150352802
A18: مشروع تأهيل و توظيف العاطلين الجامعيين | B18: 0 | C18: 0 | D18: 0 | E18: 0
A19: التزامات متنوعة ومبالغ محجوزة أو مدورة | B19: 114545615 | C19: 19718426 | D19: 13 | E19: 13148956
A20: المجموع | B20: =SUM(B5:B19) -> 861380011 | C20: =SUM(C5:C19) -> 707938113 | D20: =C20/B20*100 -> 82.186504 | E20: =SUM(E5:E19) -> 569850318
A22: تم إعادة تبويب بعض أرقام المقارنة لإعطاء مقارنة عادلة مع عرض السنة الحالية.

Sheet مشاريع
A1: 11- مصروفات المشاريع مصنفة حسب الوزارات والجهات الحكومية
E2: (دينار بحريني)
A3: الوزارة أو الجهة الحكومية | B3: 2013 | E3: الفعلي 2012
B4: الاعتماد | C4: الفعلي | D4: نسبة الصرف %
A5: وزارة الدفاع (إيضاح رقم 13) | B5: 534291 | C5: 534291 | D5: =C5/B5*100 -> 100 | E5: -
A6: وزارة الداخلية | B6: 30000000 | C6: 23072323 | D6: =C6/B6*100 -> 76.907743 | E6: 41698349
A7: هيئة التشريع والإفتاء القانوني | B7: 40000 | C7: - | D7: 0 | E7: -
A8: جهاز الأمن الوطني | B8: 832753 | C8: 832753 | D8: =C8/B8*100 -> 100 | E8: 4000000
A9: وزارة الخارجية | B9: 6000000 | C9: 72155 | D9: =C9/B9*100 -> 1.2025833 | E9: 36585
A10: مكتب نائب رئيس مجلس الوزراء | B10: 116025 | C10: 66300 | D10: =C10/B10*100 -> 57.142857 | E10: 16575
A11: وزارة العدل والشئون الإسلامية والأوقاف- شئون العدل | B11: 2298999 | C11: 958867 | D11: =C11/B11*100 -> 41.708022 | E11: 388588
A12: وزارة التربية والتعليم | B12: 17150164 | C12: 10446290 | D12: =C12/B12*100 -> 60.910729 | E12: 11771922
A13: وزارة الصحة | B13: 28734100 | C13: 6272133 | D13: =C13/B13*100 -> 21.828187 | E13: 5522624
A14: وزارة شئون البلديات والتخطيط العمراني - الإدارة العامة للتخطيط العمراني وإدارة الإستملاك والتعويض وشئون الزراعة والثروة البحرية | B14: 25612600 | C14: 4026287 | D14: =C14/B14*100 -> 15.719946 | E14: 9479203
A15: وزارة شئون البلديات والزراعة - شئون البلديات | D15: =C15/B15*100 -> #DIV/0!
A16: وزارة العمل | B16: 660255 | C16: 102587 | D16: =C16/B16*100 -> 15.537482 | E16: 275779
A17: المؤسسة العامة للشباب والرياضة | B17: 24418660 | C17: 3865258 | D17: =C17/B17*100 -> 15.829116 | E17: 20496068
A18: نادى الفروسية وسباق الخيل | D18: =C18/B18*100 -> #DIV/0!
A19: وزارة التنمية الإجتماعية | B19: 2924199 | C19: 944366 | D19: =C19/B19*100 -> 32.294861 | E19: 1018593
A20: وزارة الصناعة والتجارة | B20: 14025709 | C20: 1829239 | D20: =C20/B20*100 -> 13.042043 | E20: 5095279
A21: وزارة الاسكان | B21: 152885646 | C21: 125124677 | D21: =C21/B21*100 -> 81.842004 | E21: 201397390
A22: المجلس الأعلى للبيئة | B22: 1150000 | C22: 264672 | D22: =C22/B22*100 -> 23.014957 | E22: 584758
A23: الطيران الملكي | D23: =C23/B23*100 -> #DIV/0!
A24: هيئة الكهرباء والماء | D24: =C24/B24*100 -> #DIV/0!
A25: وزارة الأشغال | B25: 180689124 | C25: 124381380 | D25: =C25/B25*100 -> 68.837226 | E25: 134406387
A26: وزارة المواصلات | B26: 20343506 | C26: 2173060 | D26: =C26/B26*100 -> 10.681836 | E26: 71790
A27: الحرس الوطني | B27: 16706716 | C27: 919006 | D27: =C27/B27*100 -> 5.5008178 | E27: 1481791
A28: وزارة النفط | D28: =C28/B28*100 -> #DIV/0!
A29: وزير الدولة لشئون الاتصالات | B29: 714600 | C29: 392944 | D29: =C29/B29*100 -> 54.987965 | E29: -
A30: شئون الطيران المدني | B30: - | C30: - | D30: 0 | E30: 3349865
A31: مجلس المناقصات والمزايدات | B31: 200000 | C31: 121934 | D31: =C31/B31*100 -> 60.967 | E31: 127489
A32: الميزانية التحويلية | B32: 232982649 | C32: 132461358 | D32: =C32/B32*100 -> 56.854602 | E32: 250062378
A33: هيئة شئون الإعلام | B33: 12418094 | C33: 5998187 | D33: =C33/B33*100 -> 48.301994 | E33: 10161430
A34: وزارة الثقافة | D34: =C34/B34*100 -> #DIV/0!
A35: وزارة الثقافة | B35: 21455409 | C35: 15803910 | D35: =C35/B35*100 -> 73.659328 | E35: 24465715
A36: مكتب صاحب السمو الملكي النائب الأول لرئيس مجلس الوزراء | B36: 3000000 | C36: - | D36: 0 | E36: -
A37: ديوان الخدمة المدنية | B37: 1217388 | C37: 152498 | D37: =C37/B37*100 -> 12.526655 | E37: 488162
A38: الجهاز المركزي للمعلومات والإتصالات | B38: 9714015 | C38: 967080 | D38: =C38/B38*100 -> 9.9555127 | E38: 1008448
A39: المجلس الأعلى للقضاء | B39: 152447 | C39: 81730 | D39: =C39/B39*100 -> 53.612075 | E39: -
A40: وزارة العدل والشئون الإسلامية والأوقاف- الشئون الإسلامية | B40: 4135378 | C40: 1424044 | D40: =C40/B40*100 -> 34.435643 | E40: 631900
A41: جهاز المساحة والتسجيل العقاري | B41: 5220196 | C41: 2779903 | D41: =C41/B41*100 -> 53.252847 | E41: 952229
A42: وزارة المالية | B42: 10414475 | C42: 1717075 | D42: =C42/B42*100 -> 16.487389 | E42: 2835713
A43: شئون الجمارك | B43: 6044794 | C43: 1473515 | D43: =C43/B43*100 -> 24.376596 | E43: 1889059
A44: المؤسسة العامة للموانئ البحرية | B44: - | C44: - | D44: 0 | E44: 526334
A45: مستشفى الملك حمد (إيضاح رقم 14،13) | B45: 15301385 | C45: 7441386 | D45: =C45/B45*100 -> 48.632107 | E45: 2797168
A46: المجموع | B46: =SUM(B5:B45) -> 848093577 | C46: =SUM(C5:C45) -> 476701208 | D46: =C46/B46*100 -> 56.208562 | E46: =SUM(E5:E45) -> 737037571

Sheet المقبوضات والمدفوعات
A1: 1- كشف المقبوضات والمدفوعات
D2: (دينار بحرينى)
C3: دينار بحريني
A4: البيان | C4: 2013 | D4: 2012
A5: التدفقات النقدية من الأنشطة التشغيلية
A6: المقبوضات
A7: النفط والغاز الطبيعي | C7: 2600026860 | D7: 2645161269
A8: الضرائب والرسوم | C8: 223679163 | D8: 217737569
A9: منتجات خدمية وسلعية حكومية | C9: 51203001 | D9: 43086698
A10: الإعانات | C10: 0 | D10: 56436545
A11: غرامات وجزاءات وايرادات متنوعة | C11: 42727776 | D11: 53731912
A12: مبالغ مستلمة لصالح الغير | C12: 119087259 | D12: 38119985
A13: إجمالي المقبوضات التشغيلية | C13: =SUM(C7:C12) -> 3036724059 | D13: =SUM(D7:D12) -> 3054273978
A14: المدفوعات
A15: القوى العاملة | C15: -1291068419 | D15: -1172436327
A16: الخدمات | C16: -198678371 | D16: -180346041
A17: السلع الإستهلاكية | C17: -77182565 | D17: -62909965
A18: الصيانة | C18: -62900851 | D18: -56407803
A19: نفقات تحويلية | C19: -682467894 | D19: -591427319
A20: الإعانات وتسديد فوائد القروض | C20: -408522756 | D20: -295021600
A21: مدفوعات مقدمة وتسديد ذمم دائنة | C21: -101494155 | D21: -68314977
A22: مشتريات المخزون | C22: -54329053 | D22: -42421054
A23: مدفوعات اخرى | C23: 0 | D23: 0
A24: إجمالي المدفوعات التشغيلية | C24: =SUM(C15:C23) -> -2876644064 | D24: =SUM(D15:D23) -> -2469285086
A25: صافي التدفقات النقدية من الأنشطة التشغيلية | C25: =C13+C24 -> 160079995 | D25: =D13+D24 -> 584988892
A26: التدفقات النقدية من الأنشطة الاستثمارية
A27: مدفوعات المشاريع | C27: -483173293 | D27: -659717482
A28: مدفوعات السلع الرأسمالية | C28: -30221311 | D28: -30031339
A29: عوائد الاستثمارات والأملاك الحكومية | C29: 16652456 | D29: 15020524
A30: إيرادات بيع الأصول الرأسمالية | C30: 274773 | D30: 714036
A31: صافي التدفقات النقدية من الأنشطة الاستثمارية | C31: =SUM(C27:C30) -> -496467375 | D31: =SUM(D27:D30) -> -674014261
A32: التدفقات النقدية من الأنشطة التمويلية
A33: القروض المستلمة | C33: 4082000000 | D33: 3511248809
A34: تسديد القروض | C34: -2889403556 | D34: -2872069511
A35: صافي التدفقات النقدية من الأنشطة التمويلية | C35: =SUM(C33:C34) -> 1192596444 | D35: =SUM(D33:D34) -> 639179298
A36: صافي الزيادة في النقد | C36: =C25+C31+C35 -> 856209064 | D36: =D25+D31+D35 -> 550153929

Sheet المطلوبات المستحقة
A1: 2- المطلوبات المستحقة (الذمم الدائنة)
E2: (دينار بحريني)
A3: الباب | B3: البيــان | D3: 2013 | E3: 2012
A4: 1 | B4: القوى العاملة | D4: 5683429 | E4: 2419683
A5: 2 | B5: الخدمات | D5: 17104220 | E5: 10596766
A6: 3 | B6: السلع الإستهلاكية | D6: 1038200 | E6: 882236
A7: 4 | B7: السلع الرأسمالية | D7: 1157513 | E7: 541948
A8: 5 | B8: الصيانة | D8: 2718907 | E8: 978126
A9: 6 | B9: نفقات تحويلية | D9: 6834227 | E9: 4070043
A10: 7 | B10: الإعانات وتسديد فوائد القروض | D10: 15786438 | E10: 6892857
A11: 8 | B11: المشاريع | D11: 81122664 | E11: 66977205
A12: - | B12: أخرى | D12: 2315200 | E12: 6185225
B13: المجموع | D13: =SUM(D4:D12) -> 133760798 | E13: =SUM(E4:E12) -> 99544089
A15: المطلوبات المستحقة:
A16: هي المطلوبات المستحقة على الوزارات والجهات الحكومية، وذلك للمعاملات المالية التي تمت معالجتها كمصروفات ولم يتم سدادها حتى نهاية السنة المالية.

Sheet المصروفات المستحقة
A1: 3- المصروفات المستحقة
E2: (دينار بحريني)
A3: الباب | B3: البيــان | D3: 2013 | E3: 2012
A4: 1 | B4: القوى العاملة | D4: 1106448 | E4: 644187
A5: 2 | B5: الخدمات | D5: 7470550 | E5: 5926872
A6: 3 | B6: السلع الإستهلاكية | D6: 1372992 | E6: 941524
A7: 4 | B7: السلع الرأسمالية | D7: 959327 | E7: 935033
A8: 5 | B8: الصيانة | D8: 1847349 | E8: 1491625
A9: 6 | B9: نفقات تحويلية | D9: 234760 | E9: 0
A10: 7 | B10: الإعانات وتسديد فوائد القروض | D10: 55693 | E10: 138429
A11: 8 | B11: المشاريع | D11: 17101077 | E11: 20488535
B12: المجموع | D12: =SUM(D4:D11) -> 30148196 | E12: =SUM(E4:E11) -> 30566205
A14: المصروفات المستحقة
A15: هي السلع والخدمات التي تم استلامها من قبل الوزارات والجهات الحكومية وتم تسجيلها كمصاريف على حسابات السنة المالية 2013، ولم يتم تسجيلها ضمن حسابات المطلوبات (الذمم الدائنة).

Sheet الارتباطات
A1: 4- الإرتباطات حسب الأبواب
E2: (دينار بحريني)
A3: الباب | B3: البيــان | D3: 2013 | E3: 2012
A4: 1 | B4: القوى العاملة | D4: 316696 | E4: 193231
A5: 2 | B5: الخدمات | D5: 1194905 | E5: 1053053
A6: 3 | B6: السلع الإستهلاكية | D6: 274064 | E6: 437940
A7: 4 | B7: السلع الرأسمالية | D7: 797456 | E7: 160448
A8: 5 | B8: الصيانة | D8: 334245 | E8: 169392
A9: 6 | B9: نفقات تحويلية | D9: 35173 | E9: 0
A10: 7 | B10: الإعانات و تسديد فوائد القروض | D10: 483 | E10: 0
A11: 8 | B11: المشاريع | D11: 97586327 | E11: 156432817
B12: المجموع | D12: =SUM(D4:D11) -> 100539349 | E12: =SUM(E4:E11) -> 158446881
A14: الارتباطات المالية:
A15: يقصد بها الارتباطات المالية الخاصة بمشتريات المصروفات المتكررة والمشاريع التي صدرت لها أوامر شراء أو أوامر تنفيذ عقود ولكن لم يتم استلام أو تنفيذ المشتريات المطلوبة من قبل المجهز أو المتعاقد معه حتى نهاية السنة المالية.

Sheet التمويـل
A1: 5- القروض
E2: (آلاف الدنانير)
A3: بيان القرض | B3: الرصيد في 2013/1/1 | C3: المبلغ المستلم | D3: المبلغ المدفوع | E3: الفرق بين المبلغ المستلم والمدفوع | F3: الرصيد في 2013/12/31
A4: أذونات الخزينة | B4: 930000 | C4: 2390000 | D4: -2190000 | E4: =SUM(C4:D4) -> 200000 | F4: =SUM(E4+B4) -> 1130000
A5: صكوك السلم الإسلامية | B5: 54000 | C5: 288000 | D5: -234000 | E5: =SUM(C5:D5) -> 54000 | F5: =SUM(E5+B5) -> 108000
A6: صكوك التأجير الإسلامية | B6: 651600 | C6: 340000 | D6: -371600 | E6: =SUM(C6:D6) -> -31600 | F6: =SUM(E6+B6) -> 620000
A7: قروض داخلية أخرى | B7: 21893 | C7: 0 | D7: -6255 | E7: =SUM(C7:D7) -> -6255 | F7: =SUM(E7+B7) -> 15638
A8: سندات التنمية الحكومية المحلية | B8: 635000 | C8: 500000 | D8: -50000 | E8: =SUM(C8:D8) -> 450000 | F8: =SUM(E8+B8) -> 1085000
A9: مجموع القروض الداخلية | B9: =SUM(B4:B8) -> 2292493 | C9: =SUM(C4:C8) -> 3518000 | D9: =SUM(D4:D8) -> -2851855 | E9: =SUM(E4:E8) -> 666145 | F9: =SUM(F4:F8) -> 2958638
A10: صكوك التأجير الإسلامية الدولية | B10: 564000 | C10: 0 | D10: 0 | E10: =SUM(C10:D10) -> 0 | F10: =SUM(B10:D10) -> 564000
A11: سندات التنمية الحكومية الدولية | B11: 1034000 | C11: 564000 | D11: 0 | E11: =SUM(C11:D11) -> 564000 | F11: =SUM(B11:D11) -> 1598000
A12: قروض صناديق التنمية | B12: 295394 | C12: 0 | D12: -40310 | E12: =SUM(C12:D12) -> -40310 | F12: =SUM(B12:D12) -> 255084
A13: مجموع القروض الخارجية | B13: =SUM(B10:B12) -> 1893394 | C13: =SUM(C10:C12) -> 564000 | D13: =SUM(D10:D12) -> -40310 | E13: =SUM(E10:E12) -> 523690 | F13: =SUM(F10:F12) -> 2417084
A14: المجموع/ الرصيد | B14: =B13+B9 -> 4185887 | C14: =C13+C9 -> 4082000 | D14: =D13+D9 -> -2892165 | E14: =E13+E9 -> 1189835 | F14: =F13+F9 -> 5375722

Sheet التسهيلات الإئتمانية 
A1: 6- التسهيلات الائتمانية
A2: (آلاف الدنانير)
A3: البيـــان | C3: 2013 | D3: 2012
A4: تسهيلات غير مستخدمة في بداية السنة | C4: 0 | D4: 0
A5: تسهيلات اضافية | C5: 0 | D5: 0
A6: التسهيلات المتوفرة | C6: 125000 | D6: 125000
A7: المبلغ المستخدم | C7: -58734 | D7: -38503
A8: التسهيلات الملغية
A9: التسهيلات غير المستخدمة في نهاية السنة | C9: =SUM(C4:C7) -> 66266 | D9: =SUM(D4:D7) -> 86497
A13: جميع التسهيلات الإئتمانية المذكورة أعلاه عبارة عن عملية تسوية توفيقية لضمان سرعة انسياب التحويلات النقدية بين الحسابات المصرفية الحكومية.
