Workbook
Name leer: '[1]تفصيل المصروفات (3)'!$A$2:$A$6
Name leer: '[1]تفصيل المصروفات (3)'!$A$2:$A$6
Name المصروفات_حسب_الأبواب_والأقسام_والبنود: #REF!
Name المصروفات_حسب_الأبواب_والأقسام_والبنود: #REF!
Name المصروفات_حسب_الأبواب_والأقسام_والبنود: #REF!
Name المصروفات_حسب_الأبواب_والأقسام_والبنود: #REF!
Name المصروفات_حسب_الأبواب_والأقسام_والبنود: #REF!
Name المصروفات_حسب_الأبواب_والأقسام_والبنود: #REF!
Name المصروفات_حسب_الأبواب_والأقسام_والبنود: #REF!

Sheet Meta3
A1: 3- الإيرادات والمصروفات مصنفة حسب الوزارات والجهات الحكومية
A3: Government Agency Name | B3: Code | C3: Actual | D3: Revenue Budget | E3: % Spent | F3: Actual | G3: Recurrent Budget | H3: % Spent | I3: Actual | J3: Project Budget | K3: % Spent
A4: The Court of H.R.H The Prime Minister-11 | B4: 11 | C4: 0 | D4: 0 | E4: 0 | F4: 19222655 | G4: 19342000 | H4: 0.9938
A5: Ministry of Defence-12 | B5: 12 | F5: 521881353 | G5: 494450000 | H5: 1.0555
A6: Ministry of Interior-13 | B6: 13 | C6: 50947295 | D6: 40700000 | E6: 1.2518 | F6: 357208194 | G6: 355500000 | H6: 1.0048 | I6: 21997018 | J6: 22000000 | K6: 0.9999
A7: National Security Agency-14 | B7: 14 | F7: 34842000 | G7: 34842000 | H7: 1
A8: Legislation & Legal Opinion Com-15 | B8: 15 | C8: 3546 | D8: 5000 | E8: 0.7091 | F8: 2530528 | G8: 2530529 | H8: 1
A9: Min. of Foreign Affairs-16 | B9: 16 | C9: 1603334 | D9: 2055000 | E9: 0.7802 | F9: 30567635 | G9: 30569641 | H9: 0.9999 | I9: 5671647 | J9: 7055405 | K9: 0.8039
A10: Deputy of H.R.H The PM-17 | B10: 17 | F10: 878289 | G10: 950000 | H10: 0.9245 | I10: 60000 | J10: 60000 | K10: 1
A11: Min. of Justice & Islamic Aff & Awqaf (Justice Aff)-18 | B11: 18 | C11: 15126414 | D11: 10846000 | E11: 1.3947 | F11: 12169486 | G11: 11067765 | H11: 1.0995 | I11: 401395 | J11: 1565500 | K11: 0.2564
A12: Supreme Council for Oil
A13: Ministry of Information-20 (Old) | B13: 20
A14: Min. of Education-21 | B14: 21 | C14: 843390 | D14: 900000 | E14: 0.9371 | F14: 334558748 | G14: 327143231 | H14: 1.0227 | I14: 5271730 | J14: 10380801 | K14: 0.5078
A15: Ministry of Health-22 | B15: 22 | C15: 43249123 | D15: 33570000 | E15: 1.2883 | F15: 261116093 | G15: 262354534 | H15: 0.9953 | I15: 10487893 | J15: 10487893 | K15: 1
A16: Min. of Works, Mun Aff & Urb Plg -23 (Mun Aff&Urb Plg) | B16: 23 | C16: 3321517 | D16: 335000 | E16: 9.915 | F16: 10756348 | G16: 11974408 | H16: 0.8983 | I16: 11601891 | J16: 17678608 | K16: 0.6563
A17: Min. of Labour -24 | B17: 24 | C17: 10411 | D17: 74000 | E17: 0.1407 | F17: 6034407 | G17: 6034399 | H17: 1 | I17: 95560 | J17: 193666 | K17: 0.4934
A18: Min. of Muncipalities & Agriculture Aff. (Muncipalities Affairs)
A19: General Organization for Youth&Sport-26 | B19: 26 | C19: 51279 | D19: 17000 | E19: 3.0164 | F19: 12183012 | G19: 12369000 | H19: 0.985 | I19: 5298704 | J19: 5298704 | K19: 1
A20: Environmental Affairs ( Old )
A21: Rashed Club for Equestrian & Horse Racing-28 | B21: 28 | F21: 1831514 | G21: 1876000 | H21: 0.9763 | I21: 21478 | J21: 35408 | K21: 0.6066
A22: Min. of Social Development-29 | B22: 29 | C22: 3530 | D22: 5000 | E22: 0.706 | F22: 10691886 | G22: 11605403 | H22: 0.9213 | I22: 800656 | J22: 1348397 | K22: 0.5938
A23: Deputy of H.R.H The PM-30 | B23: 30 | F23: 1009362 | G23: 1009363 | H23: 1
A24: Advisor to H.R.H The PM for Economic Aff-31 | B24: 31 | F24: 283710 | G24: 283710 | H24: 1
A25: Min. of Follow-up Affairs-32 | B25: 32 | F25: 547707 | G25: 547707 | H25: 1
A26: Advisor to H.R.H PM-33 | B26: 33
A27: Min of Industry & Commerce-34 | B27: 34 | C27: 21332657 | D27: 20062000 | E27: 1.0633 | F27: 11611016 | G27: 12835000 | H27: 0.9046 | I27: 4603811 | J27: 4810000 | K27: 0.9571
A28: Advisor to H.R.H PM for Security Aff-35 | B28: 35
A29: Ministry of Housing-36 | B29: 36 | C29: 73874 | D29: 35000 | E29: 2.1107 | F29: 5113629 | G29: 5113630 | H29: 1 | I29: 143004455 | J29: 157738569 | K29: 0.9066
A30: Advisor to H.R.H The PM for Industrial & Oil Aff-37 | B30: 37 | F30: 39932 | G30: 142000 | H30: 0.2812
A31: Advisor to H.R.H The PM-38 | B31: 38 | F31: 170354 | G31: 176000 | H31: 0.9679
A32: Ministry of State-39 | B32: 39
A33: Min. of Energy-40 | B33: 40 | F33: 232160 | G33: 271000 | H33: 0.8567
A34: The Supreme Council for the Environment-41 | B34: 41 | C34: 280042 | D34: 273000 | E34: 1.0258 | F34: 5929430 | G34: 6542000 | H34: 0.9064 | I34: 195681 | J34: 1000000 | K34: 0.1957
A35: Bahrain Royal Flight ( Old )
A36: Mohammed bin Khalifa Al Khalifa Cardiac Center-43 | B36: 43 | F36: 15465000 | G36: 15465000 | H36: 1
A37: Deputy of H.R.H The PM-44 | B37: 44 | F37: 790747 | G37: 1060000 | H37: 0.746
A38: Min.Of Housing -Old | B38: Old
A39: Min. of Works, Mun Aff & Urb Plg -46 (Works Aff) | B39: 46 | C39: 2364940 | D39: 267000 | E39: 8.8575 | F39: 45201215 | G39: 45456010 | H39: 0.9944 | I39: 62029663 | J39: 108762065 | K39: 0.5703
A40: Elec & Water Authority-47 | B40: 47 | F40: 268971800 | G40: 315735000 | H40: 0.8519
A41: Min. of Transportation & Telecommunications-48 | B41: 48 | C41: 45525179 | D41: 38657000 | E41: 1.1777 | F41: 33020801 | G41: 33020801 | H41: 1 | I41: 3708048 | J41: 6748789 | K41: 0.5494
...

Sheet Meta4
A1: 4- الإيرادات مصنفة حسب الأبواب والوزارات والجهات الحكومية
A3: Ministry | B3: Code | C3: Oil and Gas | D3: Taxation, Fees | E3: Govt Goods, Services | F3: Investments, Govt Properties | G3: Grants | H3: Sale of | I3: Fines,Penalt ies , Misc | J3: Total | K3: Budget | L3: Actual-PY
A4: The Court of H.R.H The Prime Minister-1 1 | B4: 11 | C4: 0 | D4: 0 | E4: 0 | F4: 0 | G4: 0 | H4: 0 | J4: 0 | K4: 0 | L4: 88100
A5: Ministry of Interior-13 | B5: 13 | C5: 0 | D5: 43574011 | E5: 6309073 | F5: 53075 | G5: 0 | H5: 158173 | I5: 852964 | J5: 50947295 | K5: 40700000 | L5: 47605960
A6: Legislation & Legal Opinion Com-15 | B6: 15 | C6: 0 | D6: 0 | E6: 3218 | F6: 0 | G6: 0 | H6: 0 | I6: 328 | J6: 3546 | K6: 5000 | L6: 13159
A7: Min. of Foreign Affairs-16 | B7: 16 | C7: 0 | D7: 582200 | E7: 0 | F7: 0 | G7: 0 | H7: 0 | I7: 1021134 | J7: 1603334 | K7: 2055000 | L7: 1785623
A8: Min. of Justice & Islamic Aff & Awqaf (J | B8: 18 | C8: 0 | D8: 6307958 | E8: 12539 | F8: 60874 | G8: 0 | H8: 198 | I8: 8744845 | J8: 15126414 | K8: 10846000 | L8: 15836788
A9: Min. of Education-21 | B9: 21 | C9: 0 | D9: 13385 | E9: 150648 | F9: 0 | G9: 0 | H9: 79917 | I9: 599440 | J9: 843390 | K9: 900000 | L9: 1608282
A10: Ministry of Health-22 | B10: 22 | C10: 0 | D10: 8770 | E10: 42381671 | F10: 140125 | G10: 0 | H10: 10726 | I10: 707831 | J10: 43249123 | K10: 33570000 | L10: 35063505
A11: Min. of Works, Mun Aff & Urb Plg -23 ( | B11: 23 | C11: 0 | D11: 2633768 | E11: 164351 | F11: 96782 | G11: 0 | H11: 36483 | I11: 390134 | J11: 3321517 | K11: 335000 | L11: 896658
A12: Mun Aff&Urb Plg) Min. of Labour -24 | B12: 24 | C12: 0 | D12: 2595 | E12: 1595 | F12: 560 | G12: 0 | H12: 0 | I12: 5661 | J12: 10411 | K12: 74000 | L12: 30559
A13: General Organization for Youth&Sport-26 | B13: 26 | C13: 0 | D13: 7998 | E13: 0 | F13: 1500 | G13: 0 | H13: 260 | I13: 41522 | J13: 51279 | K13: 17000 | L13: 600896
A14: Min. of Social Development-29 | B14: 29 | C14: 0 | D14: 1700 | E14: 0 | F14: 0 | G14: 0 | H14: 830 | I14: 1000 | J14: 3530 | K14: 5000 | L14: 7162
A15: Min of Industry & Commerce-34 | B15: 34 | C15: 0 | D15: 10401480 | E15: 910889 | F15: 9954600 | G15: 0 | H15: 0 | I15: 65688 | J15: 21332657 | K15: 20062000 | L15: 25161275
A16: Ministry of Housing-36 | B16: 36 | C16: 0 | D16: 73874 | E16: 0 | F16: 0 | G16: 0 | H16: 0 | I16: 0 | J16: 73874 | K16: 35000 | L16: 1975685
... A21: Min. of Shura Council & Representatives Council Aff 54 | B21: 54 | C21: 0 | D21: 0 | E21: 0 | F21: 0 | G21: 0 | H21: 0 | I21: 0 | J21: 0 | K21: 0 | L21: 1350
A22: Min. of Information Aff-55 | C22: 0 | D22: 0 | E22: 0 | F22: 0 | G22: 0 | H22: 0 | J22: 0 | K22: 0 | L22: 6677
A23: Tender Board-59 | B23: 59 | C23: 0 | D23: 7255 | E23: 0 | F23: 0 | G23: 0 | H23: 0 | I23: 0 | J23: 7255 | K23: 0 | L23: 8825
A24: Transfers | B24: 60 | C24: 0 | D24: 23872905 | E24: 863307 | F24: 30632436 | G24: 28356558 | H24: 53828 | I24: 36375266 | J24: 120154300 | K24: 147843000 | L24: 127995763
A25: Revenue Account under MOF Control | B25: 62 | C25: 1436462053 | D25: 0 | E25: 0 | F25: 0 | G25: 0 | H25: 0 | I25: 0 | J25: 1436462053 | K25: 1757613000 | L25: 1594672391
A26: Information Affairs Authority-65 | C26: 0 | D26: 444991 | E26: 1252109 | F26: 600 | G26: 0 | H26: 0 | I26: 37183 | J26: 1734883 | K26: 1628000 | L26: 1718527
A27: Bahrain Authority for Culture & Antiquities 66 | B27: 66 | C27: 0 | D27: 174952 | E27: 177 | F27: 134248 | G27: 0 | H27: 1270 | I27: 188783 | J27: 499430 | K27: 0 | L27: 1796674
A28: Administrative Organization for Public Pr | B28: 68 | C28: 0 | D28: 135 | E28: 0 | F28: 0 | G28: 0 | H28: 485 | I28: 0 | J28: 620 | K28: 0 | L28: 7804
A29: Civil Service Bureau-72 | B29: 72 | C29: 0 | D29: 1280 | E29: 0 | F29: 0 | G29: 0 | H29: 0 | I29: 0 | J29: 1280 | K29: 5000 | L29: 6731
A30: Central Informatics Org-73 | B30: 73 | C30: 0 | D30: 2706185 | E30: 52 | F30: 0 | G30: 0 | H30: 253 | I30: 4350 | J30: 2710840 | K30: 1688000 | L30: 2465286
A31: General Secretariat for Youth & Sports High Council 75 | B31: 75 | C31: 0 | D31: 60 | E31: 0 | F31: 0 | G31: 0 | H31: 0 | I31: 0 | J31: 60 | K31: 0 | L31: 585
A32: Supreme Judicial Council (76) | B32: 76 | C32: 0 | D32: 0 | E32: 2264 | F32: 0 | G32: 0 | H32: 0 | I32: 0 | J32: 2264 | K32: 0 | L32: 6215
A33: Min. of Justice & Islamic Aff & Awqaf (I | B33: 77 | C33: 0 | D33: 4345 | E33: 0 | F33: 0 | G33: 0 | H33: 0 | I33: 13206 | J33: 17551 | K33: 10000 | L33: 8775
A34: Survey&Land Reg Bureau-78 | B34: 78 | C34: 0 | D34: 17617770 | E34: 155865 | F34: 0 | G34: 0 | H34: 0 | I34: 35293 | J34: 17808928 | K34: 20886000 | L34: 20970182
A35: Ministry of Finance-81 | B35: 81 | C35: 0 | D35: 2655 | E35: 0 | F35: 0 | G35: 0 | H35: 0 | I35: 3369 | J35: 6024 | K35: 3000 | L35: 17509
A36: Customs Affairs-83 | B36: 83 | C36: 0 | D36: 122579661 | E36: 60081 | F36: 0 | G36: 0 | H36: 310 | I36: 10109795 | J36: 132749846 | K36: 99700000 | L36: 116766540
A37: National Health Regulatory Authority (89) | B37: 89 | C37: 0 | D37: 836887 | E37: 250 | F37: 0 | H37: 0 | I37: 48390 | J37: 885527 | K37: 357000 | L37: 0
A38: Grand Total | C38: =SUM(C4:C37) -> 1436462053 | D38: =SUM(D4:D37) -> 237568220 | E38: =SUM(E4:E37) -> 83868836 | F38: =SUM(F4:F37) -> 50362940 | G38: =SUM(G4:G37) -> 28356558 | H38: =SUM(H4:H37) -> 613886 | I38: =SUM(I4:I37) -> 60544962 | J38: =SUM(J4:J37) -> 1897777452 | ... L38: =SUM(L4:L37) -> 2042156454
A40: Information Affairs Authority-65 | B40: 55 | C40: =SUM(C22,C26) -> 0 | D40: =SUM(D22,D26) -> 444991 | E40: =SUM(E22,E26) -> 1252109 | F40: =SUM(F22,F26) -> 600 | G40: =SUM(G22,G26) -> 0 | H40: =SUM(H22,H26) -> 0 | I40: =SUM(I22,I26) -> 37183 | J40: =SUM(J22,J26) -> 1734883 | ... L40: =SUM(L22,L26) -> 1725204

Sheet Meta5&9
A1: 5- الإيرادات مصنفة حسب الأبواب والأقسام والبنود
A4: Code | E4: Description | G4: 2016 | I4: 2015
A5: Item | B5: Chp | C5: Sec | D5: Acct | E5: Description | F5: Budget | G5: Actual | H5: Difference | I5: Actual
A6: 4 | B6: 1 | C6: 1 | D6: 40011 | E6: Oil Sales - Bahrain Field | F6: 148246000 | G6: 278643175 | H6: -130397175 | I6: 230724927
A7: 4 | B7: 1 | C7: 1 | D7: 40012 | E7: Oil Sales - Abu-Sa'afa Field | F7: 1141434000 | G7: 723670948 | H7: 417763052 | I7: 957404837
A8: 4 | B8: 1 | C8: 1 | D8: 40014 | E8: Future Generations Reserve- Abu-Sa'afa Field | F8: -20641000 | G8: -14056467 | H8: -6584533 | I8: -17105245
A9: 4 | B9: 1 | C9: 2 | D9: 40035 | E9: Gas Sales - Hidd Power Station | F9: 75374000 | H9: 75374000
A10: 4 | B10: 1 | C10: 2 | D10: 40037 | E10: Gas Sales to Electricity Power and Water Station | F10: 60354000 | G10: 31039851 | H10: 29314149 | I10: 44113743
A11: 4 | B11: 1 | C11: 2 | D11: 40051 | E11: Gas Sales - Alba | F11: 106738000 | G11: 109292545 | H11: -2554545 | I11: 90853535
A12: 4 | B12: 1 | C12: 2 | D12: 40052 | E12: Gas Sales - Bapco | F12: 42696000 | G12: 46614264 | H12: -3918264 | I12: 43778809
A13: 4 | B13: 1 | C13: 2 | D13: 40053 | E13: Gas Sales - Banagas | F13: 36936000 | G13: 14021820 | H13: 22914180 | I13: 28565322
A14: 4 | B14: 1 | C14: 2 | D14: 40054 | E14: Gas Sales - Other Companies | F14: 147867000 | G14: 242372310 | H14: -94505310 | I14: 204474412
A15: 4 | B15: 1 | C15: 3 | D15: 42011 | E15: Gas Income Tax | F15: 11974000 | G15: 272000 | H15: 11702000 | I15: 7282491
A16: 4 | B16: 1 | C16: 3 | D16: 42013 | E16: Petrol Tax | F16: 6635000 | G16: 4591606 | H16: 2043394 | I16: 4579560
A17: 4 | B17: 2 | C17: 2 | D17: 42501 | E17: Customs Duty on Essential Trade | F17: 48000000 | G17: 48701365 | H17: -701365 | I17: 52459852
A18: 4 | B18: 2 | C18: 2 | D18: 42503 | E18: Customs Duty on Vehicles | F18: 7500000 | G18: 15675280 | H18: -8175280 | I18: 18033658
A19: 4 | B19: 2 | C19: 2 | D19: 42504 | E19: Customs Duty on Manuf./Unmanuf. Tabacco | F19: 16000000 | G19: 16573529 | H19: -573529 | I19: 18300861
A20: 4 | B20: 2 | C20: 2 | D20: 42505 | E20: Customs Duty on Luxury Goods | F20: 20000000 | G20: 16370852 | H20: 3629148 | I20: 19751712
A21: 4 | B21: 2 | C21: 2 | D21: 42506 | E21: Customs Duty on Yachts | F21: 400000 | G21: 260463 | H21: 139537 | I21: 80700
... A26: 4 | B26: 2 | C26: 3 | D26: 43041 | E26: Miscellaneous Service Activities Registration Fees | F26: 1281960 | G26: 794808 | H26: 487152 | I26: 1534627
A27: 4 | B27: 2 | C27: 3 | D27: 43042 | E27: Air Transport Activities | G27: 212782 | H27: -212782
A28: 4 | B28: 2 | C28: 3 | D28: 43043 | E28: Air Licensing Activities | G28: 576230 | H28: -576230
A29: 4 | B29: 2 | C29: 3 | D29: 43044 | E29: Land Transport Licenses | G29: 776335 | H29: -776335
A30: 4 | B30: 2 | C30: 3 | D30: 43045 | E30: Post Regulatory Licenses | G30: 60639 | H30: -60639
A31: 4 | B31: 2 | C31: 3 | D31: 43051 | E31: Commercial Agencies Registration Fees | F31: 15000 | G31: 16494 | H31: -1494 | I31: 11062
A32: 4 | B32: 2 | C32: 3 | D32: 43071 | E32: Organizing Engineering Professional Practice Fees | F32: 85000 | G32: 50000 | H32: 35000 | I32: 40000
A33: 4 | B33: 2 | C33: 3 | D33: 43081 | E33: Sand Mining License Fees | G33: 550000 | H33: -550000
A34: 4 | B34: 2 | C34: 3 | D34: 44041 | E34: Pharmaceutical Products Licenses & Fees | F34: 45000 | G34: 128400 | H34: -83400 | I34: 32111
A35: 4 | B35: 2 | C35: 3 | D35: 44042 | E35: Health Facilities Licenses & Fees | F35: 150000 | G35: 251640 | H35: -101640 | I35: 113996
A36: 4 | B36: 2 | C36: 3 | D36: 44043 | E36: Health Professions Licenses & Fees | F36: 162000 | G36: 456682 | H36: -294682 | I36: 157809
A37: 4 | B37: 2 | C37: 4 | D37: 44011 | E37: Passport Fees | F37: 1800000 | G37: 979340 | H37: 820660 | I37: 676517
A38: 4 | B38: 2 | C38: 4 | D38: 44012 | E38: Residence Permit Fees | F38: 2437000 | G38: 3482428 | H38: -1045428 | I38: 2321112
A39: 4 | B39: 2 | C39: 4 | D39: 44013 | E39: Visa & NOC Fees | F39: 9708000 | G39: 18029260 | H39: -8321260 | I39: 16781608
A40: 4 | B40: 2 | C40: 4 | D40: 44015 | E40: Population Card Fees | F40: 1520000 | G40: 2449944 | H40: -929944 | I40: 2201066
A41: 4 | B41: 2 | C41: 4 | D41: 44016 | E41: CONSUITANCY SERVICES FEES | F41: 242000 | G41: 58175 | H41: 183825 | I41: 1233
A42: 4 | B42: 2 | C42: 4 | D42: 44021 | E42: Labour Market Regulatory Authority Fee | F42: 18500000 | G42: 23143294 | H42: -4643294 | I42: 19206857
A43: 4 | B43: 2 | C43: 4 | D43: 44051 | E43: Ownership Registration Fees | F43: 150000 | G43: 126333 | H43: 23667 | I43: 116381
A44: 4 | B44: 2 | C44: 4 | D44: 44052 | E44: Ownership Transfer Fees | F44: 20500000 | G44: 17491123 | H44: 3008877 | I44: 20686702
A45: 4 | B45: 2 | C45: 4 | D45: 44071 | E45: Car Registration Fees | F45: 15500000 | G45: 15524624 | H45: -24624 | I45: 15717790
... A49: 4 | B49: 2 | C49: 4 | D49: 44093 | E49: Certification of Official Documents Fees | F49: 1660000 | G49: 1399267 | H49: 260733 | I49: 1846493
...

Sheet Meta8
A1: 8- المصروفات المتكررة مصنفة حسب الأبواب والوزارات والجهات الحكومية
A3: Ministry | B3: Code | C3: Manpower | D3: Services | E3: Consumables | F3: Assets | G3: Maintenance | H3: Transfers | I3: Grants | J3: Total | K3: Budget | L3: Actual-PY
A4: The Court of H.R.H The Prime Minist | B4: 11 | C4: 4448291 | D4: 4157755 | E4: 89438 | F4: 19474 | G4: 7696 | H4: 10500000 | I4: 0 | J4: 19222655 | K4: 19342000 | L4: 19317706
A5: Ministry of Defence-12 | B5: 12 | C5: 395050069 | D5: 30780129 | E5: 30375202 | F5: 18116011 | G5: 46106048 | H5: 365713 | I5: 1088181 | J5: 521881353 | K5: 494450000 | L5: 496154820
A6: Ministry of Interior-13 | B6: 13 | C6: 319848072 | D6: 20592502 | E6: 7390622 | F6: 2181284 | G6: 7195715 | H6: 0 | I6: 0 | J6: 357208194 | K6: 355500000 | L6: 372640335
A7: National Security Agency-14 | B7: 14 | C7: 0 | D7: 0 | E7: 0 | F7: 0 | G7: 0 | H7: 34842000 | I7: 0 | J7: 34842000 | K7: 34842000 | L7: 35889000
A8: Legislation & Legal Opinion Com-15 | B8: 15 | C8: 2149402 | D8: 360078 | E8: 14814 | F8: 737 | G8: 5497 | H8: 0 | I8: 0 | J8: 2530528 | K8: 2530529 | L8: 2609942
A9: Min. of Foreign Affairs-16 | B9: 16 | C9: 20086489 | D9: 9093747 | E9: 446210 | F9: 344379 | G9: 520856 | H9: 0 | I9: 75954 | J9: 30567635 | K9: 30569641 | L9: 30933748
A10: Deputy of H.R.H The PM-17 | B10: 17 | C10: 833523 | D10: 29720 | E10: 10927 | F10: 1731 | G10: 2388 | H10: 0 | I10: 0 | J10: 878289 | K10: 950000 | L10: 964152
A11: Min. of Justice & Islamic Aff & Awq | B11: 18 | C11: 8682639 | D11: 2857973 | E11: 69978 | F11: 110568 | G11: 212876 | H11: 66952 | I11: 168500 | J11: 12169486 | K11: 11067765 | L11: 12475822
A12: Min. of Education-21 | B12: 21 | C12: 287176271 | D12: 39300023 | E12: 4215261 | F12: 2125463 | G12: 1666730 | H12: 0 | I12: 75000 | J12: 334558748 | K12: 327143231 | L12: 334079328
A13: Ministry of Health-22 | B13: 22 | C13: 154125249 | D13: 31223179 | E13: 69912761 | F13: 1322012 | G13: 4519192 | H13: 0 | I13: 13700 | J13: 261116093 | K13: 262354534 | L13: 277946873
A14: Min. of Works, Mun Aff & Urb Plg - | B14: 23 | C14: 8277344 | D14: 2027011 | E14: 279602 | F14: 87142 | G14: 79254 | H14: 5995 | I14: 0 | J14: 10756348 | K14: 11974408 | L14: 11763130
A15: Min. of Labour -24 | B15: 24 | C15: 5006075 | D15: 706822 | E15: 61168 | F15: 35232 | G15: 25110 | H15: 0 | I15: 200000 | J15: 6034407 | K15: 6034399 | L15: 6050055
... A35: Min. of Shura Council & Representati | B35: 54 | C35: 1135286 | D35: 189458 | E35: 8600 | F35: 19842 | G35: 900 | H35: 0 | I35: 0 | J35: 1354086 | K35: 1404000 | L35: 1489032
A36: Min. of Information Aff-55 | C36: 314882 | D36: 428499 | E36: 1185 | F36: 76957 | G36: 0 | H36: 0 | I36: 0 | J36: 821523 | K36: 885700 | L36: 700150
A37: Tender Board-59 | B37: 59 | C37: 706027 | D37: 254761 | E37: 20012 | F37: 2738 | G37: 3046 | H37: 0 | I37: 0 | J37: 986584 | K37: 1125000 | L37: 1159177
A38: Transfers | B38: 60 | C38: 0 | D38: 2500878 | E38: 0 | F38: 0 | G38: 0 | H38: 283106986 | I38: 629417311 | J38: 915025176 | K38: 967776980 | L38: 839384766
A39: Ministry of Oil - 61 | B39: 61 | C39: 61667 | D39: 20194 | E39: 1671 | F39: 6461 | G39: 0 | H39: 0 | I39: 0 | J39: 89993 | K39: 148550 | L39: 0
A40: Information Affairs Authority-65 | C40: 13129291 | D40: 6087053 | E40: 1547181 | F40: 217367 | G40: 456463 | H40: 0 | I40: 55000 | J40: 21492355 | K40: 22660700 | L40: 22993263
A41: Bahrain Authority for Culture & Anti | B41: 66 | C41: 3841539 | D41: 2538116 | E41: 42315 | F41: 35568 | G41: 203001 | H41: 800000 | I41: 185100 | J41: 7645639 | K41: 7645639 | L41: 7672969
A42: Supreme Council for Health-67 | B42: 67 | C42: 111749 | D42: 116270 | E42: 3573 | F42: 4747 | G42: 3239 | H42: 0 | I42: 0 | J42: 239579 | K42: 271000 | L42: 279388
A43: Administrative Organization for Publi | B43: 68 | C43: 2430836 | D43: 864210 | E43: 60770 | F43: 76377 | G43: 96044 | H43: 0 | I43: 0 | J43: 3528236 | K43: 3528237 | L43: 3361118
A44: First Deputy of H.R.H The PM Office | B44: 70 | C44: 1065007 | D44: 195369 | E44: 57708 | F44: 90453 | G44: 1294 | H44: 0 | I44: 20000 | J44: 1429831 | K44: 1804000 | L44: 1316372
A45: General Secretariat of the Cabinet -71 | B45: 71 | C45: 1146535 | D45: 178781 | E45: 16481 | F45: 11302 | G45: 3159 | H45: 0 | I45: 0 | J45: 1356257 | K45: 1519000 | L45: 1429566
A46: Civil Service Bureau-72 | B46: 72 | C46: 5062822 | D46: 794381 | E46: 26037 | F46: 18966 | G46: 14126 | H46: 0 | I46: 0 | J46: 5916333 | K46: 6602000 | L46: 5916829
A47: Central Informatics Org-73 | B47: 73 | C47: 6080873 | D47: 920456 | E47: 1634136 | F47: 55039 | G47: 397152 | H47: 0 | I47: 0 | J47: 9087656 | K47: 8441318 | L47: 9016838
A48: Deputy of H.R.H The PM-74 | B48: 74 | C48: 556497 | D48: 8194 | E48: 9454 | F48: 1785 | G48: 0 | H48: 0 | I48: 0 | J48: 575930 | K48: 625000 | L48: 535328
A49: General Secretariat for Youth & Sport | B49: 75 | C49: 728094 | D49: 196097 | E49: 10607 | F49: 3863 | G49: 9603 | H49: 10106757 | I49: 0 | J49: 11055020 | K49: 11061268 | L49: 11175615
A50: Supreme Judicial Council (76) | B50: 76 | C50: 12102511 | D50: 958261 | E50: 22777 | F50: 52725 | G50: 3563 | H50: 0 | I50: 0 | J50: 13139836 | K50: 12692000 | L50: 13009294
A51: Min. of Justice & Islamic Aff & Awq | B51: 77 | C51: 1796626 | D51: 2402459 | E51: 10372 | F51: 31074 | G51: 30049 | H51: 0 | I51: 0 | J51: 4270581 | K51: 4270582 | L51: 4255942
A52: Survey&Land Reg Bureau-78 | B52: 78 | C52: 5577298 | D52: 2579260 | E52: 69240 | F52: 36337 | G52: 238932 | H52: 0 | I52: 0 | J52: 8501068 | K52: 8546000 | L52: 8656734
... A57: National Health Regulatory Authority | B57: 89 | C57: 1143818 | D57: 691049 | E57: 42726 | F57: 79788 | G57: 7941 | H57: 0 | I57: 0 | J57: 1965323 | K57: 2651000 | L57: 0
A58: Advisors | B58: A | C58: =C20+C24+C25 -> 369710 | D58: =D20+D24+D25 -> 117794 | E58: =E20+E24+E25 -> 6473 | F58: =F20+F24+F25 -> 0 | G58: =G20+G24+G25 -> 19 | H58: =H20+H24+H25 -> 0 | I58: =I20+I24+I25 -> 0 | J58: =J20+J24+J25 -> 493996 | ... L58: =L20+L24+L25 -> 552636
A59: Deputies | B59: D | C59: =C10+C19+C29+C48 -> 2662757 | D59: =D10+D19+D29+D48 -> 520635 | E59: =E10+E19+E29+E48 -> 48407 | F59: =F10+F19+F29+F48 -> 13002 | G59: =G10+G19+G29+G48 -> 9528 | H59: =H10+H19+H29+H48 -> 0 | I59: =I10+I19+I29+I48 -> 0 | J59: =J10+J19+J29+J48 -> 3254328 | ... L59: =L10+L19+L29+L48 -> 3282120
A61: Min. of Information Aff-55 | B61: 55 | C61: =SUM(C36,C40) -> 13444173 | D61: =SUM(D36,D40) -> 6515552 | E61: =SUM(E36,E40) -> 1548366 | F61: =SUM(F36,F40) -> 294324 | G61: =SUM(G36,G40) -> 456463 | H61: =SUM(H36,H40) -> 0 | I61: =SUM(I36,I40) -> 55000 | J61: =SUM(J36,J40) -> 22313878 | ... L61: =SUM(L36,L40) -> 23693413

Sheet Meta11
A1: 11- مصروفات المشاريع مصنفة حسب الوزارات والجهات الحكومية
A3: Ministry | B3: Code | C3: Budget | D3: Actual-CY | E3: Actual-PY
A4: Ministry of Interior-13 | B4: 13 | C4: 22000000 | D4: 21997018 | E4: 31276833
A5: Min. of Foreign Affairs-16 | B5: 16 | C5: 7055405 | D5: 5671647 | E5: 987912
A6: Deputy of H.R.H The PM-17 | B6: 17 | C6: 60000 | D6: 60000 | E6: 15000
A7: Min. of Justice & Islamic Aff & Awqaf (Justice Aff)-18 | B7: 18 | C7: 1565500 | D7: 401395 | E7: 200090
A8: Min. of Education-21 | B8: 21 | C8: 10380801 | D8: 5271730 | E8: 4432953
A9: Ministry of Health-22 | B9: 22 | C9: 10487893 | D9: 10487893 | E9: 8570086
A10: Min. of Works, Mun Aff & Urb Plg -23 (Mun Aff&Urb Plg) | B10: 23 | C10: 17678608 | D10: 11601891 | E10: 8548357
A11: Min. of Labour -24 | B11: 24 | C11: 193666 | D11: 95560 | E11: 181466
A12: General Organization for Youth&Sport-26 | B12: 26 | C12: 5298704 | D12: 5298704 | E12: 6911289
A13: Rashed Club for Equestrian & Horse Racing-28 | B13: 28 | C13: 35408 | D13: 21478 | E13: 261070
A14: Min. of Social Development-29 | B14: 29 | C14: 1348397 | D14: 800656 | E14: 970328
A15: Min of Industry & Commerce-34 | B15: 34 | C15: 4810000 | D15: 4603811 | E15: 4793449
... A20: National Guard-50 | B20: 50 | C20: 4080115 | D20: 4070533 | E20: 5953424
A21: Min. of Information Aff-55 | C21: 3151115 | D21: 491198 | E21: 1091600
A22: Tender Board-59 | B22: 59 | C22: 200000 | D22: 137365 | E22: 114432
A23: Transfers | B23: 60 | C23: 141803771 | D23: 93671804 | E23: 100302253
A24: Information Affairs Authority-65 | C24: 10003046 | D24: 5857139 | E24: 7511345
A25: Bahrain Authority for Culture & Antiquities-66 | B25: 66 | C25: 8416185 | D25: 6609206 | E25: 4650195
A26: Supreme Council for Health-67 | B26: 67 | C26: 1600000 | D26: 248534 | E26: 237637
A27: First Deputy of H.R.H The PM Office-70 | B27: 70 | C27: 3000000 | D27: 3000000 | E27: 3000000
A28: Civil Service Bureau-72 | B28: 72 | C28: 700000 | D28: 175796 | E28: 134694
A29: Central Informatics Org-73 | B29: 73 | C29: 2508644 | D29: 977881 | E29: 4768215
A30: Supreme Judicial Council (76) | B30: 76 | C30: 150000 | D30: 105607 | E30: 123848
A31: Min. of Justice & Islamic Aff & Awqaf (Islamic Aff)-77 | B31: 77 | C31: 1100000 | D31: 1063630 | E31: 1037004
A32: Survey&Land Reg Bureau-78 | B32: 78 | C32: 1000000 | D32: 434961 | E32: 543113
A33: Ministry of Finance-81 | B33: 81 | C33: 2500000 | D33: 1728391 | E33: 2483482
A34: Customs Affairs-83 | B34: 83 | C34: 1700000 | D34: 1138004 | E34: 1648470
A35: King Hamad University Hospital-88 | B35: 88 | C35: 15923320 | D35: 15923320 | E35: 10234270
A37: Min. of Information Aff-55 | B37: 55 | C37: =SUM(C21,C24) -> 13154161 | D37: =SUM(D21,D24) -> 6348337 | E37: =SUM(E21,E24) -> 8602945

Sheet Meta
A1: Entity Names
A2: ديوان صاحب السمو الملكي رئيس الوزراء | B2: 11 | D2: التبويــب | H2: البيــــــــان
A3: وزارة الدفاع (إيضاح رقم 13) | B3: 12 | D3: Code
A4: وزارة الداخلية | B4: 13 | D4: بند | E4: قسم | F4: باب | G4: نوع
A5: جهاز الأمن الوطني | B5: 14 | D5: Item | E5: Sect. | F5: Chpt. | G5: Type
A6: هيئة التشريع والإفتاء القانوني | B6: 15 | F6: 1 | G6: 4 | H6: النفط والغاز الطبيعي
A7: وزارة الخارجية | B7: 16 | E7: 1 | F7: 1 | G7: 4 | H7: مبيعات النفط
A8: نائب رئيس مجلس الوزراء – الشيخ خالد بن عبدالله آل خليفة | B8: 17 | D8: 40011 | E8: 1 | F8: 1 | G8: 4 | H8: حقل البحرين
A9: وزارة العدل والشئون الإسلامية والأوقاف (شئون العدل) | B9: 18 | D9: 40012 | E9: 1 | F9: 1 | G9: 4 | H9: حقل أبوسعفة
A10: وزارة التربية والتعليم | B10: 21 | D10: 40014 | E10: 1 | F10: 1 | G10: 4 | H10: احتياطي الأجيال القادمة
A11: وزارة الصحة | B11: 22 | E11: 2 | F11: 1 | G11: 4 | H11: مبيعات الغاز
A12: وزارة الأشغال وشئون البلديات والتخطيط العمراني (الإدارة العامة للتخطيط العمراني وإدارة الإستملاك والتعويض وشئون الزراعة والثروة البحرية) | B12: 23 | D12: 40031 | E12: 2 | F12: 1 | G12: 4 | H12: محطة المنامة للكهرباء
A13: وزارة العمل والتنمية الاجتماعية (العمل) | B13: 24 | D13: 40032 | E13: 2 | F13: 1 | G13: 4 | H13: محطة سترة للكهرباء
A14: وزارة شئون الشباب والرياضة | B14: 26 | D14: 40033 | E14: 2 | F14: 1 | G14: 4 | H14: محطة سترة للمياه
A15: نادي راشد للفروسية وسباق الخيل | B15: 28 | D15: 40034 | E15: 2 | F15: 1 | G15: 4 | H15: محطة الرفاع للكهرباء
A16: وزارة العمل والتنمية الاجتماعية (التنمية الاجتماعية) | B16: 29 | D16: 40035 | E16: 2 | F16: 1 | G16: 4 | H16: محطة الحد للكهرباء وتحلية المياه
A17: نائب رئيس مجلس الوزراء – جواد بن سالم العريض | B17: 30 | D17: 40036 | E17: 2 | F17: 1 | G17: 4 | H17: محطة الحد للمياه
A18: مستشار رئيس الوزراء للشئون الاقتصادية | B18: 31 | D18: 40037 | E18: 2 | F18: 1 | G18: 4 | H18: مبيعات الغاز إلى محطات انتاج الكهرباء والماء
A19: مكتب وزير شئون مجلس الوزراء | B19: 32 | D19: 40051 | E19: 2 | F19: 1 | G19: 4 | H19: شركة المنيوم البحرين (البا)
A20: مستشار رئيس مجلس الوزراء – ماجد الجشي | B20: 33 | D20: 40052 | E20: 2 | F20: 1 | G20: 4 | H20: شركة نفط البحرين (بابكو)
A21: وزارة الصناعة والتجارة والسياحة | B21: 34 | D21: 40053 | E21: 2 | F21: 1 | G21: 4 | H21: شركة غاز البحرين الوطنية (بناغاز)
A22: مستشار رئيس الوزراء للشئون الأمنية | B22: 35 | D22: 40054 | E22: 2 | F22: 1 | G22: 4 | H22: الشركات المحلية الاخرى
A23: وزارة الإسكان | B23: 36 | E23: 3 | F23: 1 | G23: 4 | H23: الضرائب والرسوم النفطية
A24: مستشار سمو رئيس الوزراء للشئون الصناعية والنفطية | B24: 37 | D24: 42011 | E24: 3 | F24: 1 | G24: 4 | H24: ضريبة دخل الغاز
A25: مكتب مستشار رئيس مجلس الوزراء | B25: 38 | D25: 42013 | E25: 3 | F25: 1 | G25: 4 | H25: ضريبة البنزين
A26: وزير شئون الكهرباء والماء | B26: 40 | F26: 2 | G26: 4 | H26: الضرائب والرسوم
A27: المجلس الأعلى للبيئة | B27: 41 | E27: 1 | F27: 2 | G27: 4 | H27: الضرائب والرسوم على استهلاك السلع والمنتجات
A28: نائب رئيس مجلس الوزراء – الشيخ محمد بن مبارك آل خليفة | B28: 44 | D28: 42013 | E28: 1 | F28: 2 | G28: 4 | H28: ضريبة البنزين
A29: وزارة الأشغال وشئون البلديات والتخطيط العمراني (الأشغال) | B29: 46 | E29: 2 | F29: 2 | G29: 4 | H29: الضرائب والرسوم على التجارة الدولية
A30: وزارة المواصلات والاتصالات | B30: 48 | D30: 42501 | E30: 2 | F30: 2 | G30: 4 | H30: ضرائب جمركية على السلع الضرورية الأساسية
A31: الحرس الوطني | B31: 50 | D31: 42502 | E31: 2 | F31: 2 | G31: 4 | H31: ضرائب جمركية على السلع الأساسية الثانوية للأستعمال
A32: الهيئة الوطنية للنفط والغاز | B32: 51 | D32: 42504 | E32: 2 | F32: 2 | G32: 4 | H32: ضرائب جمركية على التبغ المصنع وغير المصنع ومشتقاته
A33: وزارة الدولة لشئون الاتصالات | B33: 53 | D33: 42505 | E33: 2 | F33: 2 | G33: 4 | H33: ضرائب جمركية على السلع الكمالية
A34: وزارة شئون مجلسي الشورى والنواب | B34: 54 | D34: 42507 | E34: 2 | F34: 2 | G34: 4 | H34: ضريبة حماية الصناعة الوطنية
A35: وزارة شئون الاعلام | B35: 55 | D35: 42503 | E35: 2 | F35: 2 | G35: 4 | H35: ضرائب جمركية على المركبات
A36: وزارة الدولة لشئون حقوق الانسان | B36: 58 | D36: 42506 | E36: 2 | F36: 2 | G36: 4 | H36: ضرائب جمركية على اليخوت
A37: مجلـس المناقصات والمزايدات | B37: 59 | E37: 3 | F37: 2 | G37: 4 | H37: رسوم التسجيل والتراخيص
A38: الميزانية التحويلية | B38: 60 | D38: 43011 | E38: 3 | F38: 2 | G38: 4 | H38: نشاطات التجارة العامة
A39: وزارة النفط | B39: 61 | D39: 43021 | E39: 3 | F39: 2 | G39: 4 | H39: نشاطات الصناعة
A40: إيرادات النفط والغاز الطبيعي | B40: 62 | D40: 43031 | E40: 3 | F40: 2 | G40: 4 | H40: نشاطات الخدمات المالية
...

Sheet  بيان الإيرادات والمصروفات
A1: بيان الإيرادات والمصروفات الموحد للدولة
A2: للسنة المالية المنتهية في 31 ديسمبر 2016
E3: (دينار بحريني)
A4: البيان | B4: الإيضاحات | C4: الاعتماد | D4: الفعلي 2016 | E4: الفعلي 2015
A5: الإيرادات
A6: النفط والغاز الطبيعي | B6: 5,4,2 | C6: ='تفصيل الإيرادات'!F5 -> 1757613000 | D6: ='تفصيل الإيرادات'!G5 -> 1436462053 | E6: ='تفصيل الإيرادات'!I5 -> 1594672391
A7: الضرائب والرسوم | B7: 5,4 | C7: ='تفصيل الإيرادات'!F28 -> 195321218 | D7: ='تفصيل الإيرادات'!G28 -> 237568219 | E7: ='تفصيل الإيرادات'!I28 -> 224533723
A8: المنتجات الخدمية والسلعية الحكومية | B8: 5,4 | C8: ='تفصيل الإيرادات'!F98 -> 70401212 | D8: ='تفصيل الإيرادات'!G98 -> 83868836 | E8: ='تفصيل الإيرادات'!I98 -> 74776392
A9: الاستثمارات والأملاك الحكومية | B9: 5,4 | C9: ='تفصيل الإيرادات'!F165 -> 93386210 | D9: ='تفصيل الإيرادات'!G165 -> 50362940 | E9: ='تفصيل الإيرادات'!I165 -> 83506829
A10: الإعانات | B10: 5,4 | C10: ='تفصيل الإيرادات'!F184 -> 28200000 | D10: ='تفصيل الإيرادات'!G184 -> 28356558 | E10: ='تفصيل الإيرادات'!I184 -> 28169590
A11: مبيعات الأصول الرأسمالية | B11: 5,4 | C11: ='تفصيل الإيرادات'!F187 -> 398320 | D11: ='تفصيل الإيرادات'!G187 -> 613885 | E11: ='تفصيل الإيرادات'!I187 -> 564281
A12: الغرامات والجزاءات والإيرادات المتنوعة | B12: 5,4 | C12: ='تفصيل الإيرادات'!F200 -> 32214040 | D12: ='تفصيل الإيرادات'!G200 -> 60544962 | E12: ='تفصيل الإيرادات'!I200 -> 35933248
A13: مجموع الإيرادات | B13: 5,4,3 | C13: =SUM(C6:C12) -> 2177534000 | D13: =SUM(D6:D12) -> 1897777453 | E13: =SUM(E6:E12) -> 2042156454
A14: المصروفات المتكررة
A15: القوى العاملة | B15: 9,8,6 | C15: ='تفصيل المصروفات '!$F$5 -> 1438476809 | D15: ='تفصيل المصروفات '!$G$5 -> 1429143771 | E15: ='تفصيل المصروفات '!$I$5 -> 1429500860
A16: الخدمات | B16: 9,8,6 | C16: ='تفصيل المصروفات '!$F$100 -> 198397732 | D16: ='تفصيل المصروفات '!$G$100 -> 217876956 | E16: ='تفصيل المصروفات '!$I$100 -> 238420990
A17: السلع الاستهلاكية | B17: 9,8,6 | C17: ='تفصيل المصروفات '!$F$175 -> 123847306 | D17: ='تفصيل المصروفات '!$G$175 -> 133774676 | E17: ='تفصيل المصروفات '!$I$175 -> 131180581
A18: السلع الرأسمالية | B18: 9,8,6 | C18: ='تفصيل المصروفات '!$F$233 -> 26445364 | D18: ='تفصيل المصروفات '!$G$233 -> 29406230 | E18: ='تفصيل المصروفات '!$I$233 -> 30313224
A19: الصيانة | B19: 9,8,6 | C19: ='تفصيل المصروفات '!$F$347 -> 57587636 | D19: ='تفصيل المصروفات '!$G$347 -> 66748918 | E19: ='تفصيل المصروفات '!$I$347 -> 59986238
A20: نفقات تحويلية | B20: 9,8,6 | C20: ='تفصيل المصروفات '!$F$423 -> 666394098 | D20: ='تفصيل المصروفات '!$G$423 -> 611362748 | E20: ='تفصيل المصروفات '!$I$423 -> 668488285
A21: الإعانات وتسديد فوائد القروض | B21: 9,8,6 | C21: ='تفصيل المصروفات '!$F$436 -> 677401055 | D21: ='تفصيل المصروفات '!$G$436 -> 633099754 | E21: ='تفصيل المصروفات '!$I$436 -> 557846113
A22: مجموع المصروفات المتكررة | B22: 9,8,7,6,3 | C22: =SUM(C15:C21) -> 3188550000 | D22: =SUM(D15:D21) -> 3121413053 | E22: =SUM(E15:E21) -> 3115736291
A23: مصروفات المشاريع | B23: 11,6,3 | C23: =مشاريع!C38 -> 553000000 | D23: =مشاريع!D38 -> 410882998 | E23: =مشاريع!F38 -> 443679113
A24: مجموع المصروفات | B24: 6 | C24: =SUM(C22:C23) -> 3741550000 | D24: =SUM(D22:D23) -> 3532296051 | E24: =SUM(E22:E23) -> 3559415404
A25: العجز للسنة | C25: =C13-C24 -> -1564016000 | D25: =D13-D24 -> -1634518598 | E25: =E13-E24 -> -1517258950
A27: مصروفات مشاريع التسليح والتطوير | B27: 14 | C27: 0 | D27: 0 | E27: 0
A28: العجز للسنة | C28: =C25-C27 -> -1564016000 | D28: =D25-D27 -> -1634518598 | E28: =E25-E27 -> -1517258950
A29: بيان الاعتمادات المدورة
D30: 2016 | E30: 2015
A31: اعتمادات المصروفات المتكررة | B31: 15,7,6 | D31: 0 | E31: 0
A32: اعتمادات المشاريع | B32: 16,6 | D32: 77000000 | E32: 59000000
A33: مجموع الاعتمادات المدورة | D33: =SUM(D31:D32) -> 77000000 | E33: =SUM(E31:E32) -> 59000000
A35: الإيضاحات الواردة على الصفحات من (5) إلى (35) هي جزء مكمل للحساب الختامي الموحد للدولة.

Sheet إيرادات النفط 
A1: 2- إيرادات النفط والغاز الطبيعي
C2: (دينار بحريني)
A3: البيان | B3: الفعلي 2016 | C3: الفعلي 2015
A5: إيرادات حقل البحرين النفطية والمصفاة
A6: الإيرادات
A7: إجمالي الإيرادات | B7: 1771260183 | C7: 2175842253
A8: إجمالي التكاليف | B8: -1492617008 | C8: -1945117326
A9: صافي الإيرادات | B9: =SUM(B7:B8) -> 278643175 | C9: =SUM(C7:C8) -> 230724927
A11: إيرادات حقل أبو سعفة
A12: إجمالي الإيرادات | B12: 821916124 | C12: 1066466713
A13: إجمالي التكاليف | B13: -98245176 | C13: -109061876
A14: احتياطي الأجيال القادمة | B14: -14056467 | C14: -17105245
A15: صافي الإيرادات | B15: =SUM(B12:B14) -> 709614481 | C15: =SUM(C12:C14) -> 940299592
A17: مبيعات الغاز الطبيعي
A18: إيرادات الغاز الطبيعي | B18: 443340791 | C18: 411785821
A20: ضرائب ورسوم نفطية | B20: 4863606 | C20: 11862051
A21: توزيعات أرباح مستلمة (الشركة القابضة للنفط والغاز) | B21: 0 | C21: 0
A23: صافي إيرادات النفط والغاز الطبيعي | B23: =B9+B15+B18+B20+B21 -> 1436462053 | C23: =C9+C15+C18+C20+C21 -> 1594672391

Sheet مصروفات وايرادات الوزارات
A1: 3- الإيرادات والمصروفات مصنفة حسب الوزارات والجهات الحكومية
C2: (دينار بحريني)
A3: الوزارة أو الجهة الحكومية | C3: الإيرادات | F3: المصروفات المتكررة | J3: مصروفات المشاريع
B4: Code | C4: الفعلي | D4: الاعتماد | E4: نسبة التحصيل % | F4: الفعلي | G4: الاعتماد | H4: نسبة الصرف % | J4: الفعلي | K4: الاعتماد | L4: نسبة الصرف %
A5: ديوان صاحب السمو الملكي رئيس الوزراء | B5: 11 | C5: {=IFERROR(INDEX(الايرادات!J:J,MATCH($B5,الايرادات!$B:$B,0)),0)} -> 0 | D5: {=IFERROR(INDEX(الايرادات!K:K,MATCH($B5,الايرادات!$B:$B,0)),0)} -> 0 | E5: 0 | F5: {=IFERROR(INDEX('مصروفات الوزارات'!J:J,MATCH($B5,'مصروفات الوزارات'!$B:$B,0)),0)} -> 19222654 | G5: {=IFERROR(INDEX('مصروفات الوزارات'!K:K,MATCH($B5,'مصروفات الوزارات'!$B:$B,0)),0)} -> 19342000 | H5: 99.38 | J5: {=IFERROR(INDEX(مشاريع!D:D,MATCH($B5,مشاريع!$B:$B,0)),0)} -> 0 | K5: {=IFERROR(INDEX(مشاريع!C:C,MATCH($B5,مشاريع!$B:$B,0)),0)} -> 0 | L5: 0
A6: وزارة الدفاع (إيضاح رقم 13) | B6: 12 | C6: {=IFERROR(INDEX(الايرادات!J:J,MATCH($B6,الايرادات!$B:$B,0)),0)} -> 0 | D6: {=IFERROR(INDEX(الايرادات!K:K,MATCH($B6,الايرادات!$B:$B,0)),0)} -> 0 | E6: 0 | F6: {=IFERROR(INDEX('مصروفات الوزارات'!J:J,MATCH($B6,'مصروفات الوزارات'!$B:$B,0)),0)} -> 521881353 | G6: {=IFERROR(INDEX('مصروفات الوزارات'!K:K,MATCH($B6,'مصروفات الوزارات'!$B:$B,0)),0)} -> 494450000 | H6: 105.55 | J6: {=IFERROR(INDEX(مشاريع!D:D,MATCH($B6,مشاريع!$B:$B,0)),0)} -> 0 | K6: {=IFERROR(INDEX(مشاريع!C:C,MATCH($B6,مشاريع!$B:$B,0)),0)} -> 0 | L6: 0
A7: وزارة الداخلية | B7: 13 | C7: {=IFERROR(INDEX(الايرادات!J:J,MATCH($B7,الايرادات!$B:$B,0)),0)} -> 50947296 | D7: {=IFERROR(INDEX(الايرادات!K:K,MATCH($B7,الايرادات!$B:$B,0)),0)} -> 40700000 | E7: 125.18 | F7: {=IFERROR(INDEX('مصروفات الوزارات'!J:J,MATCH($B7,'مصروفات الوزارات'!$B:$B,0)),0)} -> 357208195 | G7: {=IFERROR(INDEX('مصروفات الوزارات'!K:K,MATCH($B7,'مصروفات الوزارات'!$B:$B,0)),0)} -> 355500000 | H7: 100.48 | J7: {=IFERROR(INDEX(مشاريع!D:D,MATCH($B7,مشاريع!$B:$B,0)),0)} -> 21997018 | K7: {=IFERROR(INDEX(مشاريع!C:C,MATCH($B7,مشاريع!$B:$B,0)),0)} -> 22000000 | L7: 99.99
A8: جهاز الأمن الوطني | B8: 14 | C8: {=IFERROR(INDEX(الايرادات!J:J,MATCH($B8,الايرادات!$B:$B,0)),0)} -> 0 | D8: {=IFERROR(INDEX(الايرادات!K:K,MATCH($B8,الايرادات!$B:$B,0)),0)} -> 0 | E8: 0 | F8: {=IFERROR(INDEX('مصروفات الوزارات'!J:J,MATCH($B8,'مصروفات الوزارات'!$B:$B,0)),0)} -> 34842000 | G8: {=IFERROR(INDEX('مصروفات الوزارات'!K:K,MATCH($B8,'مصروفات الوزارات'!$B:$B,0)),0)} -> 34842000 | H8: 100 | J8: {=IFERROR(INDEX(مشاريع!D:D,MATCH($B8,مشاريع!$B:$B,0)),0)} -> 0 | K8: {=IFERROR(INDEX(مشاريع!C:C,MATCH($B8,مشاريع!$B:$B,0)),0)} -> 0 | L8: 0
A9: هيئة التشريع والإفتاء القانوني | B9: 15 | C9: {=IFERROR(INDEX(الايرادات!J:J,MATCH($B9,الايرادات!$B:$B,0)),0)} -> 3546 | D9: {=IFERROR(INDEX(الايرادات!K:K,MATCH($B9,الايرادات!$B:$B,0)),0)} -> 5000 | E9: 70.91 | F9: {=IFERROR(INDEX('مصروفات الوزارات'!J:J,MATCH($B9,'مصروفات الوزارات'!$B:$B,0)),0)} -> 2530529 | G9: {=IFERROR(INDEX('مصروفات الوزارات'!K:K,MATCH($B9,'مصروفات الوزارات'!$B:$B,0)),0)} -> 2530529 | H9: 100 | J9: {=IFERROR(INDEX(مشاريع!D:D,MATCH($B9,مشاريع!$B:$B,0)),0)} -> 0 | K9: {=IFERROR(INDEX(مشاريع!C:C,MATCH($B9,مشاريع!$B:$B,0)),0)} -> 0 | L9: 0
A10: وزارة الخارجية | B10: 16 | C10: {=IFERROR(INDEX(الايرادات!J:J,MATCH($B10,الايرادات!$B:$B,0)),0)} -> 1603334 | D10: {=IFERROR(INDEX(الايرادات!K:K,MATCH($B10,الايرادات!$B:$B,0)),0)} -> 2055000 | E10: 78.02 | F10: {=IFERROR(INDEX('مصروفات الوزارات'!J:J,MATCH($B10,'مصروفات الوزارات'!$B:$B,0)),0)} -> 30567635 | G10: {=IFERROR(INDEX('مصروفات الوزارات'!K:K,MATCH($B10,'مصروفات الوزارات'!$B:$B,0)),0)} -> 30569641 | H10: 99.99 | J10: {=IFERROR(INDEX(مشاريع!D:D,MATCH($B10,مشاريع!$B:$B,0)),0)} -> 5671647 | K10: {=IFERROR(INDEX(مشاريع!C:C,MATCH($B10,مشاريع!$B:$B,0)),0)} -> 7055405 | L10: 80.39
A11: وزارة العدل والشئون الإسلامية والأوقاف (شئون العدل) | B11: 18 | C11: {=IFERROR(INDEX(الايرادات!J:J,MATCH($B11,الايرادات!$B:$B,0)),0)} -> 15126414 | D11: {=IFERROR(INDEX(الايرادات!K:K,MATCH($B11,الايرادات!$B:$B,0)),0)} -> 10846000 | E11: 139.47 | F11: {=IFERROR(INDEX('مصروفات الوزارات'!J:J,MATCH($B11,'مصروفات الوزارات'!$B:$B,0)),0)} -> 12169486 | G11: {=IFERROR(INDEX('مصروفات الوزارات'!K:K,MATCH($B11,'مصروفات الوزارات'!$B:$B,0)),0)} -> 11067765 | H11: 109.95 | J11: {=IFERROR(INDEX(مشاريع!D:D,MATCH($B11,مشاريع!$B:$B,0)),0)} -> 401395 | K11: {=IFERROR(INDEX(مشاريع!C:C,MATCH($B11,مشاريع!$B:$B,0)),0)} -> 1565500 | L11: 25.64
A12: وزارة التربية والتعليم | B12: 21 | C12: {=IFERROR(INDEX(الايرادات!J:J,MATCH($B12,الايرادات!$B:$B,0)),0)} -> 843390 | D12: {=IFERROR(INDEX(الايرادات!K:K,MATCH($B12,الايرادات!$B:$B,0)),0)} -> 900000 | E12: 93.71 | F12: {=IFERROR(INDEX('مصروفات الوزارات'!J:J,MATCH($B12,'مصروفات الوزارات'!$B:$B,0)),0)} -> 334558748 | G12: {=IFERROR(INDEX('مصروفات الوزارات'!K:K,MATCH($B12,'مصروفات الوزارات'!$B:$B,0)),0)} -> 327143231 | H12: 102.27 | J12: {=IFERROR(INDEX(مشاريع!D:D,MATCH($B12,مشاريع!$B:$B,0)),0)} -> 5271730 | K12: {=IFERROR(INDEX(مشاريع!C:C,MATCH($B12,مشاريع!$B:$B,0)),0)} -> 10380801 | L12: 50.78
A13: وزارة الصحة | B13: 22 | C13: {=IFERROR(INDEX(الايرادات!J:J,MATCH($B13,الايرادات!$B:$B,0)),0)} -> 43249123 | D13: {=IFERROR(INDEX(الايرادات!K:K,MATCH($B13,الايرادات!$B:$B,0)),0)} -> 33570000 | E13: 128.83 | F13: {=IFERROR(INDEX('مصروفات الوزارات'!J:J,MATCH($B13,'مصروفات الوزارات'!$B:$B,0)),0)} -> 261116093 | G13: {=IFERROR(INDEX('مصروفات الوزارات'!K:K,MATCH($B13,'مصروفات الوزارات'!$B:$B,0)),0)} -> 262354534 | H13: 99.53 | J13: {=IFERROR(INDEX(مشاريع!D:D,MATCH($B13,مشاريع!$B:$B,0)),0)} -> 10487893 | K13: {=IFERROR(INDEX(مشاريع!C:C,MATCH($B13,مشاريع!$B:$B,0)),0)} -> 10487893 | L13: 100
A14: وزارة الأشغال وشئون البلديات والتخطيط العمراني (الإدارة العامة للتخطيط العمراني وإدارة الاستملاك والتعويض وشئون الزراعة والثروة البحرية) | B14: 23 | C14: {=IFERROR(INDEX(الايرادات!J:J,MATCH($B14,الايرادات!$B:$B,0)),0)} -> 3321518 | D14: {=IFERROR(INDEX(الايرادات!K:K,MATCH($B14,الايرادات!$B:$B,0)),0)} -> 335000 | E14: 991 | F14: {=IFERROR(INDEX('مصروفات الوزارات'!J:J,MATCH($B14,'مصروفات الوزارات'!$B:$B,0)),0)} -> 10756348 | G14: {=IFERROR(INDEX('مصروفات الوزارات'!K:K,MATCH($B14,'مصروفات الوزارات'!$B:$B,0)),0)} -> 11974408 | H14: 89.83 | J14: {=IFERROR(INDEX(مشاريع!D:D,MATCH($B14,مشاريع!$B:$B,0)),0)} -> 11601891 | K14: {=IFERROR(INDEX(مشاريع!C:C,MATCH($B14,مشاريع!$B:$B,0)),0)} -> 17678608 | L14: 65.63
A15: وزارة العمل والتنمية الاجتماعية (العمل) | B15: 24 | C15: {=IFERROR(INDEX(الايرادات!J:J,MATCH($B15,الايرادات!$B:$B,0)),0)} -> 10411 | D15: {=IFERROR(INDEX(الايرادات!K:K,MATCH($B15,الايرادات!$B:$B,0)),0)} -> 74000 | E15: 14.07 | F15: {=IFERROR(INDEX('مصروفات الوزارات'!J:J,MATCH($B15,'مصروفات الوزارات'!$B:$B,0)),0)} -> 6034407 | G15: {=IFERROR(INDEX('مصروفات الوزارات'!K:K,MATCH($B15,'مصروفات الوزارات'!$B:$B,0)),0)} -> 6034399 | H15: 100 | J15: {=IFERROR(INDEX(مشاريع!D:D,MATCH($B15,مشاريع!$B:$B,0)),0)} -> 95560 | K15: {=IFERROR(INDEX(مشاريع!C:C,MATCH($B15,مشاريع!$B:$B,0)),0)} -> 193666 | L15: 49.34
A16: وزارة شئون الشباب والرياضة (إيضاح رقم 17) | B16: 26 | C16: {=IFERROR(INDEX(الايرادات!J:J,MATCH($B16,الايرادات!$B:$B,0)),0)} -> 51280 | D16: {=IFERROR(INDEX(الايرادات!K:K,MATCH($B16,الايرادات!$B:$B,0)),0)} -> 17000 | E16: 301.64 | F16: {=IFERROR(INDEX('مصروفات الوزارات'!J:J,MATCH($B16,'مصروفات الوزارات'!$B:$B,0)),0)} -> 12183012 | G16: {=IFERROR(INDEX('مصروفات الوزارات'!K:K,MATCH($B16,'مصروفات الوزارات'!$B:$B,0)),0)} -> 12369000 | H16: 98 | J16: {=IFERROR(INDEX(مشاريع!D:D,MATCH($B16,مشاريع!$B:$B,0)),0)} -> 5298704 | K16: {=IFERROR(INDEX(مشاريع!C:C,MATCH($B16,مشاريع!$B:$B,0)),0)} -> 5298704 | L16: 100
... A22: مكتب صاحب السمو الملكي النائب الأول لرئيس مجلس الوزراء | B22: 70 | C22: {=IFERROR(INDEX(الايرادات!J:J,MATCH($B22,الايرادات!$B:$B,0)),0)} -> 0 | D22: {=IFERROR(INDEX(الايرادات!K:K,MATCH($B22,الايرادات!$B:$B,0)),0)} -> 0 | E22: 0 | F22: {=IFERROR(INDEX('مصروفات الوزارات'!J:J,MATCH($B22,'مصروفات الوزارات'!$B:$B,0)),0)} -> 1429831 | G22: {=IFERROR(INDEX('مصروفات الوزارات'!K:K,MATCH($B22,'مصروفات الوزارات'!$B:$B,0)),0)} -> 1804000 | H22: 79.26 | J22: {=IFERROR(INDEX(مشاريع!D:D,MATCH($B22,مشاريع!$B:$B,0)),0)} -> 3000000 | K22: {=IFERROR(INDEX(مشاريع!C:C,MATCH($B22,مشاريع!$B:$B,0)),0)} -> 3000000 | L22: 100
A23: مكاتب نواب رئيس مجلس الوزراء | B23: D | C23: {=IFERROR(INDEX(الايرادات!J:J,MATCH($B23,الايرادات!$B:$B,0)),0)} -> 0 | D23: {=IFERROR(INDEX(الايرادات!K:K,MATCH($B23,الايرادات!$B:$B,0)),0)} -> 0 | E23: 0 | F23: {=IFERROR(INDEX('مصروفات الوزارات'!J:J,MATCH($B23,'مصروفات الوزارات'!$B:$B,0)),0)} -> 3254329 | G23: {=IFERROR(INDEX('مصروفات الوزارات'!K:K,MATCH($B23,'مصروفات الوزارات'!$B:$B,0)),0)} -> 3644363 | H23: 89.297581 | J23: {=IFERROR(INDEX(مشاريع!D:D,MATCH($B23,مشاريع!$B:$B,0)),0)} -> 60000 | K23: {=IFERROR(INDEX(مشاريع!C:C,MATCH($B23,مشاريع!$B:$B,0)),0)} -> 60000 | L23: 100
A24: مكاتب مستشاري صاحب السمو الملكي رئيس مجلس الوزراء | B24: A | C24: {=IFERROR(INDEX(الايرادات!J:J,MATCH($B24,الايرادات!$B:$B,0)),0)} -> 0 | D24: {=IFERROR(INDEX(الايرادات!K:K,MATCH($B24,الايرادات!$B:$B,0)),0)} -> 0 | E24: 0 | F24: {=IFERROR(INDEX('مصروفات الوزارات'!J:J,MATCH($B24,'مصروفات الوزارات'!$B:$B,0)),0)} -> 493996 | G24: {=IFERROR(INDEX('مصروفات الوزارات'!K:K,MATCH($B24,'مصروفات الوزارات'!$B:$B,0)),0)} -> 601710 | H24: 82.098685 | J24: {=IFERROR(INDEX(مشاريع!D:D,MATCH($B24,مشاريع!$B:$B,0)),0)} -> 0 | K24: {=IFERROR(INDEX(مشاريع!C:C,MATCH($B24,مشاريع!$B:$B,0)),0)} -> 0 | L24: 0
A25: مكتب وزير شئون الكهرباء والماء | B25: 40 | C25: {=IFERROR(INDEX(الايرادات!J:J,MATCH($B25,الايرادات!$B:$B,0)),0)} -> 0 | D25: {=IFERROR(INDEX(الايرادات!K:K,MATCH($B25,الايرادات!$B:$B,0)),0)} -> 0 | E25: 0 | F25: {=IFERROR(INDEX('مصروفات الوزارات'!J:J,MATCH($B25,'مصروفات الوزارات'!$B:$B,0)),0)} -> 232161 | G25: {=IFERROR(INDEX('مصروفات الوزارات'!K:K,MATCH($B25,'مصروفات الوزارات'!$B:$B,0)),0)} -> 271000 | H25: 85.67 | J25: {=IFERROR(INDEX(مشاريع!D:D,MATCH($B25,مشاريع!$B:$B,0)),0)} -> 0 | K25: {=IFERROR(INDEX(مشاريع!C:C,MATCH($B25,مشاريع!$B:$B,0)),0)} -> 0 | L25: 0
A26: 3- الإيرادات والمصروفات مصنفة حسب الوزارات والجهات الحكومية (تتمة)
C27: (دينار بحريني)
A28: الوزارة أو الجهة الحكومية | C28: الإيرادات | F28: المصروفات المتكررة | J28: مصروفات المشاريع
C29: الفعلي | D29: الاعتماد | E29: نسبة التحصيل % | F29: الفعلي | G29: الاعتماد | H29: نسبة الصرف % | J29: الفعلي | K29: الاعتماد | L29: نسبة الصرف %
A30: المجلس الأعلى للبيئة | B30: 41 | C30: {=IFERROR(INDEX(الايرادات!J:J,MATCH($B30,الايرادات!$B:$B,0)),0)} -> 280041 | D30: {=IFERROR(INDEX(الايرادات!K:K,MATCH($B30,الايرادات!$B:$B,0)),0)} -> 273000 | E30: 102.58 | F30: {=IFERROR(INDEX('مصروفات الوزارات'!J:J,MATCH($B30,'مصروفات الوزارات'!$B:$B,0)),0)} -> 5929430 | G30: {=IFERROR(INDEX('مصروفات الوزارات'!K:K,MATCH($B30,'مصروفات الوزارات'!$B:$B,0)),0)} -> 6542000 | H30: 90.64 | J30: {=IFERROR(INDEX(مشاريع!D:D,MATCH($B30,مشاريع!$B:$B,0)),0)} -> 195681 | K30: {=IFERROR(INDEX(مشاريع!C:C,MATCH($B30,مشاريع!$B:$B,0)),0)} -> 1000000 | L30: 19.57
A31: مركز الشيخ محمد بن خليفة آل خليفة التخصصي للقلب (إيضاح رقم 13) | B31: 43 | C31: {=IFERROR(INDEX(الايرادات!J:J,MATCH($B31,الايرادات!$B:$B,0)),0)} -> 0 | D31: {=IFERROR(INDEX(الايرادات!K:K,MATCH($B31,الايرادات!$B:$B,0)),0)} -> 0 | E31: 0 | F31: {=IFERROR(INDEX('مصروفات الوزارات'!J:J,MATCH($B31,'مصروفات الوزارات'!$B:$B,0)),0)} -> 15464999 | G31: {=IFERROR(INDEX('مصروفات الوزارات'!K:K,MATCH($B31,'مصروفات الوزارات'!$B:$B,0)),0)} -> 15465000 | H31: 100 | J31: {=IFERROR(INDEX(مشاريع!D:D,MATCH($B31,مشاريع!$B:$B,0)),0)} -> 0 | K31: {=IFERROR(INDEX(مشاريع!C:C,MATCH($B31,مشاريع!$B:$B,0)),0)} -> 0 | L31: 0
A32: وزارة الأشغال وشئون البلديات والتخطيط العمراني (الأشغال) | B32: 46 | C32: {=IFERROR(INDEX(الايرادات!J:J,MATCH($B32,الايرادات!$B:$B,0)),0)} -> 2364940 | D32: {=IFERROR(INDEX(الايرادات!K:K,MATCH($B32,الايرادات!$B:$B,0)),0)} -> 267000 | E32: 885.75 | F32: {=IFERROR(INDEX('مصروفات الوزارات'!J:J,MATCH($B32,'مصروفات الوزارات'!$B:$B,0)),0)} -> 45201214 | G32: {=IFERROR(INDEX('مصروفات الوزارات'!K:K,MATCH($B32,'مصروفات الوزارات'!$B:$B,0)),0)} -> 45456010 | H32: 99.44 | J32: {=IFERROR(INDEX(مشاريع!D:D,MATCH($B32,مشاريع!$B:$B,0)),0)} -> 62029663 | K32: {=IFERROR(INDEX(مشاريع!C:C,MATCH($B32,مشاريع!$B:$B,0)),0)} -> 108762065 | L32: 57.03
A33: هيئة الكهرباء والماء (إيضاح رقم 12) | B33: 47 | C33: {=IFERROR(INDEX(الايرادات!J:J,MATCH($B33,الايرادات!$B:$B,0)),0)} -> 0 | D33: {=IFERROR(INDEX(الايرادات!K:K,MATCH($B33,الايرادات!$B:$B,0)),0)} -> 0 | E33: 0 | F33: {=IFERROR(INDEX('مصروفات الوزارات'!J:J,MATCH($B33,'مصروفات الوزارات'!$B:$B,0)),0)} -> 268971800 | G33: {=IFERROR(INDEX('مصروفات الوزارات'!K:K,MATCH($B33,'مصروفات الوزارات'!$B:$B,0)),0)} -> 315735000 | H33: 85.19 | J33: {=IFERROR(INDEX(مشاريع!D:D,MATCH($B33,مشاريع!$B:$B,0)),0)} -> 0 | K33: {=IFERROR(INDEX(مشاريع!C:C,MATCH($B33,مشاريع!$B:$B,0)),0)} -> 0 | L33: 0
A34: وزارة المواصلات والاتصالات | B34: 48 | C34: {=IFERROR(INDEX(الايرادات!J:J,MATCH($B34,الايرادات!$B:$B,0)),0)} -> 45525179 | D34: {=IFERROR(INDEX(الايرادات!K:K,MATCH($B34,الايرادات!$B:$B,0)),0)} -> 38657000 | E34: 117.77 | F34: {=IFERROR(INDEX('مصروفات الوزارات'!J:J,MATCH($B34,'مصروفات الوزارات'!$B:$B,0)),0)} -> 33020801 | G34: {=IFERROR(INDEX('مصروفات الوزارات'!K:K,MATCH($B34,'مصروفات الوزارات'!$B:$B,0)),0)} -> 33020801 | H34: 100 | J34: {=IFERROR(INDEX(مشاريع!D:D,MATCH($B34,مشاريع!$B:$B,0)),0)} -> 3708048 | K34: {=IFERROR(INDEX(مشاريع!C:C,MATCH($B34,مشاريع!$B:$B,0)),0)} -> 6748789 | L34: 54.94
A35: الحرس الوطني | B35: 50 | C35: {=IFERROR(INDEX(الايرادات!J:J,MATCH($B35,الايرادات!$B:$B,0)),0)} -> 0 | D35: {=IFERROR(INDEX(الايرادات!K:K,MATCH($B35,الايرادات!$B:$B,0)),0)} -> 0 | E35: 0 | F35: {=IFERROR(INDEX('مصروفات الوزارات'!J:J,MATCH($B35,'مصروفات الوزارات'!$B:$B,0)),0)} -> 40199999 | G35: {=IFERROR(INDEX('مصروفات الوزارات'!K:K,MATCH($B35,'مصروفات الوزارات'!$B:$B,0)),0)} -> 40200000 | H35: 100 | J35: {=IFERROR(INDEX(مشاريع!D:D,MATCH($B35,مشاريع!$B:$B,0)),0)} -> 4070533 | K35: {=IFERROR(INDEX(مشاريع!C:C,MATCH($B35,مشاريع!$B:$B,0)),0)} -> 4080115 | L35: 99.77
A36: الهيئة الوطنية للنفط والغاز | B36: 51 | C36: {=IFERROR(INDEX(الايرادات!J:J,MATCH($B36,الايرادات!$B:$B,0)),0)} -> 60 | D36: {=IFERROR(INDEX(الايرادات!K:K,MATCH($B36,الايرادات!$B:$B,0)),0)} -> 0 | E36: 0 | F36: {=IFERROR(INDEX('مصروفات الوزارات'!J:J,MATCH($B36,'مصروفات الوزارات'!$B:$B,0)),0)} -> 2405895 | G36: {=IFERROR(INDEX('مصروفات الوزارات'!K:K,MATCH($B36,'مصروفات الوزارات'!$B:$B,0)),0)} -> 2405895 | H36: 100 | J36: {=IFERROR(INDEX(مشاريع!D:D,MATCH($B36,مشاريع!$B:$B,0)),0)} -> 0 | K36: {=IFERROR(INDEX(مشاريع!C:C,MATCH($B36,مشاريع!$B:$B,0)),0)} -> 0 | L36: 0
A37: وزارة شئون مجلسي الشورى والنواب | B37: 54 | C37: {=IFERROR(INDEX(الايرادات!J:J,MATCH($B37,الايرادات!$B:$B,0)),0)} -> 0 | D37: {=IFERROR(INDEX(الايرادات!K:K,MATCH($B37,الايرادات!$B:$B,0)),0)} -> 0 | E37: 0 | F37: {=IFERROR(INDEX('مصروفات الوزارات'!J:J,MATCH($B37,'مصروفات الوزارات'!$B:$B,0)),0)} -> 1354086 | G37: {=IFERROR(INDEX('مصروفات الوزارات'!K:K,MATCH($B37,'مصروفات الوزارات'!$B:$B,0)),0)} -> 1404000 | H37: 96.44 | J37: {=IFERROR(INDEX(مشاريع!D:D,MATCH($B37,مشاريع!$B:$B,0)),0)} -> 0 | K37: {=IFERROR(INDEX(مشاريع!C:C,MATCH($B37,مشاريع!$B:$B,0)),0)} -> 0 | L37: 0
A38: وزارة شئون الإعلام (إيضاح رقم 17) | B38: 55 | C38: {=IFERROR(INDEX(الايرادات!J:J,MATCH($B38,الايرادات!$B:$B,0)),0)} -> 1734883 | D38: {=IFERROR(INDEX(الايرادات!K:K,MATCH($B38,الايرادات!$B:$B,0)),0)} -> 1628000 | E38: 106.56529 | F38: {=IFERROR(INDEX('مصروفات الوزارات'!J:J,MATCH($B38,'مصروفات الوزارات'!$B:$B,0)),0)} -> 22313878 | G38: {=IFERROR(INDEX('مصروفات الوزارات'!K:K,MATCH($B38,'مصروفات الوزارات'!$B:$B,0)),0)} -> 23546400 | H38: 94.765561 | J38: {=IFERROR(INDEX(مشاريع!D:D,MATCH($B38,مشاريع!$B:$B,0)),0)} -> 6348337 | K38: {=IFERROR(INDEX(مشاريع!C:C,MATCH($B38,مشاريع!$B:$B,0)),0)} -> 13154161 | L38: 48.261056
A39: مجلـس المناقصات والمزايدات | B39: 59 | C39: {=IFERROR(INDEX(الايرادات!J:J,MATCH($B39,الايرادات!$B:$B,0)),0)} -> 7255 | D39: {=IFERROR(INDEX(الايرادات!K:K,MATCH($B39,الايرادات!$B:$B,0)),0)} -> 0 | E39: 0 | F39: {=IFERROR(INDEX('مصروفات الوزارات'!J:J,MATCH($B39,'مصروفات الوزارات'!$B:$B,0)),0)} -> 986584 | G39: {=IFERROR(INDEX('مصروفات الوزارات'!K:K,MATCH($B39,'مصروفات الوزارات'!$B:$B,0)),0)} -> 1125000 | H39: 87.7 | J39: {=IFERROR(INDEX(مشاريع!D:D,MATCH($B39,مشاريع!$B:$B,0)),0)} -> 137365 | K39: {=IFERROR(INDEX(مشاريع!C:C,MATCH($B39,مشاريع!$B:$B,0)),0)} -> 200000 | L39: 68.68
A40: الميزانيات التحويلية (إيضاح رقم 10) | B40: 60 | C40: {=IFERROR(INDEX(الايرادات!J:J,MATCH($B40,الايرادات!$B:$B,0)),0)} -> 120154298 | D40: {=IFERROR(INDEX(الايرادات!K:K,MATCH($B40,الايرادات!$B:$B,0)),0)} -> 147843000 | E40: 81.27 | F40: {=IFERROR(INDEX('مصروفات الوزارات'!J:J,MATCH($B40,'مصروفات الوزارات'!$B:$B,0)),0)} -> 915271526 | G40: {=IFERROR(INDEX('مصروفات الوزارات'!K:K,MATCH($B40,'مصروفات الوزارات'!$B:$B,0)),0)} -> 967776980 | H40: 94.55 | J40: {=IFERROR(INDEX(مشاريع!D:D,MATCH($B40,مشاريع!$B:$B,0)),0)} -> 93671803 | K40: {=IFERROR(INDEX(مشاريع!C:C,MATCH($B40,مشاريع!$B:$B,0)),0)} -> 141803770 | L40: 66.06
A41: وزارة النفط | B41: 61 | C41: {=IFERROR(INDEX(الايرادات!J:J,MATCH($B41,الايرادات!$B:$B,0)),0)} -> 0 | D41: {=IFERROR(INDEX(الايرادات!K:K,MATCH($B41,الايرادات!$B:$B,0)),0)} -> 0 | E41: 0 | F41: {=IFERROR(INDEX('مصروفات الوزارات'!J:J,MATCH($B41,'مصروفات الوزارات'!$B:$B,0)),0)} -> 89993 | G41: {=IFERROR(INDEX('مصروفات الوزارات'!K:K,MATCH($B41,'مصروفات الوزارات'!$B:$B,0)),0)} -> 148550 | H41: 60.58 | J41: {=IFERROR(INDEX(مشاريع!D:D,MATCH($B41,مشاريع!$B:$B,0)),0)} -> 0 | K41: {=IFERROR(INDEX(مشاريع!C:C,MATCH($B41,مشاريع!$B:$B,0)),0)} -> 0 | L41: 0
... A56: الهيئة الوطنية لتنظيم المهن والخدمات الصحية | B56: 89 | C56: {=IFERROR(INDEX(الايرادات!J:J,MATCH($B56,الايرادات!$B:$B,0)),0)} -> 885527 | D56: {=IFERROR(INDEX(الايرادات!K:K,MATCH($B56,الايرادات!$B:$B,0)),0)} -> 357000 | E56: 248.05 | F56: {=IFERROR(INDEX('مصروفات الوزارات'!J:J,MATCH($B56,'مصروفات الوزارات'!$B:$B,0)),0)} -> 1965318 | G56: {=IFERROR(INDEX('مصروفات الوزارات'!K:K,MATCH($B56,'مصروفات الوزارات'!$B:$B,0)),0)} -> 2651000 | H56: 74.14 | J56: {=IFERROR(INDEX(مشاريع!D:D,MATCH($B56,مشاريع!$B:$B,0)),0)} -> 0 | K56: {=IFERROR(INDEX(مشاريع!C:C,MATCH($B56,مشاريع!$B:$B,0)),0)} -> 0 | L56: 0
A57: المجموع | C57: =SUM(C5:C56) -> 1897777453 | D57: =SUM(D5:D56) -> 2177534000 | E57: =C57/D57*100 -> 87.152598 | F57: =SUM(F5:F56) -> 3121413053 | G57: =SUM(G5:G56) -> 3188550000 | H57: =F57/G57*100 -> 97.894436 | J57: =SUM(J5:J56) -> 410882998 | K57: =SUM(K5:K56) -> 553000000 | L57: =J57/K57*100 -> 74.300723

Sheet الايرادات
A1: 4- الإيرادات مصنفة حسب الأبواب والوزارات والجهات الحكومية
C2: (دينار بحريني)
A3: الوزارة أو الجهة الحكومية | B3: Code | C3: نفط وغاز طبيعي | D3: ضــرائـب ورســوم | E3: منتجات خدمية وسلعية حكومية | F3: استثمارات وأملاك حكومية | G3: إعانات | H3: مبيعات أصول رأسمالية | I3: غرامــات وجزاءات وإيرادات متنوعة | J3: المجموع | K3: الاعتماد | L3: الفعلي 2015
A4: ديوان صاحب السمو الملكي رئيس الوزراء | B4: 11 | C4: 0 | D4: 0 | E4: 0 | F4: 0 | G4: 0 | H4: 0 | I4: 0 | J4: =SUM(C4:I4) -> 0 | K4: 0 | L4: 88100
A5: وزارة الداخلية | B5: 13 | C5: 0 | D5: 43574011 | E5: 6309073 | F5: 53075 | G5: 0 | H5: 158173 | I5: 852964 | J5: =SUM(C5:I5) -> 50947296 | K5: 40700000 | L5: 47605960
A6: هيئة التشريع والإفتاء القانوني | B6: 15 | C6: 0 | D6: 0 | E6: 3218 | F6: 0 | G6: 0 | H6: 0 | I6: 328 | J6: =SUM(C6:I6) -> 3546 | K6: 5000 | L6: 13159
A7: وزارة الخارجية | B7: 16 | C7: 0 | D7: 582200 | E7: 0 | F7: 0 | G7: 0 | H7: 0 | I7: 1021134 | J7: =SUM(C7:I7) -> 1603334 | K7: 2055000 | L7: 1785623
A8: وزارة العدل والشئون الإسلامية والأوقاف (شئون العدل) | B8: 18 | C8: 0 | D8: 6307958 | E8: 12539 | F8: 60874 | G8: 0 | H8: 198 | I8: 8744845 | J8: =SUM(C8:I8) -> 15126414 | K8: 10846000 | L8: 15836788
A9: وزارة التربية والتعليم | B9: 21 | C9: 0 | D9: 13385 | E9: 150648 | F9: 0 | G9: 0 | H9: 79917 | I9: 599440 | J9: =SUM(C9:I9) -> 843390 | K9: 900000 | L9: 1608282
A10: وزارة الصحة | B10: 22 | C10: 0 | D10: 8770 | E10: 42381671 | F10: 140125 | G10: 0 | H10: 10726 | I10: 707831 | J10: =SUM(C10:I10) -> 43249123 | K10: 33570000 | L10: 35063505
A11: وزارة الأشغال وشئون البلديات والتخطيط العمراني (الإدارة العامة للتخطيط العمراني وإدارة الاستملاك والتعويض وشئون الزراعة والثروة البحرية) | B11: 23 | C11: 0 | D11: 2633768 | E11: 164351 | F11: 96782 | G11: 0 | H11: 36483 | I11: 390134 | J11: =SUM(C11:I11) -> 3321518 | K11: 335000 | L11: 896658
A12: وزارة العمل والتنمية الاجتماعية (العمل) | B12: 24 | C12: 0 | D12: 2595 | E12: 1595 | F12: 560 | G12: 0 | H12: 0 | I12: 5661 | J12: =SUM(C12:I12) -> 10411 | K12: 74000 | L12: 30559
A13: وزارة شئون الشباب والرياضة (إيضاح رقم 17) | B13: 26 | C13: 0 | D13: 7998 | E13: 0 | F13: 1500 | G13: 0 | H13: 260 | I13: 41522 | J13: =SUM(C13:I13) -> 51280 | K13: 17000 | L13: 600896
A14: وزارة العمل والتنمية الاجتماعية (التنمية الاجتماعية) | B14: 29 | C14: 0 | D14: 1700 | E14: 0 | F14: 0 | G14: 0 | H14: 830 | I14: 1000 | J14: =SUM(C14:I14) -> 3530 | K14: 5000 | L14: 7162
A15: وزارة الصناعة والتجارة والسياحة | B15: 34 | C15: 0 | D15: 10401480 | E15: 910889 | F15: 9954600 | G15: 0 | H15: 0 | I15: 65688 | J15: =SUM(C15:I15) -> 21332657 | K15: 20062000 | L15: 25161275
... A24: الميزانيات التحويلية | B24: 60 | C24: 0 | D24: 23872904 | E24: 863307 | F24: 30632436 | G24: 28356558 | H24: 53827 | I24: 36375266 | J24: =SUM(C24:I24) -> 120154298 | K24: 147843000 | L24: 127995763
A25: وزارة شئون مجلس الوزراء | C25: 0 | J25: =SUM(C25:I25) -> 0
A26: وزارة الثقافة | J26: =SUM(C26:I26) -> 0
A28: 4- الإيرادات مصنفة حسب الأبواب والوزارات والجهات الحكومية (تتمة)
C29: (دينار بحريني)
A30: الوزارة أو الجهة الحكومية | B30: Code | C30: نفط وغاز طبيعي | D30: ضــرائـب ورســوم | E30: منتجات خدمية وسلعية حكومية | F30: استثمارات وأملاك حكومية | G30: إعانات | H30: مبيعات أصول رأسمالية | I30: غرامــات وجزاءات وإيرادات متنوعة | J30: المجموع | K30: الاعتماد | L30: الفعلي 2015
A31: إيرادات النفط والغاز الطبيعي | B31: 62 | C31: 1436462053 | D31: 0 | E31: 0 | F31: 0 | G31: 0 | H31: 0 | I31: 0 | J31: =SUM(C31:I31) -> 1436462053 | K31: 1757613000 | L31: 1594672391
A32: هيئة البحرين للثقافة والآثار | B32: 66 | C32: 0 | D32: 174952 | E32: 177 | F32: 134248 | G32: 0 | H32: 1270 | I32: 188783 | J32: =SUM(C32:I32) -> 499430 | K32: 0 | L32: 1796674
A33: الجهاز الإداري للنيابة العامة | B33: 68 | C33: 0 | D33: 135 | E33: 0 | F33: 0 | G33: 0 | H33: 485 | I33: 0 | J33: =SUM(C33:I33) -> 620 | K33: 0 | L33: 7804
A34: ديوان الخدمة المدنية | B34: 72 | C34: 0 | D34: 1280 | E34: 0 | F34: 0 | G34: 0 | H34: 0 | I34: 0 | J34: =SUM(C34:I34) -> 1280 | K34: 5000 | L34: 6731
A35: الجهاز المركزي للمعلومات (إيضاح رقم 17) | B35: 73 | C35: 0 | D35: 2706185 | E35: 52 | F35: 0 | G35: 0 | H35: 253 | I35: 4350 | J35: =SUM(C35:I35) -> 2710840 | K35: 1688000 | L35: 2465286
A36: الأمانة العامة للمجلس الأعلى للشباب والرياضة | B36: 75 | C36: 0 | D36: 60 | E36: 0 | F36: 0 | G36: 0 | H36: 0 | I36: 0 | J36: =SUM(C36:I36) -> 60 | K36: 0 | L36: 585
A37: المجلس الأعلى للقضاء | B37: 76 | C37: 0 | D37: 0 | E37: 2264 | F37: 0 | G37: 0 | H37: 0 | I37: 0 | J37: =SUM(C37:I37) -> 2264 | K37: 0 | L37: 6215
A38: وزارة العدل والشئون الإسلامية والأوقاف (الشئون الإسلامية) | B38: 77 | C38: 0 | D38: 4345 | E38: 0 | F38: 0 | G38: 0 | H38: 0 | I38: 13206 | J38: =SUM(C38:I38) -> 17551 | K38: 10000 | L38: 8775
A39: جهاز المساحة والتسجيل العقاري | B39: 78 | C39: 0 | D39: 17617770 | E39: 155865 | F39: 0 | G39: 0 | H39: 0 | I39: 35293 | J39: =SUM(C39:I39) -> 17808928 | K39: 20886000 | L39: 20970182
A40: وزارة المالية | B40: 81 | C40: 0 | D40: 2655 | E40: 0 | F40: 0 | G40: 0 | H40: 0 | I40: 3369 | J40: =SUM(C40:I40) -> 6024 | K40: 3000 | L40: 17509
A41: شئون الجمارك | B41: 83 | C41: 0 | D41: 122579661 | E41: 60081 | F41: 0 | G41: 0 | H41: 310 | I41: 10109795 | J41: =SUM(C41:I41) -> 132749847 | K41: 99700000 | L41: 116766540
A42: الهيئة الوطنية لتنظيم المهن والخدمات الصحية | B42: 89 | C42: 0 | D42: 836887 | E42: 250 | F42: 0 | G42: 0 | H42: 0 | I42: 48390 | J42: =SUM(C42:I42) -> 885527 | K42: 357000 | L42: 0
A43: المجموع | C43: =SUM(C4:C42) -> 1436462053 | D43: =SUM(D4:D42) -> 237568219 | E43: =SUM(E4:E42) -> 83868836 | F43: =SUM(F4:F42) -> 50362940 | G43: =SUM(G4:G42) -> 28356558 | H43: =SUM(H4:H42) -> 613885 | I43: =SUM(I4:I42) -> 60544962 | J43: =SUM(J4:J42) -> 1897777453 | ... L43: =SUM(L4:L42) -> 2042156454

Sheet تفصيل الإيرادات
A1: 5- الإيرادات مصنفة حسب الأبواب والأقسام والبنود
A2: (دينار بحريني)
A3: التبويــب | E3: البيـــان | F3: 2016 | I3: 2015 الفعلي
A4: بند | B4: قسم | C4: باب | D4: نوع | F4: الاعتماد | G4: الفعلي | H4: الفرق
C5: 1 | D5: 4 | E5: النفط والغاز الطبيعي | F5: =F6+F10+F22+F26 -> 1757613000 | G5: =G6+G10+G22+G26 -> 1436462053 | H5: =G5-F5 -> -321150947 | I5: =I6+I10+I22+I26 -> 1594672391
B6: 1 | C6: 1 | D6: 4 | E6: مبيعات النفط | F6: =SUM(F7:F9) -> 1269039000 | G6: =SUM(G7:G9) -> 988257656 | H6: =G6-F6 -> -280781344 | I6: =SUM(I7:I9) -> 1171024519
A7: 40011 | B7: 1 | C7: 1 | D7: 4 | E7: حقل البحرين | F7: 148246000 | G7: 278643175 | H7: =G7-F7 -> 130397175 | I7: 230724927
A8: 40012 | B8: 1 | C8: 1 | D8: 4 | E8: حقل أبوسعفة | F8: 1141434000 | G8: 723670948 | H8: =G8-F8 -> -417763052 | I8: 957404837
A9: 40014 | B9: 1 | C9: 1 | D9: 4 | E9: احتياطي الأجيال القادمة | F9: -20641000 | G9: -14056467 | H9: =G9-F9 -> 6584533 | I9: -17105245
B10: 2 | C10: 1 | D10: 4 | E10: مبيعات الغاز | F10: =SUM(F11:F21) -> 469965000 | G10: =SUM(G11:G21) -> 443340791 | H10: =G10-F10 -> -26624209 | I10: =SUM(I11:I21) -> 411785821
A11: 40031 | B11: 2 | C11: 1 | D11: 4 | E11: محطة المنامة للكهرباء | F11: {=IFERROR(INDEX(Meta!#REF!,MATCH($D11&$C11&$B11&$A11,Meta!#REF!&Meta!#REF!&Meta!#REF!&Meta!#REF!,0)),0)} -> 0 | G11: {=IFERROR(INDEX(Meta!#REF!,MATCH($D11&$C11&$B11&$A11,Meta!#REF!&Meta!#REF!&Meta!#REF!&Meta!#REF!,0)),0)} -> 0 | H11: =G11-F11 -> 0 | I11: {=IFERROR(INDEX(#REF!,MATCH($D11&$C11&$B11&$A11,#REF!&#REF!&#REF!&#REF!,0)),0)} -> 0
