Workbook
Name leer: '[1]تفصيل المصروفات (3)'!$A$2:$A$6
Name leer: '[1]تفصيل المصروفات (3)'!$A$2:$A$6
Name المصروفات_حسب_الأبواب_والأقسام_والبنود: #REF!
Name المصروفات_حسب_الأبواب_والأقسام_والبنود: #REF!
Name المصروفات_حسب_الأبواب_والأقسام_والبنود: #REF!
Name المصروفات_حسب_الأبواب_والأقسام_والبنود: #REF!
Name المصروفات_حسب_الأبواب_والأقسام_والبنود: #REF!
Name المصروفات_حسب_الأبواب_والأقسام_والبنود: #REF!
Name المصروفات_حسب_الأبواب_والأقسام_والبنود: #REF!
Name المصروفات_حسب_الأبواب_والأقسام_والبنود: #REF!
Name المصروفات_حسب_الأبواب_والأقسام_والبنود: #REF!

Sheet Meta3
A1: 3- الإيرادات والمصروفات مصنفة حسب الوزارات والجهات الحكومية
A3: Government Agency Name | B3: code | C3: Actual | D3: Revenue Budget | E3: % Spent | F3: Actual | G3: Recurrent Budget | H3: % Spent | I3: Actual | J3: Project Budget | K3: % Spent
A4: The Court of H.R.H The Prime Minister-11 | B4: 11 | F4: 18310428 | G4: 18310428 | H4: 100.00%
A5: Ministry of Defence-12 | B5: 12 | F5: 533663995 | G5: 486550000 | H5: 109.68%
A6: Ministry of Interior-13 | B6: 13 | C6: 55620734 | D6: 50982000 | E6: 109.10% | F6: 363325279 | G6: 355387546 | H6: 102.23% | I6: 13552449 | J6: 13552449 | K6: 100.00%
A7: National Security Agency-14 | B7: 14 | F7: 35762128 | G7: 35762128 | H7: 100.00%
A8: Legislation & Legal Opinion Com-15 | B8: 15 | C8: 1027 | D8: 5000 | E8: 20.53% | F8: 2264037 | G8: 2676000 | H8: 84.61%
A9: Min. of Foreign Affairs-16 | B9: 16 | C9: 474000 | D9: 2055000 | E9: 23.07% | F9: 32088564 | G9: 28902000 | H9: 111.03% | I9: 2273757 | J9: 4105500 | K9: 55.38%
A10: Deputy of H.R.H The PM-17 | B10: 17 | F10: 786962 | G10: 828000 | H10: 95.04% | I10: 60000 | J10: 60000 | K10: 100.00%
A11: Min. of Justice & Islamic Aff & Awqaf (Justice Aff)-18 | B11: 18 | C11: 28728844 | D11: 16764000 | E11: 171.37% | F11: 11707298 | G11: 11832000 | H11: 98.95% | I11: 311463 | J11: 684100 | K11: 45.53%
A12: Supreme Council for Oil
A13: Ministry of Information-20 (Old) | B13: 20
A14: Min. of Education-21 | B14: 21 | C14: 457594 | D14: 1718000 | E14: 26.64% | F14: 331904035 | G14: 324685000 | H14: 102.22% | I14: 3144581 | J14: 6998200 | K14: 44.93%
A15: Ministry of Health-22 | B15: 22 | C15: 37876341 | D15: 39945000 | E15: 94.82% | F15: 243922234 | G15: 254655000 | H15: 95.79% | I15: 2801683 | J15: 9542400 | K15: 29.36%
A16: Min. of Works, Mun Aff & Urb Plg -23 (Mun Aff&Urb Plg) | B16: 23 | C16: 3370776 | D16: 3351000 | E16: 100.59% | F16: 9327367 | G16: 8999337 | H16: 103.65% | I16: 6713268 | J16: 6713268 | K16: 100.00%
A17: Min. of Labour -24 | B17: 24 | F17: 0 | G17: 0 | H17: 0.00%
A18: Min. of Muncipalities & Agriculture Aff. (Muncipalities Affairs)
A19: Ministry of Youth and Sports Affairs-26 | B19: 26 | C19: 29600 | D19: 17000 | E19: 174.12% | F19: 12637461 | G19: 12815282 | H19: 98.61% | I19: 2841470 | J19: 5865600 | K19: 48.44%
A20: Environmental Affairs ( Old )
A21: Rashed Club for Equestrian & Horse Racing-28 | B21: 28 | F21: 1936399 | G21: 1936399 | H21: 100.00%
A22: Ministry of Labour & Social Development-29 | B22: 29 | C22: 8321 | D22: 29000 | E22: 28.69% | F22: 15299692 | G22: 16265000 | H22: 94.07% | I22: 81479 | J22: 600000 | K22: 13.58%
A23: Deputy of H.R.H The PM-30 | B23: 30 | F23: 1061676 | G23: 1083754 | H23: 97.96%
A24: Advisor to H.R.H The PM for Economic Aff-31 | B24: 31 | F24: 266910 | G24: 268000 | H24: 99.59%
A25: Min. of Follow-up Affairs-32 | B25: 32 | F25: 501328 | G25: 572000 | H25: 87.64%
A26: Advisor to H.R.H PM-33 | B26: 33
A27: Min of Industry & Commerce-34 | B27: 34 | C27: 31482445 | D27: 33967000 | E27: 92.69% | F27: 11730718 | G27: 12466401 | H27: 94.10% | I27: 2948853 | J27: 6201900 | K27: 47.55%
A28: Advisor to H.R.H PM for Security Aff-35 | B28: 35
A29: Ministry of Housing-36 | B29: 36 | C29: 116376 | D29: 35000 | E29: 332.50% | F29: 5230113 | G29: 5488000 | H29: 95.30% | I29: 101689025 | J29: 104393700 | K29: 97.41%
A30: Advisor to H.R.H The PM for Industrial & Oil Aff-37 | B30: 37
A31: Advisor to H.R.H The PM-38 | B31: 38 | F31: 286786 | G31: 307000 | H31: 93.42%
A32: Ministry of State-39 | B32: 39
A33: Min. of Energy-40 | B33: 40 | F33: 219385 | G33: 252000 | H33: 87.06%
A34: The Supreme Council for the Environment-41 | B34: 41 | C34: 1414484 | D34: 301000 | E34: 469.93% | F34: 5558339 | G34: 6152000 | H34: 90.35% | I34: 186325 | J34: 750000 | K34: 24.84%
A35: Bahrain Royal Flight ( Old )
A36: Mohammed bin Khalifa Al Khalifa Cardiac Center-43 | B36: 43 | F36: 20191876 | G36: 19636000 | H36: 102.83%
A37: Deputy of H.R.H The PM-44 | B37: 44 | F37: 667396 | G37: 971000 | H37: 68.73%
A38: Min.Of Housing -Old
A39: Min. of Works, Mun Aff & Urb Plg -46 (Works Aff) | B39: 46 | C39: 4736860 | D39: 11027000 | E39: 42.96% | F39: 42776728 | G39: 44890950 | H39: 95.29% | I39: 58938198 | J39: 72393088 | K39: 81.41%
A40: Elec & Water Authority-47 | B40: 47 | F40: 188744829 | G40: 188745000 | H40: 100.00%
A41: Min. of Transportation & Telecommunications-48 | B41: 48 | C41: 53682096 | D41: 45000000 | E41: 119.29% | F41: 32438964 | G41: 32979000 | H41: 98.36% | I41: 3243025 | J41: 5289700 | K41: 61.31%
...

Sheet Meta4
A1: 4- الإيرادات مصنفة حسب الأبواب والوزارات والجهات الحكومية
A3: Ministry | B3: Code | C3: Oil and Gas | D3: Taxation, Fees | E3: Govt Goods, Services | F3: Investments, Govt Properties | G3: Grants | H3: Sale of | I3: Fines,Penalt ies , Misc | J3: Total | K3: Budget | L3: Actual-PY
A4: The Court of H.R.H The Prime Minister | B4: 11 | C4: 3884385 | D4: 3588210 | E4: 111755 | F4: 30515 | G4: 5255 | H4: 10500000 | I4: 0 | J4: 18120121 | K4: 18128000 | L4: 19222655
A5: Ministry of Defence | B5: 12 | C5: 396845222 | D5: 27122900 | E5: 37109397 | F5: 21163146 | G5: 49702851 | H5: 0 | I5: 1268201 | J5: 533211717 | K5: 482050000 | L5: 521881353
A6: Ministry of Interior | B6: 13 | C6: 315880353 | D6: 19589405 | E6: 8317214 | F6: 3835764 | G6: 6078569 | H6: 0 | I6: 0 | J6: 353701306 | K6: 352756000 | L6: 357208194
A7: National Security Agency | B7: 14 | C7: 0 | D7: 0 | E7: 0 | F7: 0 | G7: 0 | H7: 41616000 | I7: 0 | J7: 41616000 | K7: 41616000 | L7: 34842000
A8: Legislation & Legal Opinion Com | B8: 15 | C8: 2044627 | D8: 349765 | E8: 15874 | F8: 10671 | G8: 15001 | H8: 0 | I8: 0 | J8: 2435938 | K8: 2483000 | L8: 2530528
A9: Min. of Foreign Affairs | B9: 16 | C9: 21044772 | D9: 7731385 | E9: 467043 | F9: 290095 | G9: 537238 | H9: 0 | I9: 28152 | J9: 30098686 | K9: 29249119 | L9: 30567635
A10: Deputy of H.R.H The PM | B10: 17 | C10: 781448 | D10: 19501 | E10: 8433 | F10: 1690 | G10: 4338 | H10: 0 | I10: 0 | J10: 815409 | K10: 815410 | L10: 878289
A11: Min. of Justice & Islamic Aff & Awqaf (Justice Aff) | B11: 18 | C11: 8843202 | D11: 2430888 | E11: 108122 | F11: 47160 | G11: 94510 | H11: 14942 | I11: 55000 | J11: 11593824 | K11: 11686851 | L11: 12169486
A12: Min. of Education | B12: 21 | C12: 280273347 | D12: 37390621 | E12: 3864861 | F12: 1634732 | G12: 1821943 | H12: 0 | I12: 75000 | J12: 325060502 | K12: 321186000 | L12: 334558748
A13: Ministry of Health | B13: 22 | C13: 144873918 | D13: 28835530 | E13: 63803490 | F13: 318970 | G13: 2926949 | H13: 0 | I13: 0 | J13: 240758857 | K13: 256937000 | L13: 261116093
A14: Min. of Works, Mun Aff & Urb Plg | B14: 23 | C14: 8176967 | D14: 1782645 | E14: 214908 | F14: 41594 | G14: 114420 | H14: 0 | I14: 0 | J14: 10330535 | K14: 10334050 | L14: 10756348
A15: Min. of Labour | B15: 24 | C15: 0 | D15: 0 | E15: 0 | F15: 0 | G15: 0 | H15: 0 | I15: 0 | J15: 0 | K15: 0 | L15: 6034407
... A59: National Health Regulatory Authority (89) | B59: 89 | C59: 1529887 | D59: 672354 | E59: 45454 | F59: 20223 | G59: 4520 | H59: 0 | I59: 0 | J59: 2272437 | K59: 2362000 | L59: 1965323

Sheet Meta5&9
A1: 5- الإيرادات مصنفة حسب الأبواب والأقسام والبنود
A4: Code | E4: Description | G4: 2017 | I4: Actual
A5: Item | B5: Chp | C5: Sec | D5: Acct | E5: Description | F5: Budget | G5: Actual | H5: Difference | I5: 2016
A6: 4 | B6: 1 | C6: 1 | D6: 40011 | E6: Oil Sales - Bahrain Field | F6: 170167500 | G6: 185559676 | H6: -15392176 | I6: 278643175
A7: 4 | B7: 1 | C7: 1 | D7: 40012 | E7: Oil Sales - Abu-Sa'afa Field | F7: 1028888200 | G7: 987507867 | H7: 41380333 | I7: 723670948
A8: 4 | B8: 1 | C8: 1 | D8: 40014 | E8: Future Generations Reserve- Abu-Sa'afa Field | F8: -20586000 | G8: -20920270 | H8: 334270 | I8: -14056467
A9: 4 | B9: 1 | C9: 2 | D9: 40035 | E9: Gas Sales - Hidd Power Station | H9: 0
A10: 4 | B10: 1 | C10: 2 | D10: 40037 | E10: Gas Sales to Electricity Power and Water Station | F10: 76641700 | G10: 35682528 | H10: 40959172 | I10: 31039851
A11: 4 | B11: 1 | C11: 2 | D11: 40051 | E11: Gas Sales - Alba | F11: 129257500 | G11: 140974901 | H11: -11717401 | I11: 109292545
A12: 4 | B12: 1 | C12: 2 | D12: 40052 | E12: Gas Sales - Bapco | F12: 51703000 | G12: 49352761 | H12: 2350239 | I12: 46614264
A13: 4 | B13: 1 | C13: 2 | D13: 40053 | E13: Gas Sales - Banagas | F13: 27582900 | G13: 11698573 | H13: 15884327 | I13: 14021820
A14: 4 | B14: 1 | C14: 2 | D14: 40054 | E14: Gas Sales - Other Companies | F14: 256051500 | G14: 257966496 | H14: -1914996 | I14: 242372310
A15: 4 | B15: 1 | C15: 3 | D15: 42011 | E15: Gas Income Tax | H15: 0 | I15: 272000
A16: 4 | B16: 1 | C16: 3 | D16: 42013 | E16: Petrol Tax | F16: 5846700 | G16: 4695378 | H16: 1151322 | I16: 4591606
A17: 4 | B17: 2 | C17: 2 | D17: 42501 | E17: Customs Duty on Essential Trade | F17: 40894829 | G17: 67649790 | H17: -26754961 | I17: 48701365
A18: 4 | B18: 2 | C18: 2 | D18: 42503 | E18: Customs Duty on Vehicles | F18: 15000000 | G18: 13254976 | H18: 1745024 | I18: 15675280
A19: 4 | B19: 2 | C19: 2 | D19: 42504 | E19: Customs Duty on Manuf./Unmanuf. Tabacco | F19: 20000000 | G19: 28906366 | H19: -8906366 | I19: 16573529
A20: 4 | B20: 2 | C20: 2 | D20: 42505 | E20: Customs Duty on Luxury Goods | F20: 20000000 | G20: 15489369 | H20: 4510631 | I20: 16370852
A21: 4 | B21: 2 | C21: 2 | D21: 42506 | E21: Customs Duty on Yachts | F21: 200000 | G21: 349898 | H21: -149898 | I21: 260463
A22: 4 | B22: 2 | C22: 2 | D22: 42507 | E22: Protection of Domestic Industries | F22: 570000 | G22: 630278 | H22: -60278 | I22: 565164
A23: 4 | B23: 2 | C23: 3 | D23: 43011 | E23: General Trade Activities Registration Fees | F23: 105000 | G23: 180906 | H23: -75906 | I23: 150828
A24: 4 | B24: 2 | C24: 3 | D24: 43021 | E24: Industrial Activities Registration Fees | F24: 377000 | G24: 130425 | H24: 246575 | I24: 95377
A25: 4 | B25: 2 | C25: 3 | D25: 43031 | E25: Financial Service Activities Registration Fees | F25: 45000 | G25: 4050 | H25: 40950 | I25: 3550
A26: 4 | B26: 2 | C26: 3 | D26: 43041 | E26: Miscellaneous Service Activities Registration Fees | F26: 270487 | G26: 366623 | H26: -96136 | I26: 794808
A27: 4 | B27: 2 | C27: 3 | D27: 43042 | E27: Air Transport Activities | F27: 250000 | G27: 302850 | H27: -52850 | I27: 212782
... A30: 4 | B30: 2 | C30: 3 | D30: 43045 | E30: Post Regulatory Licenses | F30: 40000 | G30: 66775 | H30: -26775 | I30: 60639
A31: 4 | B31: 2 | C31: 3 | D31: 43051 | E31: Commercial Agencies Registration Fees | G31: 17419 | H31: -17419 | I31: 16494
A32: 4 | B32: 2 | C32: 3 | D32: 43054 | E32: Contractor Pre-Qualification Fees | G32: 46950 | H32: -46950
A33: 4 | B33: 2 | C33: 3 | D33: 43071 | E33: Organizing Engineering Professional Practice Fees | F33: 50000 | G33: 50000 | H33: 0 | I33: 50000
A34: 4 | B34: 2 | C34: 3 | D34: 43081 | E34: Sand Mining License Fees | F34: 550000 | G34: 500000 | H34: 50000 | I34: 550000
A35: 4 | B35: 2 | C35: 3 | D35: 43082 | E35: Application and licensing fees for pearl diving an | G35: 30975 | H35: -30975
A36: 4 | B36: 2 | C36: 3 | D36: 44041 | E36: Pharmaceutical Products Licenses & Fees | F36: 200000 | G36: 278820 | H36: -78820 | I36: 128400
A37: 4 | B37: 2 | C37: 3 | D37: 44042 | E37: Health Facilities Licenses & Fees | F37: 230000 | G37: 340150 | H37: -110150 | I37: 251640
A38: 4 | B38: 2 | C38: 3 | D38: 44043 | E38: Health Professions Licenses & Fees | F38: 400000 | G38: 1036500 | H38: -636500 | I38: 456682
A39: 4 | B39: 2 | C39: 4 | D39: 44011 | E39: Passport Fees | F39: 979340 | G39: 1495151 | H39: -515811 | I39: 979340
A40: 4 | B40: 2 | C40: 4 | D40: 44012 | E40: Residence Permit Fees | F40: 3482428 | G40: 3883259 | H40: -400831 | I40: 3482428
A41: 4 | B41: 2 | C41: 4 | D41: 44013 | E41: Visa & NOC Fees | F41: 18119260 | G41: 15659324 | H41: 2459936 | I41: 18029260
A42: 4 | B42: 2 | C42: 4 | D42: 44015 | E42: Identity Card Fees | F42: 2300000 | G42: 2415901 | H42: -115901 | I42: 2449944
A43: 4 | B43: 2 | C43: 4 | D43: 44016 | E43: CONSUITANCY SERVICES FEES | F43: 453525 | G43: 195674 | H43: 257851 | I43: 58175
A44: 4 | B44: 2 | C44: 4 | D44: 44021 | E44: Labour Market Regulatory Authority Fee | F44: 30920000 | G44: 21342887 | H44: 9577113 | I44: 23143294
...

Sheet Meta8
A1: 8- المصروفات المتكررة مصنفة حسب الأبواب والوزارات والجهات الحكومية
A3: Ministry | B3: Code | C3: Manpower | D3: Services | E3: Consumables | F3: Assets | G3: Maintenance | H3: Transfers | I3: Grants | J3: Total | K3: Budget | L3: Actual-PY
A4: The Court of H.R.H The Prime Minister | B4: 11 | C4: 3884385 | D4: 3588210 | E4: 111755 | F4: 30515 | G4: 5255 | H4: 10500000 | I4: 0 | J4: 18120121 | K4: 18128000 | L4: 19222655
A5: Ministry of Defence | B5: 12 | C5: 396845222 | D5: 27122900 | E5: 37109397 | F5: 21163146 | G5: 49702851 | H5: 0 | I5: 1268201 | J5: 533211717 | K5: 482050000 | L5: 521881353
A6: Ministry of Interior | B6: 13 | C6: 315880353 | D6: 19589405 | E6: 8317214 | F6: 3835764 | G6: 6078569 | H6: 0 | I6: 0 | J6: 353701306 | K6: 352756000 | L6: 357208194
A7: National Security Agency | B7: 14 | C7: 0 | D7: 0 | E7: 0 | F7: 0 | G7: 0 | H7: 41616000 | I7: 0 | J7: 41616000 | K7: 41616000 | L7: 34842000
A8: Legislation & Legal Opinion Com | B8: 15 | C8: 2044627 | D8: 349765 | E8: 15874 | F8: 10671 | G8: 15001 | H8: 0 | I8: 0 | J8: 2435938 | K8: 2483000 | L8: 2530528
A9: Min. of Foreign Affairs | B9: 16 | C9: 21044772 | D9: 7731385 | E9: 467043 | F9: 290095 | G9: 537238 | H9: 0 | I9: 28152 | J9: 30098686 | K9: 29249119 | L9: 30567635
A10: Deputy of H.R.H The PM | B10: 17 | C10: 781448 | D10: 19501 | E10: 8433 | F10: 1690 | G10: 4338 | H10: 0 | I10: 0 | J10: 815409 | K10: 815410 | L10: 878289
A11: Min. of Justice & Islamic Aff & Awqaf (Justice Aff) | B11: 18 | C11: 8843202 | D11: 2430888 | E11: 108122 | F11: 47160 | G11: 94510 | H11: 14942 | I11: 55000 | J11: 11593824 | K11: 11686851 | L11: 12169486
A12: Min. of Education | B12: 21 | C12: 280273347 | D12: 37390621 | E12: 3864861 | F12: 1634732 | G12: 1821943 | H12: 0 | I12: 75000 | J12: 325060502 | K12: 321186000 | L12: 334558748
A13: Ministry of Health | B13: 22 | C13: 144873918 | D13: 28835530 | E13: 63803490 | F13: 318970 | G13: 2926949 | H13: 0 | I13: 0 | J13: 240758857 | K13: 256937000 | L13: 261116093
A14: Min. of Works, Mun Aff & Urb Plg | B14: 23 | C14: 8176967 | D14: 1782645 | E14: 214908 | F14: 41594 | G14: 114420 | H14: 0 | I14: 0 | J14: 10330535 | K14: 10334050 | L14: 10756348
A15: Min. of Labour | B15: 24 | C15: 0 | D15: 0 | E15: 0 | F15: 0 | G15: 0 | H15: 0 | I15: 0 | J15: 0 | K15: 0 | L15: 6034407
... A59: National Health Regulatory Authority (89) | B59: 89 | C59: 1529887 | D59: 672354 | E59: 45454 | F59: 20223 | G59: 4520 | H59: 0 | I59: 0 | J59: 2272437 | K59: 2362000 | L59: 1965323
B63: D | C63: 2662340 | D63: 446480 | E63: 42472 | F63: 7125 | G63: 13334 | H63: 0 | I63: 0 | J63: 3171750 | K63: 3505160 | L63: 3254328
B64: A | C64: 365545 | D64: 101338 | E64: 1621 | F64: 475 | G64: 634 | H64: 0 | I64: 0 | J64: 469614 | K64: 612000 | L64: 493996

Sheet Meta11
A1: 11- مصروفات المشاريع مصنفة حسب الوزارات والجهات الحكومية
A3: Ministry | B3: Ministry Code | C3: Budget | D3: Actual-CY | E3: Actual-PV
A4: The Court of H.R.H The Prime Minister | B4: 11 | C4: 1015500 | D4: 1015500
A5: Ministry of Interior | B5: 13 | C5: 18133497 | D5: 18133497 | E5: 21997018
A6: Min. of Foreign Affairs | B6: 16 | C6: 6416400 | D6: 4250381 | E6: 5671647
A7: Deputy of H.R.H The PM | B7: 17 | C7: 60000 | D7: 60000 | E7: 60000
A8: Min. of Justice & Islamic Aff & Awqaf (Justice Aff) | B8: 18 | C8: 1289700 | D8: 1254459 | E8: 401395
A9: Min. of Education | B9: 21 | C9: 8671900 | D9: 3736798 | E9: 5271730
A10: Ministry of Health | B10: 22 | C10: 8000000 | D10: 4949889 | E10: 10487893
A11: Min. of Works, Mun Aff & Urb Plg | B11: 23 | C11: 9554588 | D11: 6374719 | E11: 11601891
A12: Min. of Labour | B12: 24 | E12: 95560
A13: General Organization for Youth&Sport | B13: 26 | C13: 4600000 | D13: 2960788 | E13: 5298704
A14: Rashed Club for Equestrian & Horse Racing | B14: 28 | E14: 21478
A15: Min. of Social Development | B15: 29 | C15: 600000 | D15: 103791 | E15: 800656
A16: Min of Industry & Commerce | B16: 34 | C16: 5604800 | D16: 4228139 | E16: 4603811
A17: Ministry of Housing | B17: 36 | C17: 114480100 | D17: 110086323 | E17: 143004455
A18: The Supreme Council for the Environment | B18: 41 | C18: 300000 | D18: 249986 | E18: 195681
A19: Min. of Works, Mun Aff & Urb Plg | B19: 46 | C19: 70068912 | D19: 57663189 | E19: 62029663
A20: Min. of Transportation & Telecommunications | B20: 48 | C20: 4413900 | D20: 2770452 | E20: 3708048
A21: National Guard | B21: 50 | C21: 3000000 | D21: 2999671 | E21: 4070533
A22: Min. of Information Aff | B22: 55 | E22: 491198
A23: Tender Board | B23: 59 | C23: 462600 | D23: 318096 | E23: 137365
A24: Transfers | B24: 60 | C24: 120535103 | D24: 94705291 | E24: 93671804
A25: Information Affairs Authority | B25: 65 | C25: 9936200 | D25: 5597657 | E25: 5857139
A26: Bahrain Authority for Culture & Antiquities | B26: 66 | C26: 9528100 | D26: 8872225 | E26: 6609206
A27: Supreme Council for Health | B27: 67 | C27: 4151400 | D27: 1587652 | E27: 248534
A28: Education and Training Quality Authority | B28: 69 | C28: 50000
A29: First Deputy of H.R.H The PM Office | B29: 70 | C29: 3000000 | D29: 3000000 | E29: 3000000
A30: Civil Service Bureau | B30: 72 | C30: 300000 | D30: 273688 | E30: 175796
A31: Central Informatics Org | B31: 73 | C31: 5835000 | D31: 3590338 | E31: 977881
A32: Supreme Judicial Council (76) | B32: 76 | C32: 300000 | D32: 72275 | E32: 105607
A33: Min. of Justice & Islamic Aff & Awqaf (Islamic Aff) | B33: 77 | C33: 636300 | D33: 451224 | E33: 1063630
A34: Survey&Land Reg Bureau | B34: 78 | C34: 680600 | D34: 663531 | E34: 434961
A35: Ministry of Finance | B35: 81 | C35: 1800000 | D35: 1142854 | E35: 1728391
A36: Customs Affairs | B36: 83 | C36: 1575400 | D36: 1399295 | E36: 1138004
A37: National Oncology Center | B37: 84 | C37: 12000000 | D37: 12000000
A38: King Hamad University Hospital | B38: 88 | E38: 15923320

Sheet Meta
A1: Horizontal Schedules | N1: Entity Names | Q1: Vertical Schedule
N2: ديوان صاحب السمو الملكي رئيس مجلس الوزراء | O2: 11 | Q2: Item | R2: Chp | S2: Sec | T2: Acct | U2: Description | V2: Budget | W2: Actual | X2: Difference | Y2: 2014 | AA2: التبويــب | AE2: البيان
A3: Ministry | B3: Code | C3: Oil and Gas | D3: Taxation, Fees | E3: Govt Goods, Services | F3: Investments, Govt Properties | G3: Grants | H3: Sale of | I3: Fines,Penalt ies , Misc | J3: Total | K3: Budget | L3: Actual-PY | N3: وزارة الدفاع (إيضاح رقم 13) | O3: 12 | Q3: 4 | R3: 1 | S3: 1 | T3: 40011 | U3: Oil Sales - Bahrain Field | V3: 148534000 | W3: 230724927 | X3: -82190927 | Y3: 206473297 | AA3: Code
A4: The Court of H.R.H The Prime Minister-1 1 | B4: 11 | C4: 0 | D4: 0 | E4: 0 | F4: 0 | G4: 0 | H4: 0 | I4: 88100 | J4: 88100 | K4: 0 | L4: 1563 | N4: وزارة الداخلية | O4: 13 | Q4: 4 | R4: 1 | S4: 1 | T4: 40012 | U4: Oil Sales - Abu-Sa'afa Field | V4: 1141434000 | W4: 957404837 | X4: 184029163 | Y4: 2027312875 | AA4: بند | AB4: قسم | AC4: باب | AD4: نوع
A5: Ministry of Interior-13 | B5: 13 | C5: 0 | D5: 40677302 | E5: 5658468 | F5: 40550 | G5: 0 | H5: 344376 | I5: 885264 | J5: 47605960 | K5: 40454000 | L5: 40729523 | N5: جهاز الأمن الوطني | O5: 14 | Q5: 4 | R5: 1 | S5: 1 | T5: 40014 | U5: Future Generations Reserve- Abu-Sa'afa Field | V5: -20641000 | W5: -17105245 | X5: -3535755 | Y5: -21172996 | AA5: Item | AB5: Sect. | AC5: Chpt. | AD5: Type
A6: National Security Agency-14 | B6: 14 | C6: 0 | D6: 0 | F6: 0 | G6: 0 | H6: 0 | I6: 0 | J6: 0 | K6: 0 | L6: 170 | N6: هيئة التشريع والرأي القانوني | O6: 15 | Q6: 4 | R6: 1 | S6: 2 | T6: 40032 | U6: Gas Sales - Sitra Power Station | X6: 0 | AC6: 1 | AD6: 4 | AE6: النفط والغاز الطبيعي
A7: Legislation & Legal Opinion Com-15 | B7: 15 | C7: 0 | D7: 60 | E7: 6217 | F7: 0 | G7: 0 | H7: 130 | I7: 6752 | J7: 13159 | K7: 5000 | L7: 3704 | N7: وزارة الخارجية | O7: 16 | Q7: 4 | R7: 1 | S7: 2 | T7: 40034 | U7: Gas Sales - Riffa Power Station | X7: 0 | AB7: 1 | AC7: 1 | AD7: 4 | AE7: مبيعات النفط
A8: Min. of Foreign Affairs-16 | B8: 16 | C8: 0 | D8: 1020750 | E8: 0 | F8: 0 | G8: 0 | H8: 0 | I8: 764873 | J8: 1785623 | K8: 2055000 | L8: 1879359 | N8: نائب رئيس مجلس الوزراء – الشيخ خالد بن عبدالله آل خليفة | O8: 17 | Q8: 4 | R8: 1 | S8: 2 | T8: 40035 | U8: Gas Sales - Hidd Power Station | V8: 64234000 | X8: 64234000 | AA8: 40011 | AB8: 1 | AC8: 1 | AD8: 4 | AE8: حقل البحرين والمصفاة
A9: Min. of Justice & Islamic Aff & Awqaf (J | B9: 18 | C9: 0 | D9: 6399317 | E9: 7341 | F9: 42660 | G9: 0 | H9: 401 | I9: 9387069 | J9: 15836788 | K9: 10846000 | L9: 9952681 | N9: وزارة العدل والشئون الإسلامية والأوقاف (شئون العدل) | O9: 18 | Q9: 4 | R9: 1 | S9: 2 | T9: 40037 | U9: Gas Sales to Electricity Power and Water Station | V9: 51474000 | W9: 44113743 | X9: 7360257 | Y9: 62390724 | AA9: 40012 | AB9: 1 | AC9: 1 | AD9: 4 | AE9: حقل أبوسعفة
A10: Min. of Education-21 | B10: 21 | C10: 0 | D10: 14725 | E10: 115854 | F10: 50 | G10: 0 | H10: 66073 | I10: 1411581 | J10: 1608282 | K10: 768000 | L10: 1188932 | N10: وزارة التربية والتعليم | O10: 21 | Q10: 4 | R10: 1 | S10: 2 | T10: 40051 | U10: Gas Sales - Alba | V10: 96495000 | W10: 90853535 | X10: 5641465 | Y10: 107213712 | AA10: 40014 | AB10: 1 | AC10: 1 | AD10: 4 | AE10: احتياطي الأجيال القادمة- حقل أبوسعفة
A11: Ministry of Health-22 | B11: 22 | C11: 0 | D11: 13665 | E11: 33918844 | F11: 538502 | G11: 0 | H11: 9868 | I11: 582625 | J11: 35063505 | K11: 33450000 | L11: 14181686 | N11: وزارة الصحة | O11: 22 | Q11: 4 | R11: 1 | S11: 2 | T11: 40052 | U11: Gas Sales - Bapco | V11: 38598000 | W11: 43778809 | X11: -5180809 | Y11: 38935826 | AB11: 2 | AC11: 1 | AD11: 4 | AE11: مبيعات الغاز
A12: Min. of Works, Mun Aff & Urb Plg -23 ( | B12: 23 | C12: 0 | D12: 41464 | E12: 349545 | F12: 69629 | G12: 0 | H12: 33934 | I12: 402086 | J12: 896658 | K12: 335000 | L12: 400408 | N12: وزارة الأشغال وشئون البلديات والتخطيط العمراني (شئون الزراعة والثروة البحرية) | O12: 23 | Q12: 4 | R12: 1 | S12: 2 | T12: 40053 | U12: Gas Sales - Banagas | V12: 33392000 | W12: 28565322 | X12: 4826678 | Y12: 36231980 | AA12: 40035 | AB12: 2 | AC12: 1 | AD12: 4 | AE12: محطة الحد للكهرباء
A13: Mun Aff&Urb Plg) Min. of Labour -24 | B13: 24 | C13: 0 | D13: 5435 | E13: 2345 | F13: 400 | G13: 0 | H13: 0 | I13: 22379 | J13: 30559 | K13: 67000 | L13: 1382127 | N13: وزارة العمل والتنمية الاجتماعية | O13: 24 | Q13: 4 | R13: 1 | S13: 2 | T13: 40054 | U13: Gas Sales - Other Companies | V13: 129954000 | W13: 204474412 | X13: -74520412 | Y13: 189949848 | AA13: 40037 | AB13: 2 | AC13: 1 | AD13: 4 | AE13: مبيعات الغاز- محطات الكهرباء والماء
A14: General Organization for Youth&Sport-26 | B14: 26 | C14: 0 | D14: 10905 | E14: 0 | F14: 7400 | G14: 0 | H14: 0 | I14: 582591 | J14: 600896 | K14: 16000 | L14: 77142 | N14: وزارة شئون الشباب والرياضة | O14: 26 | Q14: 4 | R14: 1 | S14: 3 | T14: 42011 | U14: Gas Income Tax | V14: 11130000 | W14: 7282491 | X14: 3847509 | Y14: 10605738 | AA14: 40051 | AB14: 2 | AC14: 1 | AD14: 4 | AE14: شركة المنيوم البحرين (ألبا)
A15: Min. of Social Development-29 | B15: 29 | C15: 0 | D15: 1600 | E15: 0 | F15: 0 | G15: 0 | H15: 665 | I15: 4897 | J15: 7162 | K15: 5000 | L15: 4087 | N15: نادي راشد للفروسية وسباق الخيل | O15: 28 | Q15: 4 | R15: 1 | S15: 3 | T15: 42013 | U15: Petrol Tax | V15: 6183000 | W15: 4579560 | X15: 1603440 | Y15: 4405390 | AA15: 40052 | AB15: 2 | AC15: 1 | AD15: 4 | AE15: شركة نفط البحرين (بابكو)
A16: Min of Industry & Commerce-34 | B16: 34 | C16: 0 | D16: 17561373 | E16: 285351 | F16: 7284872 | G16: 0 | H16: 0 | I16: 29679 | J16: 25161275 | K16: 19495000 | L16: 9937269 | N16: وزارة العمل والتنمية الاجتماعية | O16: 29 | Q16: 4 | R16: 2 | S16: 2 | T16: 42501 | U16: Customs Duty on Essential Trade | V16: 48000000 | W16: 52459852 | X16: -4459852 | Y16: 45313631 | AA16: 40053 | AB16: 2 | AC16: 1 | AD16: 4 | AE16: شركة غاز البحرين الوطنية (بناغاز)
A17: Ministry of Housing-36 | B17: 36 | C17: 0 | D17: 15168 | E17: 0 | F17: 0 | G17: 0 | H17: 0 | I17: 1960518 | J17: 1975685 | K17: 34000 | L17: 31943 | N17: نائب رئيس مجلس الوزراء – جواد بن سالم العريض | O17: 30 | Q17: 4 | R17: 2 | S17: 2 | T17: 42503 | U17: Customs Duty on Vehicles | V17: 7500000 | W17: 18033658 | X17: -10533658 | Y17: 7457362 | AA17: 40054 | AB17: 2 | AC17: 1 | AD17: 4 | AE17: الشركات المحلية الاخرى
A18: The Supreme Council for the Environment | B18: 41 | C18: 0 | D18: 223930 | E18: 0 | F18: 92929 | G18: 0 | H18: 0 | I18: 986 | J18: 317845 | K18: 143000 | L18: 371440 | N18: مستشار رئيس الوزراء للشئون الاقتصادية | O18: 31 | Q18: 4 | R18: 2 | S18: 2 | T18: 42504 | U18: Customs Duty on Manuf./Unmanuf. Tabacco | V18: 16000000 | W18: 18300861 | X18: -2300861 | Y18: 16968822 | AB18: 3 | AC18: 1 | AD18: 4 | AE18: الضرائب والرسوم النفطية
A19: Min. of Works, Mun Aff & Urb Plg -46 ( | B19: 46 | C19: 0 | D19: 82835 | E19: 5020 | F19: 61656 | G19: 0 | H19: 39964 | I19: 432679 | J19: 622154 | K19: 267000 | L19: 1950626 | N19: مكتب وزير شئون مجلس الوزراء | O19: 32 | Q19: 4 | R19: 2 | S19: 2 | T19: 42505 | U19: Customs Duty on Luxury Goods | V19: 20000000 | W19: 19751712 | X19: 248288 | Y19: 17912053 | AA19: 42011 | AB19: 3 | AC19: 1 | AD19: 4 | AE19: ضريبة دخل الغاز
A20: Works Aff) Min. of Transportation & Telecommunicat | B20: 48 | C20: 0 | D20: 3585038 | E20: 31995785 | F20: 8424595 | G20: 0 | H20: 32850 | I20: 47137 | J20: 44085405 | K20: 37292000 | L20: 44464288 | N20: مستشار رئيس مجلس الوزراء – ماجد الجشي | O20: 33 | Q20: 4 | R20: 2 | S20: 2 | T20: 42506 | U20: Customs Duty on Yachts | V20: 400000 | W20: 80700 | X20: 319300 | Y20: 361304 | AA20: 42013 | AB20: 3 | AC20: 1 | AD20: 4 | AE20: ضريبة البنزين
A21: National Oil & Gas Authority-51 | B21: 51 | C21: 0 | D21: 0 | E21: 0 | F21: 0 | G21: 0 | H21: 125 | I21: 7439 | J21: 7564 | K21: 0 | L21: 48960 | N21: وزارة الصناعة والتجارة والسياحة | O21: 34 | Q21: 4 | R21: 2 | S21: 2 | T21: 42507 | U21: Protection of Domestic Industries | V21: 570000 | W21: 578431 | X21: -8431 | Y21: 573849 | AC21: 2 | AD21: 4 | AE21: الضرائب والرسوم
A22: Min. of Shura Council & Representatives | B22: 54 | C22: 0 | D22: 0 | E22: 0 | F22: 0 | G22: 0 | H22: 1200 | I22: 150 | J22: 1350 | K22: 0 | L22: 0 | N22: مستشار رئيس الوزراء للشئون الأمنية | O22: 35 | Q22: 4 | R22: 2 | S22: 3 | T22: 43011 | U22: General Trade Activities Registration Fees | V22: 30000 | W22: 78334 | X22: -48334 | Y22: 41885 | AB22: 2 | AC22: 2 | AD22: 4 | AE22: الضرائب والرسوم على التجارة الدولية
A23: Council Aff 54 Min. of Information Aff-55 | B23: 55 | C23: 0 | D23: 0 | E23: 0 | F23: 0 | G23: 0 | H23: 0 | I23: 6677 | J23: 6677 | K23: 0 | L23: 0 | N23: وزارة الإسكان | O23: 36 | Q23: 4 | R23: 2 | S23: 3 | T23: 43021 | U23: Industrial Activities Registration Fees | V23: 3000 | W23: 2541 | X23: 459 | Y23: 9603 | AA23: 42501 | AB23: 2 | AC23: 2 | AD23: 4 | AE23: ضرائب جمركية على السلع الضرورية الأساسية
A24: Tender Board-59 | B24: 59 | C24: 0 | D24: 8425 | E24: 0 | F24: 0 | G24: 0 | H24: 400 | I24: 0 | J24: 8825 | K24: 0 | L24: 10885 | N24: مستشار سمو رئيس الوزراء للشئون الصناعية والنفطية | O24: 37 | Q24: 4 | R24: 2 | S24: 3 | T24: 43031 | U24: Financial Service Activities Registration Fees | V24: 10000 | W24: 45427 | X24: -35427 | Y24: 13892 | AA24: 42503 | AB24: 2 | AC24: 2 | AD24: 4 | AE24: ضرائب جمركية على العربات
A25: Transfers | B25: 60 | C25: 0 | D25: 19729167 | E25: 881496 | F25: 66919705 | G25: 28169590 | H25: 13455 | I25: 12282350 | J25: 127995763 | K25: 128041000 | L25: 164598430 | N25: مكتب مستشار رئيس مجلس الوزراء | O25: 38 | Q25: 4 | R25: 2 | S25: 3 | T25: 43041 | U25: Miscellaneous Service Activities Registration Fees | V25: 1065052 | W25: 1534627 | X25: -469575 | Y25: 1579778 | AA25: 42504 | AB25: 2 | AC25: 2 | AD25: 4 | AE25: ضرائب جمركية على التبغ المصنع وغير المصنع ومشتقاته
A26: Revenue Account under MOF Control | B26: 62 | C26: 1594672391 | D26: 0 | E26: 0 | F26: 0 | G26: 0 | H26: 0 | I26: 0 | J26: 1594672391 | K26: 1700787000 | L26: 2662346396 | N26: مكتب وزير شئون الكهرباء والماء | O26: 40 | Q26: 4 | R26: 2 | S26: 3 | T26: 43051 | U26: Commercial Agencies Registration Fees | V26: 14500 | W26: 11062 | X26: 3438 | Y26: 13787 | AA26: 42505 | AB26: 2 | AC26: 2 | AD26: 4 | AE26: ضرائب جمركية على السلع الكمالية
A27: Information Affairs Authority-65 | B27: 65 | C27: 0 | D27: 342232 | E27: 1331972 | F27: 600 | G27: 0 | H27: 0 | I27: 43724 | J27: 1718527 | K27: 1492000 | L27: 1298057 | N27: المجلس الأعلى للبيئة | O27: 41 | Q27: 4 | R27: 2 | S27: 3 | T27: 43071 | U27: Organizing Engineering Professional Practice Fees | V27: 85000 | W27: 40000 | X27: 45000 | Y27: 40000 | AA27: 42506 | AB27: 2 | AC27: 2 | AD27: 4 | AE27: ضرائب جمركية على اليخوت والزوارق والقوارب
A28: Bahrain Authority for Culture & Antiquiti | B28: 66 | C28: 0 | D28: 1491933 | E28: 423 | F28: 22800 | G28: 0 | H28: 0 | I28: 281518 | J28: 1796674 | K28: 0 | L28: 12515373 | N28: نائب رئيس مجلس الوزراء – الشيخ محمد بن مبارك آل خليفة | O28: 44 | Q28: 4 | R28: 2 | S28: 3 | T28: 44041 | U28: Pharmaceutical Products Licenses & Fees | V28: 35000 | W28: 32111 | X28: 2889 | Y28: 31799 | AA28: 42507 | AB28: 2 | AC28: 2 | AD28: 4 | AE28: ضريبة حماية الصناعة الوطنية
A29: es 66 Administrative Organization for Public Pr | B29: 68 | C29: 0 | D29: 45 | E29: 0 | F29: 0 | G29: 0 | H29: 0 | I29: 7759 | J29: 7804 | K29: 0 | L29: 0 | N29: وزارة الأشغال وشئون البلديات والتخطيط العمراني (شئون الأشغال) | O29: 46 | Q29: 4 | R29: 2 | S29: 3 | T29: 44042 | U29: Health Facilities Licenses & Fees | V29: 120000 | W29: 113996 | X29: 6004 | Y29: 109042 | AB29: 3 | AC29: 2 | AD29: 4 | AE29: رسوم التسجيل والتراخيص
A30: Civil Service Bureau-72 | B30: 72 | C30: 0 | D30: 250 | E30: 0 | F30: 0 | G30: 0 | H30: 50 | I30: 6431 | J30: 6731 | K30: 5000 | L30: 14151 | N30: وزارة المواصلات والاتصالات | O30: 48 | Q30: 4 | R30: 2 | S30: 3 | T30: 44043 | U30: Health Professions Licenses & Fees | V30: 130000 | W30: 157809 | X30: -27809 | Y30: 117822 | AA30: 43011 | AB30: 3 | AC30: 2 | AD30: 4 | AE30: نشاطات التجارة العامة
A31: Central Informatics Org-73 | B31: 73 | C31: 0 | D31: 2465286 | E31: 0 | F31: 0 | G31: 0 | H31: 0 | I31: 0 | J31: 2465286 | K31: 1683000 | L31: 1704235 | N31: الحرس الوطني | O31: 50 | Q31: 4 | R31: 2 | S31: 4 | T31: 44011 | U31: Passport Fees | V31: 1800000 | W31: 676517 | X31: 1123483 | Y31: 982251 | AA31: 43021 | AB31: 3 | AC31: 2 | AD31: 4 | AE31: نشاطات الصناعة
A32: General Secretariat for Youth & Sports Hi | B32: 75 | C32: 0 | D32: 585 | E32: 0 | F32: 0 | G32: 0 | H32: 0 | I32: 0 | J32: 585 | K32: 0 | L32: 0 | N32: الهيئة الوطنية للنفط والغاز | O32: 51 | Q32: 4 | R32: 2 | S32: 4 | T32: 44012 | U32: Residence Permit Fees | V32: 2437000 | W32: 2321112 | X32: 115888 | Y32: 2428954 | AA32: 43031 | AB32: 3 | AC32: 2 | AD32: 4 | AE32: نشاطات الخدمات المالية
A33: gh Council 75 Supreme Judicial Council (76) | B33: 76 | C33: 0 | D33: 645 | E33: 3309 | F33: 0 | G33: 0 | H33: 0 | I33: 2261 | J33: 6215 | K33: 0 | L33: 1873 | N33: وزارة الدولة لشئون الاتصالات | O33: 53 | Q33: 4 | R33: 2 | S33: 4 | T33: 44013 | U33: Visa & NOC Fees | V33: 9708000 | W33: 16781608 | X33: -7073608 | Y33: 11471167 | AA33: 43041 | AB33: 3 | AC33: 2 | AD33: 4 | AE33: نشاطات الخدمات المتنوعة
A34: Min. of Justice & Islamic Aff & Awqaf (I | B34: 77 | C34: 0 | D34: 5475 | E34: 0 | F34: 0 | G34: 0 | H34: 0 | I34: 3300 | J34: 8775 | K34: 10000 | L34: 24264 | N34: وزارة شئون مجلسي الشورى والنواب | O34: 54 | Q34: 4 | R34: 2 | S34: 4 | T34: 44015 | U34: Population Card Fees | V34: 1510000 | W34: 2201066 | X34: -691066 | Y34: 1475497 | AA34: 43051 | AB34: 3 | AC34: 2 | AD34: 4 | AE34: رسوم تسجيل الوكالات التجارية
A35: Survey&Land Reg Bureau-78 | B35: 78 | C35: 0 | D35: 20803808 | E35: 150986 | F35: 300 | G35: 0 | H35: 0 | I35: 15088 | J35: 20970182 | K35: 20376000 | L35: 22671205 | N35: وزارة شئون الإعلام | O35: 55 | Q35: 4 | R35: 2 | S35: 4 | T35: 44016 | U35: CONSUITANCY SERVICES FEES | V35: 85000 | W35: 1233 | X35: 83767 | Y35: 7000 | AA35: 43071 | AB35: 3 | AC35: 2 | AD35: 4 | AE35: رسوم تنظيم مزاولة المهن الهندسية
A36: Ministry of Finance-81 | B36: 81 | C36: 0 | D36: 640 | E36: 0 | F36: 180 | G36: 0 | H36: 0 | I36: 16689 | J36: 17509 | K36: 3000 | L36: 34588 | N36: وزارة الدولة لشئون حقوق الانسان | O36: 58 | Q36: 4 | R36: 2 | S36: 4 | T36: 44021 | U36: Labour Market Regulatory Authority Fee | V36: 18500000 | W36: 19206857 | X36: -706857 | Y36: 24231174 | AA36: 44041 | AB36: 3 | AC36: 2 | AD36: 4 | AE36: رسوم وتراخيص المواد الصيدلانية
A37: Customs Affairs-83 | B37: 83 | C37: 0 | D37: 110031666 | E37: 63437 | F37: 0 | G37: 0 | H37: 20790 | I37: 6650646 | J37: 116766540 | K37: 99700000 | L37: 97643744 | N37: مجلـس المناقصات والمزايدات | O37: 59 | Q37: 4 | R37: 2 | S37: 4 | T37: 44031 | U37: Employment Permission Fees | X37: 0 | Y37: 783410 | AA37: 44042 | AB37: 3 | AC37: 2 | AD37: 4 | AE37: رسوم وتراخيص المرافق الصحية
N38: الميزانية التحويلية (إيضاح رقم 10) | O38: 60 | Q38: 4 | R38: 2 | S38: 4 | T38: 44032 | U38: Employment Permission Renewal Fees | X38: 0 | Y38: 557105 | AA38: 44043 | AB38: 3 | AC38: 2 | AD38: 4 | AE38: رسوم وتراخيص المهن الصحية
A39: Government Agency Name | B39: Code | C39: Actual | D39: Revenue Budget | E39: % Spent | F39: Actual | G39: Recurrent Budget | H39: % Spent | I39: Actual | J39: Project Budget | K39: % Spent | N39: وزارة النفط | O39: 61 | Q39: 4 | R39: 2 | S39: 4 | T39: 44051 | U39: Ownership Registration Fees | V39: 150000 | W39: 116381 | X39: 33619 | Y39: 91573 | AB39: 4 | AC39: 2 | AD39: 4 | AE39: الرسوم والأتعاب الإدارية
A40: The Court of H.R.H The Prime Minister-11 | B40: 11 | C40: 88100 | D40: 0 | E40: 0 | F40: 19317706 | G40: 19342000 | H40: 0.9987 | N40: إيرادات النفط والغاز الطبيعي | O40: 62 | Q40: 4 | R40: 2 | S40: 4 | T40: 44052 | U40: Ownership Transfer Fees | V40: 20000000 | W40: 20686702 | X40: -686702 | Y40: 22418893 | AA40: 44011 | AB40: 4 | AC40: 2 | AD40: 4 | AE40: رسوم الجوازات
...

Sheet  بيان الإيرادات والمصروفات
A1: بيان الإيرادات والمصروفات الموحد للدولة
A2: للسنة المالية المنتهية في 31 ديسمبر 2020
E3: (دينار بحريني)
A4: البيان | B4: الإيضاحات | C4: الاعتماد | D4: الفعلي 2020 | E4: الفعلي 2019
A5: الإيرادات
A6: النفط والغاز الطبيعي | B6: 4،3 | C6: ='تفصيل الإيرادات'!F5 -> 2096283000 | D6: ='تفصيل الإيرادات'!G5 -> 1232792812 | E6: ='تفصيل الإيرادات'!I5 -> 2090143298
A7: الضرائب والرسوم | B7: 4،3 | C7: ='تفصيل الإيرادات'!F28 -> 569086833 | D7: ='تفصيل الإيرادات'!G28 -> 479884128 | E7: ='تفصيل الإيرادات'!I28 -> 552980854
A8: المنتجات الخدمية والسلعية الحكومية | B8: 4،3 | C8: ='تفصيل الإيرادات'!F144 -> 86638516 | D8: ='تفصيل الإيرادات'!G144 -> 73008491 | E8: ='تفصيل الإيرادات'!I144 -> 77100692
A9: الإستثمارات والأملاك الحكومية | B9: 4،3 | C9: ='تفصيل الإيرادات'!F224 -> 149619520 | D9: ='تفصيل الإيرادات'!G224 -> 255614354 | E9: ='تفصيل الإيرادات'!I224 -> 137994587
A10: الإعانات | B10: 4،3
A11: مبيعات الأصول الرأسمالية | B11: 4،3 | C11: ='تفصيل الإيرادات'!F249 -> 329107 | D11: ='تفصيل الإيرادات'!G249 -> 454407 | E11: ='تفصيل الإيرادات'!I249 -> 267365
A12: الغرامات والجزاءات والإيرادات المتنوعة | B12: 4،3 | C12: ='تفصيل الإيرادات'!F262 -> 44536578 | D12: ='تفصيل الإيرادات'!G262 -> 40620860 | E12: ='تفصيل الإيرادات'!I262 -> 43869144
A13: مجموع الإيرادات | B13: 4،3،2 | C13: =SUM(C6:C12) -> 2946493554 | D13: =SUM(D6:D12) -> 2082375052 | E13: =SUM(E6:E12) -> 2902355940
A14: المصروفات المتكررة
A15: القوى العاملة | B15: 8،7،5 | C15: ='تفصيل المصروفات'!G5 -> 1386400029 | D15: ='تفصيل المصروفات'!H5 -> 1389808947 | E15: ='تفصيل المصروفات'!J5 -> 1398864073
A16: الخدمات | B16: 8،7،5 | C16: ='تفصيل المصروفات'!G132 -> 201655636 | D16: ='تفصيل المصروفات'!H132 -> 221968427 | E16: ='تفصيل المصروفات'!J132 -> 246766332
A17: السلع الاستهلاكية | B17: 8،7،5 | C17: ='تفصيل المصروفات'!G264 -> 119780414 | D17: ='تفصيل المصروفات'!H264 -> 133504935 | E17: ='تفصيل المصروفات'!J264 -> 149706143
A18: السلع الرأسمالية | B18: 8،7،5 | C18: ='تفصيل المصروفات'!G327 -> 16074359 | D18: ='تفصيل المصروفات'!H327 -> 15132187 | E18: ='تفصيل المصروفات'!J327 -> 26213208
A19: الصيانة | B19: 8،7،5 | C19: ='تفصيل المصروفات'!G406 -> 37847535 | D19: ='تفصيل المصروفات'!H406 -> 49580500 | E19: ='تفصيل المصروفات'!J406 -> 49655351
A20: النفقات التحويلية | B20: 8،7،5 | C20: ='تفصيل المصروفات'!G508 -> 718388050 | D20: ='تفصيل المصروفات'!H508 -> 726004810 | E20: ='تفصيل المصروفات'!J508 -> 501105176
A21: الإعانات وتسديد فوائد القروض | B21: 8،7،5 | C21: ='تفصيل المصروفات'!G518 -> 1019273111 | D21: ='تفصيل المصروفات'!H518 -> 997042755 | E21: ='تفصيل المصروفات'!J518 -> 961672334
A22: مجموع المصروفات المتكررة | B22: 8،7،6،5،2 | C22: =SUM(C15:C21) -> 3499419134 | D22: =SUM(D15:D21) -> 3533042561 | E22: =SUM(E15:E21) -> 3333982617
A23: مصروفات المشاريع | B23: 10،5،2 | C23: ='مشاريع '!C47 -> 254803288 | D23: ='مشاريع '!D47 -> 219914638 | E23: ='مشاريع '!F47 -> 252077051
A24: مجموع المصروفات | B24: 5 | C24: =SUM(C22:C23) -> 3754222422 | D24: =SUM(D22:D23) -> 3752957199 | E24: =SUM(E22:E23) -> 3586059668
A25: العجز للسنة | C25: =C13-C24 -> -807728868 | D25: =D13-D24 -> -1670582147 | E25: =E13-E24 -> -683703728
A27: مصروفات مشاريع التسليح والتطوير | B27: 14 | C27: 0 | D27: 0 | E27: 0
A28: العجز للسنة | C28: =C25-C27 -> -807728868 | D28: =D25-D27 -> -1670582147 | E28: =E25-E27 -> -683703728
A29: بيان الاعتمادات المدورة إلى السنة المالية اللاحقة
D30: 2020 | E30: 2019
A31: اعتمادات المصروفات المتكررة | B31: 15،5 | D31: 27512180 | E31: 8659975
A32: اعتمادات المشاريع | B32: 15،5 | D32: 23000000 | E32: 21000000
A33: مجموع الاعتمادات المدورة | D33: =SUM(D31:D32) -> 50512180 | E33: =SUM(E31:E32) -> 29659975
A35: الإيضاحات الواردة على الصفحات من (5) إلى (36) هي جزء مكمل للحساب الختامي الموحد للدولة.

Sheet إيرادات النفط 
A1: 2- إيرادات النفط والغاز الطبيعي
C2: (دينار بحريني)
A3: البيان | B3: الفعلي 2018 | C3: الفعلي 2017
A4: إيرادات حقل البحرين النفطية والمصفاة
A5: الإيرادات
A6: إجمالي الإيرادات | B6: 2975111772 | C6: 2271373555
A7: إجمالي التكاليف | B7: -2521004100 | C7: -2085813879
A8: صافي الإيرادات | B8: =SUM(B6:B7) -> 454107672 | C8: =SUM(C6:C7) -> 185559676
A10: إيرادات حقل أبو سعفة
A11: إجمالي الإيرادات | B11: 1440898669 | C11: 1086573086
A12: إجمالي التكاليف | B12: -90708328 | C12: -99065219
A13: احتياطي الأجيال القادمة | B13: -19469985 | C13: -20920270
A14: صافي الإيرادات | B14: =SUM(B11:B13) -> 1330720356 | C14: =SUM(C11:C13) -> 966587597
A16: مبيعات الغاز الطبيعي
A17: إيرادات الغاز الطبيعي | B17: 493830478 | C17: 495675259
A19: ضرائب ورسوم نفطية | B19: 7410464 | C19: 4695378
A20: توزيعات أرباح مستلمة (الشركة القابضة للنفط والغاز) | B20: 0 | C20: 0
A22: صافي إيرادات النفط والغاز الطبيعي | B22: =B8+B14+B17+B19+B20 -> 2286068970 | C22: =C8+C14+C17+C19+C20 -> 1652517910

Sheet مصروفات وايرادات الوزارات
A1: 2- الإيرادات والمصروفات مصنفة حسب الوزارات والجهات الحكومية
C2: (دينار بحريني)
A3: الوزارة أو الجهة الحكومية | C3: الإيرادات | G3: المصروفات المتكررة | K3: مصروفات المشاريع
B4: Code | C4: الفعلي | D4: الاعتماد | E4: نسبة التحصيل % | G4: الفعلي | H4: الاعتماد | I4: نسبة الصرف % | K4: الفعلي | L4: الاعتماد | M4: نسبة الصرف %
A5: مكتب رئيس مجلس الوزراء | B5: 11 | C5: 0 | D5: 0 | E5: 0 | G5: 17946528 | H5: 18069000 | I5: =(G5/H5)*100 -> 99.322198 | K5: 0 | L5: 0 | M5: 0
A6: وزارة الدفاع (إيضاح رقم 13) | B6: 12 | C6: 0 | D6: 0 | E6: 0 | G6: 528984900 | H6: 482050000 | I6: =(G6/H6)*100 -> 109.73652 | K6: 0 | L6: 0 | M6: 0
A7: {=INDEX(Meta!N:N,MATCH(B7,Meta!O:O,0))} -> وزارة الداخلية | B7: 13 | C7: 34257465 | D7: 54141942 | E7: =(C7/D7)*100 -> 63.273432 | G7: 352939305 | H7: 357982350 | I7: =(G7/H7)*100 -> 98.591259 | K7: 8643632 | L7: 11229500 | M7: =(K7/L7)*100 -> 76.972546
A8: جهاز المخابرات الوطني | B8: 14 | C8: 0 | D8: 0 | E8: 0 | G8: 33313200 | H8: 34116000 | I8: =(G8/H8)*100 -> 97.646852 | K8: 0 | L8: 0 | M8: 0
A9: =INDEX(Meta!N:N,MATCH(B9,Meta!O:O,0)) -> هيئة التشريع والرأي القانوني | B9: 15 | C9: 0 | D9: 5000 | E9: =(C9/D9)*100 -> 0 | G9: 2027419 | H9: 2286000 | I9: =(G9/H9)*100 -> 88.688495 | K9: 0 | L9: 0 | M9: 0
A10: {=INDEX(Meta!N:N,MATCH(B10,Meta!O:O,0))} -> وزارة الخارجية | B10: 16 | C10: 1173330 | D10: 2055000 | E10: =(C10/D10)*100 -> 57.09635 | G10: 34416536 | H10: 38849000 | I10: =(G10/H10)*100 -> 88.590533 | K10: 1591517 | L10: 1591517 | M10: =(K10/L10)*100 -> 100
A11: {=INDEX(Meta!N:N,MATCH(B11,Meta!O:O,0))} -> وزارة العدل والشئون الإسلامية والأوقاف (شئون العدل) | B11: 18 | C11: 30052470 | D11: 34307300 | E11: =(C11/D11)*100 -> 87.597887 | G11: 9586920 | H11: 10235272 | I11: =(G11/H11)*100 -> 93.665513 | K11: 21768 | L11: 379400 | M11: =(K11/L11)*100 -> 5.7374802
A12: {=INDEX(Meta!N:N,MATCH(B12,Meta!O:O,0))} -> وزارة التربية والتعليم | B12: 21 | C12: 596603 | D12: 556930 | E12: =(C12/D12)*100 -> 107.12352 | G12: 262147440 | H12: 276982000 | I12: =(G12/H12)*100 -> 94.644215 | K12: 2326533 | L12: 2500000 | M12: =(K12/L12)*100 -> 93.06132
A13: {=INDEX(Meta!N:N,MATCH(B13,Meta!O:O,0))} -> وزارة الصحة | B13: 22 | C13: 38877969 | D13: 38115000 | E13: =(C13/D13)*100 -> 102.00176 | G13: 228680868 | H13: 220763970 | I13: =(G13/H13)*100 -> 103.58614 | K13: 2188889 | L13: 3070600 | M13: =(K13/L13)*100 -> 71.285384
A14: وزارة الأشغال وشئون البلديات والتخطيط العمراني (شئون الزراعة والثروة البحرية والحيوانية) | B14: 23 | C14: 4078444 | D14: 5108000 | E14: =(C14/D14)*100 -> 79.844244 | G14: 5526609 | H14: 5727000 | I14: =(G14/H14)*100 -> 96.500943 | K14: 1191549 | L14: 2206599 | M14: =(K14/L14)*100 -> 53.999345
A15: =INDEX(Meta!N:N,MATCH(B15,Meta!O:O,0)) -> وزارة شئون الشباب والرياضة | B15: 26 | C15: 141057 | D15: 2000000 | E15: =(C15/D15)*100 -> 7.05285 | G15: 8362642 | H15: 11979300 | I15: =(G15/H15)*100 -> 69.809104 | K15: 2268983 | L15: 3383900 | M15: =(K15/L15)*100 -> 67.052307
A16: =INDEX(Meta!N:N,MATCH(B16,Meta!O:O,0)) -> نادي راشد للفروسية وسباق الخيل | B16: 28 | C16: 0 | D16: 0 | E16: 0 | G16: 1903999 | H16: 1904000 | I16: =(G16/H16)*100 -> 99.999947 | K16: 0 | L16: 0 | M16: 0
A17: {=INDEX(Meta!N:N,MATCH(B17,Meta!O:O,0))} -> وزارة العمل والتنمية الاجتماعية | B17: 29 | C17: 24089 | D17: 29000 | E17: =(C17/D17)*100 -> 83.065517 | G17: 11844232 | H17: 13088000 | I17: =(G17/H17)*100 -> 90.496883 | K17: 173993 | L17: 348300 | M17: =(K17/L17)*100 -> 49.954924
A18: {=INDEX(Meta!N:N,MATCH(B18,Meta!O:O,0))} -> مكتب وزير شئون مجلس الوزراء | B18: 32 | C18: 0 | D18: 0 | E18: 0 | G18: 473614 | H18: 642000 | I18: =(G18/H18)*100 -> 73.771651 | K18: 0 | L18: 0 | M18: 0
A19: {=INDEX(Meta!N:N,MATCH(B19,Meta!O:O,0))} -> وزارة الصناعة والتجارة والسياحة | B19: 34 | C19: 28968956 | D19: 39532700 | E19: =(C19/D19)*100 -> 73.278466 | G19: 9298083 | H19: 10438298 | I19: =(G19/H19)*100 -> 89.07662 | K19: 856774 | L19: 3163700 | M19: =(K19/L19)*100 -> 27.081392
A20: {=INDEX(Meta!N:N,MATCH(B20,Meta!O:O,0))} -> وزارة الإسكان | B20: 36 | C20: 200 | D20: 35000 | E20: =(C20/D20)*100 -> 0.57142857 | G20: 4045303 | H20: 4434000 | I20: =(G20/H20)*100 -> 91.233717 | K20: 69663089 | L20: 76122677 | M20: =(K20/L20)*100 -> 91.51424
A21: {=INDEX(Meta!N:N,MATCH(B21,Meta!O:O,0))} -> مكتب صاحب السمو الملكي النائب الأول لرئيس مجلس الوزراء | B21: 70 | C21: 0 | D21: 0 | E21: 0 | F21: =(D21/E21)*100 -> #DIV/0! | G21: 1587861 | H21: 3208000 | I21: =(G21/H21)*100 -> 49.496914 | K21: 4000000 | L21: 5000000 | M21: =(K21/L21)*100 -> 80
A22: مكاتب نواب رئيس مجلس الوزراء | B22: D | C22: 0 | D22: 0 | E22: 0 | F22: =(D22/E22)*100 -> #DIV/0! | G22: =619424+1032503+625962+591232 -> 2869121 | H22: =720000+1054892+846000+601000 -> 3221892 | I22: =(G22/H22)*100 -> 89.050812 | K22: 0 | L22: 0 | M22: 0
A23: مكاتب مستشاري رئيس مجلس الوزراء | B23: A | C23: 0 | D23: 0 | E23: 0 | F23: =(D23/E23)*100 -> #DIV/0! | G23: =282572+257952 -> 540524 | H23: =282572+305000 -> 587572 | I23: =(G23/H23)*100 -> 91.992811 | K23: 0 | L23: 0 | M23: 0
A24: =INDEX(Meta!N:N,MATCH(B24,Meta!O:O,0)) -> مكتب وزير شئون الكهرباء والماء | B24: 40 | C24: 0 | D24: 0 | E24: 0 | F24: =(D24/E24)*100 -> #DIV/0! | G24: 172453 | H24: 232000 | I24: =(G24/H24)*100 -> 74.33319 | K24: 2766430 | L24: 2766430 | M24: =(K24/L24)*100 -> 100
A25: {=INDEX(Meta!N:N,MATCH(B25,Meta!O:O,0))} -> المجلس الأعلى للبيئة | B25: 41 | C25: 774022 | D25: 1923700 | E25: =(C25/D25)*100 -> 40.236108 | F25: =(D25/E25)*100 -> 4781029.1 | G25: 4442436 | H25: 4615000 | I25: =(G25/H25)*100 -> 96.260802 | K25: 637042 | L25: 637200 | M25: =(K25/L25)*100 -> 99.975204
A26: مركز محمد بن خليفة آل خليفة التخصصي للقلب (إيضاح رقم 13) | B26: 43 | C26: 0 | D26: 0 | E26: 0 | F26: =(D26/E26)*100 -> #DIV/0! | G26: 20243530 | H26: 19636000 | I26: =(G26/H26)*100 -> 103.09396 | K26: 0 | L26: 0 | M26: 0
A27: 2- الإيرادات والمصروفات مصنفة حسب الوزارات والجهات الحكومية (تتمة)
C28: (دينار بحريني)
A29: الوزارة أو الجهة الحكومية | C29: الإيرادات | G29: المصروفات المتكررة | K29: مصروفات المشاريع
C30: الفعلي | D30: الاعتماد | E30: نسبة التحصيل % | G30: الفعلي | H30: الاعتماد | I30: نسبة الصرف % | K30: الفعلي | L30: الاعتماد | M30: نسبة الصرف %
A31: {=INDEX(Meta!N:N,MATCH(B31,Meta!O:O,0))} -> وزارة الأشغال وشئون البلديات والتخطيط العمراني (شئون الأشغال) | B31: 46 | C31: 10009528 | D31: 6000000 | E31: =(C31/D31)*100 -> 166.82547 | G31: 40098631 | H31: 42220000 | I31: =(G31/H31)*100 -> 94.975441 | K31: 51432011 | L31: 56316477 | M31: =(K31/L31)*100 -> 91.326755
A32: هيئة الكهرباء والماء (إيضاح رقم 12) | B32: 47 | C32: 0 | D32: 0 | E32: 0 | G32: 154481416 | H32: 154481226 | I32: =(G32/H32)*100 -> 100.00012 | K32: 0 | L32: 0 | M32: 0
A33: {=INDEX(Meta!N:N,MATCH(B33,Meta!O:O,0))} -> وزارة المواصلات والاتصالات | B33: 48 | C33: 38612598 | D33: 50458000 | E33: =(C33/D33)*100 -> 76.524234 | G33: 29123409 | H33: 29141626 | I33: =(G33/H33)*100 -> 99.937488 | K33: 3899051 | L33: 3899051 | M33: =(K33/L33)*100 -> 100
A34: {=INDEX(Meta!N:N,MATCH(B34,Meta!O:O,0))} -> الحرس الوطني | B34: 50 | C34: 0 | D34: 0 | E34: 0 | G34: 41350995 | H34: 42094000 | I34: =(G34/H34)*100 -> 98.234891 | K34: 5840121 | L34: 8118000 | M34: =(K34/L34)*100 -> 71.940392
A35: {=INDEX(Meta!N:N,MATCH(B35,Meta!O:O,0))} -> الهيئة الوطنية للنفط والغاز | B35: 51 | C35: 0 | D35: 0 | E35: 0 | G35: 1475909 | H35: 1605000 | I35: =(G35/H35)*100 -> 91.956947 | K35: 0 | L35: 0 | M35: 0
A36: {=INDEX(Meta!N:N,MATCH(B36,Meta!O:O,0))} -> وزارة شئون مجلسي الشورى والنواب | B36: 54 | C36: 0 | D36: 0 | E36: 0 | G36: 1279716 | H36: 1321000 | I36: =(G36/H36)*100 -> 96.874792 | K36: 0 | L36: 0 | M36: 0
A37: مركز الاتصال الوطني | B37: 55 | C37: 0 | D37: 0 | E37: 0 | G37: 1053295 | H37: 1230000 | I37: =(G37/H37)*100 -> 85.63374 | K37: 23357 | L37: 281915 | M37: =(K37/L37)*100 -> 8.2851214
A38: {=INDEX(Meta!N:N,MATCH(B38,Meta!O:O,0))} -> وزارة شئون الإعلام | B38: 65 | C38: 590303 | D38: 2200000 | E38: =(C38/D38)*100 -> 26.831955 | G38: 17464057 | H38: 19646000 | I38: =(G38/H38)*100 -> 88.893704 | K38: 6168201 | L38: 6168201 | M38: =(K38/L38)*100 -> 100
A39: {=INDEX(Meta!N:N,MATCH(B39,Meta!O:O,0))} -> مجلـس المناقصات والمزايدات | B39: 59 | C39: 785053 | D39: 790000 | E39: =(C39/D39)*100 -> 99.373797 | G39: 981944 | H39: 1286000 | I39: =(G39/H39)*100 -> 76.356454 | K39: 181140 | L39: 241300 | M39: =(K39/L39)*100 -> 75.06838
A40: الميزانيات التحويلية (إيضاحي رقم 9 و10) | B40: 60 | C40: 261737330 | D40: 155238003 | E40: =(C40/D40)*100 -> 168.6039 | G40: 1532691530 | H40: 1505759540 | I40: =(G40/H40)*100 -> 101.7886 | K40: 35619842 | L40: 42431167 | M40: =(K40/L40)*100 -> 83.947354
...

Sheet الايرادات
A1: 3- الإيرادات مصنفة حسب الأبواب والوزارات والجهات الحكومية
C2: (دينار بحريني)
A3: الوزارة أو الجهة الحكومية | B3: Code | C3: نفط وغاز طبيعي | D3: ضــرائـب ورســوم | E3: منتجات خدمية وسلعية حكومية | F3: إستثمارات وأملاك حكومية | G3: إعانات | H3: مبيعات أصول رأسمالية | I3: غرامــات وجزاءات وإيرادات متنوعة | J3: المجموع | K3: الاعتماد | L3: الفعلي 2019
A4: ديوان صاحب السمو الملكي رئيس الوزراء | B4: 11 | C4: 0 | D4: 0 | E4: 0 | F4: 0 | G4: 0 | H4: 0 | I4: 0 | J4: 0 | K4: 0 | L4: 0
A5: وزارة الداخلية | B5: 13 | C5: 0 | D5: 29455957 | E5: 3977520 | F5: 56000 | H5: 57425 | I5: 710563 | J5: =SUM(C5:I5) -> 34257465 | K5: 54141942 | L5: 48206905
A6: هيئة التشريع والرأي القانوني | B6: 15 | C6: 0 | D6: 0 | E6: 0 | F6: 0 | H6: 0 | I6: 0 | J6: =SUM(C6:I6) -> 0 | K6: 5000 | L6: 582
A7: وزارة الخارجية | B7: 16 | C7: 0 | D7: 1012666 | E7: 5360 | F7: 0 | H7: 42009 | I7: 113295 | J7: =SUM(C7:I7) -> 1173330 | K7: 2055000 | L7: 1328079
A8: وزارة العدل والشئون الإسلامية والأوقاف (شئون العدل) | B8: 18 | C8: 0 | D8: 10088997 | E8: 8376 | F8: 26972 | H8: 0 | I8: 19928125 | J8: =SUM(C8:I8) -> 30052470 | K8: 34307300 | L8: 31521759
A9: وزارة التربية والتعليم | B9: 21 | C9: 0 | D9: 8590 | E9: 146262 | F9: 0 | H9: 34821 | I9: 406930 | J9: =SUM(C9:I9) -> 596603 | K9: 556930 | L9: 462137
A10: وزارة الصحة | B10: 22 | C10: 0 | D10: 250 | E10: 38576898 | F10: 157379 | H10: 9198 | I10: 134244 | J10: =SUM(C10:I10) -> 38877969 | K10: 38115000 | L10: 31754468
A11: وزارة الأشغال وشئون البلديات والتخطيط العمراني (شئون الزراعة والثروة البحرية والحيوانية) | B11: 23 | C11: 0 | D11: 3060981 | E11: 890322 | F11: 117758 | H11: 9370 | I11: 13 | J11: =SUM(C11:I11) -> 4078444 | K11: 5108000 | L11: 6933340
A12: وزارة شئون الشباب والرياضة | B12: 26 | C12: 0 | D12: 20 | E12: 20348 | F12: 1000 | H12: 150 | I12: 119539 | J12: =SUM(C12:I12) -> 141057 | K12: 2000000 | L12: 42779
A13: وزارة العمل والتنمية الاجتماعية | B13: 29 | C13: 0 | D13: 170 | E13: 229 | F13: 0 | H13: 23690 | I13: 0 | J13: =SUM(C13:I13) -> 24089 | K13: 29000 | L13: 3740
A14: وزارة الصناعة والتجارة والسياحة | B14: 34 | C14: 0 | D14: 18451684 | E14: 433471 | F14: 9775732 | H14: 700 | I14: 307369 | J14: =SUM(C14:I14) -> 28968956 | K14: 39532700 | L14: 34193939
A15: وزارة الإسكان | B15: 36 | C15: 0 | D15: 200 | E15: 0 | F15: 0 | H15: 0 | I15: 0 | J15: =SUM(C15:I15) -> 200 | K15: 35000 | L15: 287826
A16: المجلس الأعلى للبيئة | B16: 41 | C16: 0 | D16: 630150 | E16: 59639 | F16: 76935 | H16: 0 | I16: 7298 | J16: =SUM(C16:I16) -> 774022 | K16: 1923700 | L16: 2016959
... A18: وزارة المواصلات والاتصالات | B18: 48 | C18: 0 | D18: 2036703 | E18: 24735241 | F18: 11531194 | H18: 402 | I18: 309058 | J18: =SUM(C18:I18) -> 38612598 | K18: 50458000 | L18: 50830271
A19: الحرس الوطني | C19: 0 | D19: 0 | E19: 0 | F19: 0 | H19: 0 | I19: 0 | J19: =SUM(C19:I19) -> 0 | K19: 0 | L19: 35557
A20: الهيئة الوطنية للنفط والغاز | B20: 51 | J20: =SUM(C20:I20) -> 0 | L20: 0
A21: وزارة شئون مجلسي الشورى والنواب | B21: 54 | J21: =SUM(C21:I21) -> 0 | L21: 0
A22: وزارة شئون الاعلام | B22: 55 | J22: =SUM(C22:I22) -> 0 | L22: 0
A23: وزارة شئون الإعلام | B23: 65 | C23: 0 | D23: 386040 | E23: 179857 | F23: 11170 | H23: 0 | I23: 13236 | J23: =SUM(C23:I23) -> 590303 | K23: 2200000 | L23: 990131
A24: مجلـس المناقصات والمزايدات | B24: 59 | C24: 0 | D24: 556691 | E24: 228362 | F24: 0 | H24: 0 | I24: 0 | J24: =SUM(C24:I24) -> 785053 | K24: 790000 | L24: 720578
A25: الميزانيات التحويلية | B25: 60 | C25: 0 | D25: 15458664 | E25: 886470 | F25: 228873354 | H25: 201526 | I25: 16317316 | J25: =SUM(C25:I25) -> 261737330 | K25: 155238003 | L25: 155009110
A26: إيرادات النفط والغاز الطبيعي (إيضاح رقم 11) | B26: 62 | C26: 1232792812 | D26: 0 | E26: 0 | F26: 0 | G26: 0 | H26: 0 | I26: 0 | J26: =SUM(C26:I26) -> 1232792812 | K26: 2096283000 | L26: 2090143298
A27: هيئة البحرين للثقافة والآثار | B27: 66 | C27: 0 | D27: 45367 | E27: 0 | F27: 8050 | H27: 22535 | I27: 6547 | J27: =SUM(C27:I27) -> 82499 | K27: 351700 | L27: 315283
A28: الجهاز الإداري للنيابة العامة | B28: 68 | C28: 0 | D28: 0 | E28: 0 | F28: 0 | H28: 0 | I28: 50 | J28: =SUM(C28:I28) -> 50 | K28: 0 | L28: 75
A29: هيئة جودة التعليم والتدريب | B29: 69 | C29: 0 | D29: 0 | E29: 4600 | F29: 0 | H29: 0 | I29: 0 | J29: =SUM(C29:I29) -> 4600 | K29: 0 | L29: 655
A30: جهاز الخدمة المدنية | B30: 72 | C30: 0 | D30: 0 | E30: 0 | F30: 0 | H30: 75 | I30: 0 | J30: =SUM(C30:I30) -> 75 | K30: 0 | L30: 0
A31: وزارة النفط | B31: 61 | C31: 0 | D31: 0 | E31: 0 | F31: 0 | G31: 0 | H31: 0 | I31: 0 | J31: 0 | K31: 0 | L31: =J31 -> 0
A32: وزارة شئون مجلس الوزراء | C32: 0 | J32: =SUM(C32:I32) -> 0
A33: وزارة الثقافة | J33: =SUM(C33:I33) -> 0
A34: 3- الإيرادات مصنفة حسب الأبواب والوزارات والجهات الحكومية (تتمة)
C35: (دينار بحريني)
A36: الوزارة أو الجهة الحكومية | B36: Code | C36: نفط وغاز طبيعي | D36: ضــرائـب ورســوم | E36: منتجات خدمية وسلعية حكومية | F36: إستثمارات وأملاك حكومية | G36: إعانات | H36: مبيعات أصول رأسمالية | I36: غرامــات وجزاءات وإيرادات متنوعة | J36: المجموع | K36: الاعتماد | L36: الفعلي 2019
A37: هيئة المعلومات والحكومة الإلكترونية | B37: 73 | C37: 0 | D37: 3581087 | E37: 166235 | F37: 0 | H37: 0 | I37: 331 | J37: =SUM(C37:I37) -> 3747653 | K37: 3620300 | L37: 3539184
A38: الأمانة العامة للمجلس الأعلى للشباب والرياضة | B38: 75 | C38: 0 | D38: 0 | E38: 0 | F38: 0 | G38: 0 | H38: 0 | I38: 0 | J38: =SUM(C38:I38) -> 0 | K38: 0 | L38: 105
A39: المجلس الأعلى للقضاء | B39: 76 | C39: 0 | D39: 0 | E39: 1063 | F39: 0 | H39: 0 | I39: 0 | J39: =SUM(C39:I39) -> 1063 | K39: 0 | L39: 1485
A40: وزارة العدل والشئون الإسلامية والأوقاف (الشئون الإسلامية) | B40: 77 | C40: 0 | D40: 8775 | E40: 0 | F40: 0 | H40: 0 | I40: 0 | J40: =SUM(C40:I40) -> 8775 | K40: 10000 | L40: 8550
A41: جهاز المساحة والتسجيل العقاري | B41: 78 | C41: 0 | D41: 12234464 | E41: 133938 | F41: 600 | H41: 0 | I41: 0 | J41: =SUM(C41:I41) -> 12369002 | K41: 21901000 | L41: 14253275
...

Sheet تفصيل الإيرادات
A1: 4- الإيرادات مصنفة حسب الأبواب والأقسام والبنود
A2: (دينار بحريني)
A3: التبويــب | E3: البيـــان | F3: 2020 | I3: 2019 الفعلي
A4: بند | B4: قسم | C4: باب | D4: نوع | F4: الاعتماد | G4: الفعلي | H4: الفرق
C5: 1 | D5: 4 | E5: النفط والغاز الطبيعي | F5: =F6+F10+F22 -> 2096283000 | G5: =G6+G10+G22 -> 1232792812 | H5: =G5-F5 -> -863490188 | I5: =I6+I10+I22 -> 2090143298
B6: 1 | C6: 1 | D6: 4 | E6: مبيعات النفط | F6: =SUM(F7:F9) -> 1350741464 | G6: =SUM(G7:G9) -> 911279000 | H6: =G6-F6 -> -439462464 | I6: =SUM(I7:I9) -> 1492705634
A7: 40011 | B7: 1 | C7: 1 | D7: 4 | E7: حقل البحرين | F7: 255094229 | G7: 184172370 | H7: =G7-F7 -> -70921859 | I7: 129563620
A8: 40012 | B8: 1 | C8: 1 | D8: 4 | E8: حقل أبوسعفة (إيضاح رقم 11) | F8: 1116233235 | G8: 730444720 | H8: =G8-F8 -> -385788515 | I8: 1386475415
A9: 40014 | B9: 1 | C9: 1 | D9: 4 | E9: احتياطي الأجيال القادمة | F9: -20586000 | G9: -3338090 | H9: =G9-F9 -> 17247910 | I9: -23333401
B10: 2 | C10: 1 | D10: 4 | E10: مبيعات الغاز | F10: =SUM(F11:F21) -> 736762638 | G10: =SUM(G11:G21) -> 314876430 | H10: =G10-F10 -> -421886208 | I10: =SUM(I11:I21) -> 572470986
A11: 40031 | B11: 2 | C11: 1 | D11: 4 | E11: =IFERROR(INDEX([2]Meta!AE:AE,MATCH(D11&C11&B11&A11,[2]Meta!AD:AD&[2]Meta!AC:AC&[2]Meta!AB:AB&[2]Meta!AA:AA,0)),K11) -> 0 | F11: {=IFERROR(INDEX([2]Meta!V:V,MATCH($D11&$C11&$B11&$A11,[2]Meta!$Q:$Q&[2]Meta!$R:$R&[2]Meta!$S:$S&[2]Meta!$T:$T,0)),0)} -> 0 | G11: {=IFERROR(INDEX([2]Meta!W:W,MATCH($D11&$C11&$B11&$A11,[2]Meta!$Q:$Q&[2]Meta!$R:$R&[2]Meta!$S:$S&[2]Meta!$T:$T,0)),0)} -> 0 | H11: =G11-F11 -> 0 | I11: 0
A12: 40032 | B12: 2 | C12: 1 | D12: 4 | E12: محطة سترة للكهرباء | F12: 0 | G12: 0 | H12: =G12-F12 -> 0 | I12: 0
A13: 40033 | B13: 2 | C13: 1 | D13: 4 | E13: محطة سترة للمياه | F13: 0 | G13: 0 | H13: =G13-F13 -> 0 | I13: 0
A14: 40034 | B14: 2 | C14: 1 | D14: 4 | E14: محطة الرفاع للكهرباء | F14: 0 | G14: 0 | H14: =G14-F14 -> 0 | I14: 0
A15: 40035 | B15: 2 | C15: 1 | D15: 4 | E15: محطة الحد للكهرباء | F15: 0 | G15: 0 | H15: =G15-F15 -> 0 | I15: 0
A16: 40036 | B16: 2 | C16: 1 | D16: 4 | E16: محطة الحد للماء | F16: 0 | G16: 0 | H16: =G16-F16 -> 0 | I16: 0
A17: 40037 | B17: 2 | C17: 1 | D17: 4 | E17: مبيعات الغاز إلى محطات انتاج الكهرباء والماء | F17: 53292616 | G17: 0 | H17: =G17-F17 -> -53292616 | I17: 24488858
A18: 40051 | B18: 2 | C18: 1 | D18: 4 | E18: شركة المنيوم البحرين (ألبا) | F18: 197777268 | G18: 0 | H18: =G18-F18 -> -197777268 | I18: 127701666
A19: 40052 | B19: 2 | C19: 1 | D19: 4 | E19: شركة نفط البحرين (بابكو) | F19: 56186724 | G19: 0 | H19: =G19-F19 -> -56186724 | I19: 41038712
A20: 40053 | B20: 2 | C20: 1 | D20: 4 | E20: شركة غاز البحرين الوطنية (بناغاز) | F20: 12747563 | G20: 0 | H20: =G20-F20 -> -12747563 | I20: 24533850
A21: 40054 | B21: 2 | C21: 1 | D21: 4 | E21: الشركات المحلية الأخرى | F21: 416758467 | G21: 314876430 | H21: =G21-F21 -> -101882037 | I21: 354707900
B22: 3 | C22: 1 | D22: 4 | E22: الضرائب والرسوم النفطية | F22: =SUM(F23:F27) -> 8778898 | G22: =SUM(G23:G27) -> 6637382 | H22: =G22-F22 -> -2141516 | I22: =SUM(I23:I27) -> 24966678
A23: 42011 | B23: 3 | C23: 1 | D23: 4 | E23: ضريبة دخل الغاز | F23: 2660414 | G23: 1919050 | H23: =G23-F23 -> -741364 | I23: 3024263
A24: 42012 | B24: 3 | C24: 1 | D24: 4 | E24: رسوم وغرامات النفط والغاز | F24: 0 | G24: 0 | H24: =G24-F24 -> 0 | I24: 16920000
A25: 42013 | B25: 3 | C25: 1 | D25: 4 | E25: ضريبة البنزين | F25: 6118484 | G25: 4718332 | H25: =G25-F25 -> -1400152 | I25: 5022415
B26: 4 | C26: 1 | D26: 4 | E26: =IFERROR(INDEX([2]Meta!AE:AE,MATCH(D26&C26&B26&A26,[2]Meta!AD:AD&[2]Meta!AC:AC&[2]Meta!AB:AB&[2]Meta!AA:AA,0)),K26) -> 0 | F26: =F27 -> 0 | G26: =G27 -> 0 | H26: =H27 -> 0 | I26: 0
A27: 45014 | B27: 4 | C27: 1 | D27: 4 | E27: =IFERROR(INDEX([2]Meta!AE:AE,MATCH(D27&C27&B27&A27,[2]Meta!AD:AD&[2]Meta!AC:AC&[2]Meta!AB:AB&[2]Meta!AA:AA,0)),K27) -> 0 | F27: 0 | G27: 0 | H27: =G27-F27 -> 0 | I27: 0
C28: 2 | D28: 4 | E28: الضرائب والرسوم | F28: =F31+F42+F79+F129+F139 -> 569086833 | G28: =G31+G42+G79+G129+G139 -> 479884128 | H28: =G28-F28 -> -89202705 | I28: =I31+I42+I79+I129+I139 -> 552980854
B29: 1 | C29: 2 | D29: 4 | E29: الضرائب والرسوم على استهلاك السلع والمنتجات | F29: =SUM(F30) -> 0 | G29: =SUM(G30) -> 0 | H29: =G29-F29 -> 0 | I29: 0
A30: 42013 | B30: 1 | C30: 2 | D30: 4 | E30: ضريبة البنزين | F30: 0 | G30: 0 | H30: =G30-F30 -> 0 | I30: 0
B31: 2 | C31: 2 | D31: 4 | E31: الضرائب والرسوم على التجارة الدولية | F31: =SUM(F32:F41) -> 143881999 | G31: =SUM(G32:G41) -> 85107469 | H31: =G31-F31 -> -58774530 | I31: =SUM(I32:I41) -> 91188181
A32: 42501 | B32: 2 | C32: 2 | D32: 4 | E32: ضرائب جمركية على السلع الضرورية الأساسية | F32: 74261106 | G32: 45443074 | H32: =G32-F32 -> -28818032 | I32: 46517323
A33: 42503 | B33: 2 | C33: 2 | D33: 4 | E33: ضرائب جمركية على المركبات | F33: 20400000 | G33: 9472996 | H33: =G33-F33 -> -10927004 | I33: 11995507
A34: 42504 | B34: 2 | C34: 2 | D34: 4 | E34: ضرائب جمركية على التبغ المصنع وغير المصنع ومشتقاته | F34: 45900000 | G34: 11937624 | H34: =G34-F34 -> -33962376 | I34: 16660253
A35: 42505 | B35: 2 | C35: 2 | D35: 4 | E35: ضرائب جمركية على السلع الكمالية | F35: 0 | G35: 0 | H35: =G35-F35 -> 0 | I35: 62
A36: 42506 | B36: 2 | C36: 2 | D36: 4 | E36: ضرائب جمركية على اليخوت | F36: 204000 | G36: 454111 | H36: =G36-F36 -> 250111 | I36: 46290
A37: 42507 | B37: 2 | C37: 2 | D37: 4 | E37: ضريبة حماية الصناعة الوطنية | F37: 918000 | G37: 990382 | H37: =G37-F37 -> 72382 | I37: 892684
A38: 42509 | B38: 2 | C38: 2 | D38: 4 | E38: ضرائب جمركية على آلات التسخين | F38: 291312 | G38: 10475531 | H38: =G38-F38 -> 10184219 | I38: 8262313
A39: 42511 | B39: 2 | C39: 2 | D39: 4 | E39: ضرائب جمركية على الأجهزة الكهربائية والمعدات | F39: 1752847 | G39: 5083632 | H39: =G39-F39 -> 3330785 | I39: 6504755
A40: 42512 | B40: 2 | C40: 2 | D40: 4 | E40: ضرائب جمركية على الحديد والفولاذ | F40: 127704 | G40: 1239369 | H40: =G40-F40 -> 1111665 | I40: 293824
...

Sheet الميزانية المعتمدة
A1: 5- ميزانية المصروفات المتكررة والمشاريع
I2: (دينار بحريني)
A3: البيـان | B3: الاعتمادات الأصلية | C3: الاعتماد الإضافي للمصروفات الطارئة | D3: تعديل الميزانية | E3: الاعتمادات بعد التعديل | F3: الاعتمادات المدورة من سنوات سابقة | G3: الاعتمادات بعد التعديل | H3: المصروفات الفعلية | I3: الوفر / (التجاوز)
A4: المصروفات المتكررة
A5: القوى العاملة | B5: 1377123962 | C5: 0 | D5: 9276067 | F5: 0 | G5: =B5+D5+F5 -> 1386400029 | H5: =' بيان الإيرادات والمصروفات'!D15 -> 1389808947 | I5: =G5-H5 -> -3408918
