Workbook
Name leer: '[1]تفصيل المصروفات (3)'!$A$2:$A$6
Name leer: '[1]تفصيل المصروفات (3)'!$A$2:$A$6
Name المصروفات_حسب_الأبواب_والأقسام_والبنود: #REF!
Name المصروفات_حسب_الأبواب_والأقسام_والبنود: #REF!
Name المصروفات_حسب_الأبواب_والأقسام_والبنود: #REF!
Name المصروفات_حسب_الأبواب_والأقسام_والبنود: #REF!
Name المصروفات_حسب_الأبواب_والأقسام_والبنود: #REF!
Name المصروفات_حسب_الأبواب_والأقسام_والبنود: #REF!
Name المصروفات_حسب_الأبواب_والأقسام_والبنود: #REF!
Name المصروفات_حسب_الأبواب_والأقسام_والبنود: #REF!

Sheet  بيان الإيرادات والمصروفات
A1: بيان الإيرادات والمصروفات الموحد للدولة
A2: للسنة المالية المنتهية في 31 ديسمبر 2015
E3: (دينار بحريني)
A4: البيان | B4: الإيضاحات | C4: الاعتماد | D4: الفعلي 2015 | E4: الفعلي 2014
A5: الإيرادات
A6: النفط والغاز الطبيعي | B6: 5,4,2 | C6: ='تفصيل الإيرادات'!F5 -> 1700787000 | D6: ='تفصيل الإيرادات'!G5 -> 1594672391 | E6: ='تفصيل الإيرادات'!I5 -> 2662346395
A7: الضرائب والرسوم | B7: 5,4 | C7: ='تفصيل الإيرادات'!F28 -> 193034053 | D7: ='تفصيل الإيرادات'!G28 -> 224533723 | E7: ='تفصيل الإيرادات'!I28 -> 202894933
A8: المنتجات الخدمية والسلعية الحكومية | B8: 5,4 | C8: ='تفصيل الإيرادات'!F88 -> 69540357 | D8: ='تفصيل الإيرادات'!G88 -> 74776392 | E8: ='تفصيل الإيرادات'!I88 -> 53917847
A9: الإستثمارات والأملاك الحكومية | B9: 5,4 | C9: ='تفصيل الإيرادات'!F155 -> 72216730 | D9: ='تفصيل الإيرادات'!G155 -> 83506829 | E9: ='تفصيل الإيرادات'!I155 -> 82346641
A10: الإعانات | B10: 5,4 | C10: ='تفصيل الإيرادات'!F174 -> 28200000 | D10: ='تفصيل الإيرادات'!G174 -> 28169590 | E10: ='تفصيل الإيرادات'!I174 -> 28169772
A11: مبيعات الأصول الرأسمالية | B11: 5,4 | C11: ='تفصيل الإيرادات'!F177 -> 398320 | D11: ='تفصيل الإيرادات'!G177 -> 564281 | E11: ='تفصيل الإيرادات'!I177 -> 901978
A12: الغرامات والجزاءات والإيرادات المتنوعة | B12: 5,4 | C12: ='تفصيل الإيرادات'!F190 -> 33152540 | D12: ='تفصيل الإيرادات'!G190 -> 35933248 | E12: ='تفصيل الإيرادات'!I190 -> 58891542
A13: مجموع الإيرادات | B13: 5,4,3 | C13: =SUM(C6:C12) -> 2097329000 | D13: =SUM(D6:D12) -> 2042156454 | E13: =SUM(E6:E12) -> 3089469108
A14: المصروفات المتكررة
A15: القوى العاملة | B15: 9,8,6 | C15: ='تفصيل المصروفات'!$F$5 -> 1412871123 | D15: ='تفصيل المصروفات'!$G$5 -> 1429500860 | E15: ='تفصيل المصروفات'!$I$5 -> 1379273023
A16: الخدمات | B16: 9,8,6 | C16: ='تفصيل المصروفات'!$F$95 -> 187112472 | D16: ='تفصيل المصروفات'!$G$95 -> 238420990 | E16: ='تفصيل المصروفات'!$I$95 -> 223123791
A17: السلع الإستهلاكية | B17: 9,8,6 | C17: ='تفصيل المصروفات'!$F$168 -> 118745765 | D17: ='تفصيل المصروفات'!$G$168 -> 131180581 | E17: ='تفصيل المصروفات'!$I$168 -> 147903758
A18: السلع الرأسمالية | B18: 9,8,6 | C18: ='تفصيل المصروفات'!$F$226 -> 27889882 | D18: ='تفصيل المصروفات'!$G$226 -> 30313224 | E18: ='تفصيل المصروفات'!$I$226 -> 36308070
A19: الصيانة | B19: 9,8,6 | C19: ='تفصيل المصروفات'!$F$340 -> 58248363 | D19: ='تفصيل المصروفات'!$G$340 -> 59986238 | E19: ='تفصيل المصروفات'!$I$340 -> 69058155
A20: نفقات تحويلية | B20: 9,8,6 | C20: ='تفصيل المصروفات'!$F$407 -> 738630719 | D20: ='تفصيل المصروفات'!$G$407 -> 668488285 | E20: ='تفصيل المصروفات'!$I$407 -> 729348815
A21: الإعانات وتسديد فوائد القروض | B21: 9,8,6 | C21: ='تفصيل المصروفات'!$F$420 -> 613087676 | D21: ='تفصيل المصروفات'!$G$420 -> 557846113 | E21: ='تفصيل المصروفات'!$I$420 -> 511214633
A22: مجموع المصروفات المتكررة | B22: 9,8,7,6,3 | C22: =SUM(C15:C21) -> 3156586000 | D22: =SUM(D15:D21) -> 3115736291 | E22: =SUM(E15:E21) -> 3096230245
A23: مصروفات المشاريع | B23: 11,6,3 | C23: =مشاريع!C40 -> 630000000 | D23: =مشاريع!D40 -> 443679113 | E23: =مشاريع!F40 -> 448304933
A24: مجموع المصروفات | B24: 6 | C24: =SUM(C22:C23) -> 3786586000 | D24: =SUM(D22:D23) -> 3559415404 | E24: =SUM(E22:E23) -> 3544535178
A25: العجز للسنة | C25: =C13-C24 -> -1689257000 | D25: =D13-D24 -> -1517258950 | E25: =E13-E24 -> -455066070
A27: مصروفات مشاريع التسليح والتطوير | B27: 14 | C27: 0 | D27: 0 | E27: 0
A28: العجز للسنة | C28: =C25-C27 -> -1689257000 | D28: =D25-D27 -> -1517258950 | E28: =E25-E27 -> -455066070
A29: بيان الاعتمادات المدورة
D30: 2015 | E30: 2014
A31: اعتمادات المصروفات المتكررة | B31: 15,7,6 | D31: 0 | E31: 0
A32: اعتمادات المشاريع | B32: 16,6 | D32: 59000000 | E32: 185000000
A33: مجموع الاعتمادات المدورة | D33: =SUM(D31:D32) -> 59000000 | E33: =SUM(E31:E32) -> 185000000
A35: الإيضاحات الواردة على الصفحات من (4) إلى (35) هي جزء مكمل للحساب الختامي الموحد للدولة.

Sheet إيرادات النفط 
A1: 2- إيرادات النفط والغاز الطبيعي
C2: (دينار بحريني)
A3: البيان | B3: الفعلي 2015 | C3: الفعلي 2014
A4: إيرادات حقل البحرين النفطية والمصفاة
A5: الإيرادات
A6: إجمالي الإيرادات | B6: 2175842253 | C6: 3692584112
A7: إجمالي التكاليف | B7: -1945117326 | C7: -3486110815
A8: صافي الإيرادات | B8: =SUM(B6:B7) -> 230724927 | C8: =SUM(C6:C7) -> 206473297
A10: إيرادات حقل أبو سعفة
A11: إجمالي الإيرادات | B11: 1066466713 | C11: 2121315346
A12: إجمالي التكاليف | B12: -109061876 | C12: -94002471
A13: إحتياطي الأجيال القادمة | B13: -17105245 | C13: -21172996
A14: صافي الإيرادات | B14: =SUM(B11:B13) -> 940299592 | C14: =SUM(C11:C13) -> 2006139879
A16: مبيعات الغاز الطبيعي
A17: إيرادات الغاز الطبيعي | B17: 411785821 | C17: 434722091
A19: ضرائب ورسوم نفطية | B19: 11862051 | C19: 15011128
A20: توزيعات أرباح مستلمة (الشركة القابضة للنفط والغاز) | B20: 0 | C20: 0
A22: صافي إيرادات النفط والغاز الطبيعي | B22: =B8+B14+B17+B19+B20 -> 1594672391 | C22: =C8+C14+C17+C19+C20 -> 2662346395

Sheet مصروفات وايرادات الوزارات
A1: 3- الإيرادات والمصروفات مصنفة حسب الوزارات والجهات الحكومية
C2: (دينار بحريني)
A3: الوزارة أو الجهة الحكومية | C3: الإيرادات | F3: المصروفات المتكررة | I3: مصروفات المشاريع
B4: Code | C4: الفعلي | D4: الاعتماد | E4: نسبة التحصيل % | F4: الفعلي | G4: الاعتماد | H4: نسبة الصرف % | I4: الفعلي | J4: الاعتماد | K4: نسبة الصرف %
A5: ديوان صاحب السمو الملكي رئيس مجلس الوزراء | B5: 11 | C5: 88100 | D5: 0 | E5: 0 | F5: 19317706 | G5: 19342000 | H5: 99.87 | I5: 0 | J5: 0 | K5: 0
A6: وزارة الدفاع (إيضاح رقم 13) | B6: 12 | C6: 0 | D6: 0 | E6: 0 | F6: 496154820 | G6: 494950000 | H6: 100.24 | I6: 0 | J6: 0 | K6: 0
A7: وزارة الداخلية | B7: 13 | C7: 47605960 | D7: 40454000 | E7: 117.68 | F7: 372640334 | G7: 350900000 | H7: 106.2 | I7: 31276833 | J7: 38755028 | K7: 80.7
A8: جهاز الأمن الوطني | B8: 14 | C8: 0 | D8: 0 | E8: 0 | F8: 35889000 | G8: 35889000 | H8: 100 | I8: 0 | J8: 0 | K8: 0
A9: هيئة التشريع والإفتاء القانوني | B9: 15 | C9: 13159 | D9: 5000 | E9: 263.17 | F9: 2609942 | G9: 2609942 | H9: 100 | I9: 0 | J9: 0 | K9: 0
A10: وزارة الخارجية | B10: 16 | C10: 1785623 | D10: 2055000 | E10: 86.89 | F10: 30933748 | G10: 30832586 | H10: 100.33 | I10: 987912 | J10: 2185198 | K10: 45.21
A11: وزارة العدل والشئون الإسلامية والأوقاف (شئون العدل) | B11: 18 | C11: 15836788 | D11: 10846000 | E11: 146.02 | F11: 12475822 | G11: 11294000 | H11: 110.46 | I11: 200090 | J11: 1894583 | K11: 10.56
A12: وزارة التربية والتعليم | B12: 21 | C12: 1608282 | D12: 768000 | E12: 209.41 | F12: 334079327 | G12: 315972000 | H12: 105.73 | I12: 4432953 | J12: 13608151 | K12: 32.58
A13: وزارة الصحة | B13: 22 | C13: 35063505 | D13: 33450000 | E13: 104.82 | F13: 277946873 | G13: 244412000 | H13: 113.72 | I13: 8570086 | J13: 16238207 | K13: 52.78
A14: وزارة الأشغال وشئون البلديات والتخطيط العمراني (الإدارة العامة للتخطيط العمراني وإدارة الإستملاك والتعويض وشئون الزراعة والثروة البحرية) | B14: 23 | C14: 896658 | D14: 335000 | E14: 267.66 | F14: 11763129 | G14: 11912000 | H14: 98.75 | I14: 8548357 | J14: 16079981 | K14: 53.16
A15: وزارة العمل والتنمية الاجتماعية (العمل) | B15: 24 | C15: 30559 | D15: 67000 | E15: 45.61 | F15: 6050055 | G15: 6050055 | H15: 100 | I15: 181466 | J15: 398945 | K15: 45.49
A16: وزارة شئون الشباب والرياضة | B16: 26 | C16: 600896 | D16: 16000 | E16: 3755.6 | F16: 12228420 | G16: 12239000 | H16: 99.91 | I16: 6911289 | J16: 11020786 | K16: 62.71
... A22: مكتب صاحب السمو الملكي النائب الاول لرئيس مجلس الوزراء | B22: 70 | C22: 0 | D22: 0 | E22: 0 | F22: 1316372 | G22: 1860000 | H22: 70.77 | I22: 3000000 | J22: 3000000 | K22: 100
A23: مكاتب نواب صاحب السمو الملكي رئيس مجلس الوزارء | B23: D | C23: 0 | D23: 0 | E23: 0 | F23: 3282119 | G23: 3642126 | H23: 90.115498 | I23: 15000 | J23: 15000 | K23: 100
A24: مكاتب مستشاري صاحب السمو الملكي رئيس مجلس الوزراء | B24: A | C24: 0 | D24: 0 | E24: 0 | F24: 552634 | G24: 587144 | H24: 94.122737 | I24: 0 | J24: 0 | K24: 0
A25: مكتب وزير الطاقة | B25: 40 | C25: 0 | D25: 0 | E25: 0 | F25: 206439 | G25: 279000 | H25: 73.99 | I25: 0 | J25: 0 | K25: 0
A26: المجلس الأعلى للبيئة | B26: 41 | C26: 317845 | D26: 143000 | E26: 222.27 | F26: 6894165 | G26: 6894165 | H26: 100 | I26: 211391 | J26: 900753 | K26: 23.47
A27: 3- الإيرادات والمصروفات مصنفة حسب الوزارات والجهات الحكومية (تتمة)
C28: (دينار بحريني)
A29: الوزارة أو الجهة الحكومية | C29: الإيرادات | F29: المصروفات المتكررة | I29: مصروفات المشاريع
C30: الفعلي | D30: الاعتماد | E30: نسبة التحصيل % | F30: الفعلي | G30: الاعتماد | H30: نسبة الصرف % | I30: الفعلي | J30: الاعتماد | K30: نسبة الصرف %
A31: مركز الشيخ محمد بن خليفة آل خليفة التخصصي للقلب (إيضاح رقم 13) | B31: 43 | C31: 0 | D31: 0 | E31: 0 | F31: 15463923 | G31: 15465000 | H31: 99.99 | I31: 0 | J31: 0 | K31: 0
A32: وزارة الأشغال وشئون البلديات والتخطيط العمراني (الأشغال) | B32: 46 | C32: 622154 | D32: 267000 | E32: 233.02 | F32: 45258498 | G32: 45258498 | H32: 100 | I32: 86617663 | J32: 119104897 | K32: 72.72
A33: هيئة الكهرباء والماء (إيضاح رقم 12) | B33: 47 | C33: 0 | D33: 0 | E33: 0 | F33: 325500000 | G33: 325500000 | H33: 100 | I33: 0 | J33: 0 | K33: 0
A34: وزارة المواصلات والاتصالات | B34: 48 | C34: 44085405 | D34: 37292000 | E34: 118.22 | F34: 32609660 | G34: 32851000 | H34: 99.27 | I34: 4039329 | J34: 8478946 | K34: 47.64
A35: الحرس الوطني | B35: 50 | C35: 0 | D35: 0 | E35: 0 | F35: 40050000 | G35: 40050000 | H35: 100 | I35: 5953424 | J35: 6000000 | K35: 99.22
A36: الهيئة الوطنية للنفط والغاز | B36: 51 | C36: 7564 | D36: 0 | E36: 0 | F36: 2515446 | G36: 2515446 | H36: 100 | I36: 0 | J36: 0 | K36: 0
A37: وزارة شئون مجلسي الشورى والنواب | B37: 54 | C37: 1350 | D37: 0 | E37: 0 | F37: 1489032 | G37: 1584546 | H37: 93.97 | I37: 0 | J37: 0 | K37: 0
A38: وزارة شئون الإعلام | B38: 55 | C38: 6677 | D38: 0 | E38: 0 | F38: 700150 | G38: 708500 | H38: 98.82 | I38: 1091600 | J38: 1432483 | K38: 76.2
A39: مجلـس المناقصات والمزايدات | B39: 59 | C39: 8825 | D39: 0 | E39: 0 | F39: 1159176 | G39: 1159177 | H39: 100 | I39: 114432 | J39: 200000 | K39: 57.22
A40: الميزانيات التحويلية (إيضاح رقم 10) | B40: 60 | C40: 127995763 | D40: 128041000 | E40: 99.96 | F40: 839384766 | G40: 960857378 | H40: 87.23 | I40: 100302253 | J40: 146536854 | K40: 68.45
A41: إيرادات النفط والغاز الطبيعي | B41: 62 | C41: 1594672391 | D41: 1700787000 | E41: 93.76 | F41: 0 | G41: 0 | H41: 0 | I41: 0 | J41: 0 | K41: 0
A42: هيئة شئون الإعلام | B42: 65 | C42: 1718527 | D42: 1492000 | E42: 115.18 | F42: 22993262 | G42: 23552053 | H42: 97.63 | I42: 7511345 | J42: 12647048 | K42: 59.39
... A51: وزارة العدل والشئون الإسلامية والأوقاف (الشئون الإسلامية) | B51: 77 | C51: 8775 | D51: 10000 | E51: 87.75 | F51: 4255942 | G51: 4255942 | H51: 100 | I51: 1037004 | J51: 1588824 | K51: 65.27
A52: 3- الإيرادات والمصروفات مصنفة حسب الوزارات والجهات الحكومية (تتمة)
C53: (دينار بحريني)
...

Sheet الايرادات
A1: 4- الإيرادات مصنفة حسب الأبواب والوزارات والجهات الحكومية
C2: (دينار بحريني)
A3: الوزارة أو الجهة الحكومية | B3: Code | C3: النفط والغاز الطبيعي | D3: ضــرائـب ورســوم | E3: منتجات خدمية وسلعية حكومية | F3: إستثمارات وأملاك حكومية | G3: الإعانات | H3: مبيعات أصول رأسمالية | I3: غرامــات وجزاءات وإيرادات متنوعة | J3: المجموع | K3: الاعتماد | L3: الفعلي 2014
A4: ديوان صاحب السمو الملكي رئيس مجلس الوزراء | B4: 11 | C4: 0 | D4: 0 | E4: 0 | F4: 0 | G4: 0 | H4: 0 | I4: 88100 | J4: 88100 | K4: 0 | L4: 1563
A5: وزارة الداخلية | B5: 13 | C5: 0 | D5: 40677302 | E5: 5658468 | F5: 40550 | G5: 0 | H5: 344376 | I5: 885264 | J5: 47605960 | K5: 40454000 | L5: 40729524
A6: جهاز الأمن الوطني | B6: 14 | C6: 0 | D6: 0 | E6: 0 | F6: 0 | G6: 0 | H6: 0 | I6: 0 | J6: 0 | K6: 0 | L6: 170
A7: هيئة التشريع والإفتاء القانوني | B7: 15 | C7: 0 | D7: 60 | E7: 6217 | F7: 0 | G7: 0 | H7: 130 | I7: 6752 | J7: 13159 | K7: 5000 | L7: 3704
A8: وزارة الخارجية | B8: 16 | C8: 0 | D8: 1020750 | E8: 0 | F8: 0 | G8: 0 | H8: 0 | I8: 764873 | J8: 1785623 | K8: 2055000 | L8: 1879359
A9: وزارة العدل والشئون الإسلامية والأوقاف (شئون العدل) | B9: 18 | C9: 0 | D9: 6399317 | E9: 7341 | F9: 42660 | G9: 0 | H9: 401 | I9: 9387069 | J9: 15836788 | K9: 10846000 | L9: 9952681
A10: وزارة التربية والتعليم | B10: 21 | C10: 0 | D10: 14725 | E10: 115854 | F10: 50 | G10: 0 | H10: 66073 | I10: 1411581 | J10: 1608282 | K10: 768000 | L10: 1188931
A11: وزارة الصحة | B11: 22 | C11: 0 | D11: 13665 | E11: 33918844 | F11: 538502 | G11: 0 | H11: 9868 | I11: 582625 | J11: 35063505 | K11: 33450000 | L11: 14181687
A12: وزارة الأشغال وشئون البلديات والتخطيط العمراني (الإدارة العامة للتخطيط العمراني وإدارة الإستملاك والتعويض وشئون الزراعة والثروة البحرية) | B12: 23 | C12: 0 | D12: 41464 | E12: 349545 | F12: 69629 | G12: 0 | H12: 33934 | I12: 402086 | J12: 896658 | K12: 335000 | L12: 400408
A13: وزارة العمل والتنمية الاجتماعية ( العمل) | B13: 24 | C13: 0 | D13: 5435 | E13: 2345 | F13: 400 | G13: 0 | H13: 0 | I13: 22379 | J13: 30559 | K13: 67000 | L13: 1382127
A14: وزارة شئون الشباب والرياضة | B14: 26 | C14: 0 | D14: 10905 | E14: 0 | F14: 7400 | G14: 0 | H14: 0 | I14: 582591 | J14: 600896 | K14: 16000 | L14: 77142
A15: وزارة العمل والتنمية الاجتماعية (التنمية الاجتماعية) | B15: 29 | C15: 0 | D15: 1600 | E15: 0 | F15: 0 | G15: 0 | H15: 665 | I15: 4897 | J15: 7162 | K15: 5000 | L15: 4087
... A25: الميزانية التحويلية | B25: 60 | C25: 0 | D25: 19729166 | E25: 881495 | F25: 66919706 | G25: 28169590 | H25: 13455 | I25: 12282350 | J25: 127995763 | K25: 128041000 | L25: 164598429
A26: وزارة شئون مجلس الوزراء | C26: 0 | J26: =SUM(C26:I26) -> 0
A27: وزارة الثقافة | J27: =SUM(C27:I27) -> 0
A28: 4- الإيرادات مصنفة حسب الأبواب والوزارات والجهات الحكومية (تتمة)
C29: (دينار بحريني)
A30: الوزارة أو الجهة الحكومية | B30: Code | C30: النفط والغاز الطبيعي | D30: ضــرائـب ورســوم | E30: منتجات خدمية وسلعية حكومية | F30: إستثمارات وأملاك حكومية | G30: الإعانات | H30: مبيعات أصول رأسمالية | I30: غرامــات وجزاءات وإيرادات متنوعة | J30: المجموع | K30: الاعتماد | L30: الفعلي 2014
A31: إيرادات النفط والغاز الطبيعي (إيضاح رقم 2) | B31: 62 | C31: 1594672391 | D31: 0 | E31: 0 | F31: 0 | G31: 0 | H31: 0 | I31: 0 | J31: 1594672391 | K31: 1700787000 | L31: 2662346395
A32: هيئة شئون الإعلام | B32: 65 | C32: 0 | D32: 342232 | E32: 1331972 | F32: 600 | G32: 0 | H32: 0 | I32: 43724 | J32: 1718527 | K32: 1492000 | L32: 1298057
A33: هيئة البحرين للثقافة والآثار | B33: 66 | C33: 0 | D33: 1491933 | E33: 423 | F33: 22800 | G33: 0 | H33: 0 | I33: 281518 | J33: 1796674 | K33: 0 | L33: 12515374
A34: الجهاز الإداري للنيابة العامة | B34: 68 | C34: 0 | D34: 45 | E34: 0 | F34: 0 | G34: 0 | H34: 0 | I34: 7759 | J34: 7804 | K34: 0 | L34: 0
A35: ديوان الخدمة المدنية | B35: 72 | C35: 0 | D35: 250 | E35: 0 | F35: 0 | G35: 0 | H35: 50 | I35: 6431 | J35: 6731 | K35: 5000 | L35: 14151
A36: هيئة المعلومات والحكومة الإلكترونية (الجهاز المركزي للمعلومات سابقاُ) | B36: 73 | C36: 0 | D36: 2465286 | E36: 0 | F36: 0 | G36: 0 | H36: 0 | I36: 0 | J36: 2465286 | K36: 1683000 | L36: 1704235
A37: الأمانة العامة للمجلس الأعلى للشباب والرياضة | B37: 75 | C37: 0 | D37: 585 | E37: 0 | F37: 0 | G37: 0 | H37: 0 | I37: 0 | J37: 585 | K37: 0 | L37: 0
A38: المجلس الأعلى للقضاء | B38: 76 | C38: 0 | D38: 645 | E38: 3309 | F38: 0 | G38: 0 | H38: 0 | I38: 2261 | J38: 6215 | K38: 0 | L38: 1873
A39: وزارة العدل والشئون الإسلامية والأوقاف (الشئون الإسلامية) | B39: 77 | C39: 0 | D39: 5475 | E39: 0 | F39: 0 | G39: 0 | H39: 0 | I39: 3300 | J39: 8775 | K39: 10000 | L39: 24264
A40: جهاز المساحة والتسجيل العقاري | B40: 78 | C40: 0 | D40: 20803808 | E40: 150986 | F40: 300 | G40: 0 | H40: 0 | I40: 15088 | J40: 20970182 | K40: 20376000 | L40: 22671205
A41: وزارة المالية | B41: 81 | C41: 0 | D41: 640 | E41: 0 | F41: 180 | G41: 0 | H41: 0 | I41: 16689 | J41: 17509 | K41: 3000 | L41: 34588
A42: شئون الجمارك | B42: 83 | C42: 0 | D42: 110031666 | E42: 63437 | F42: 0 | G42: 0 | H42: 20790 | I42: 6650646 | J42: 116766540 | K42: 99700000 | L42: 97643744
A43: المجموع | C43: =SUM(C4:C42) -> 1594672391 | D43: =SUM(D4:D42) -> 224533723 | E43: =SUM(E4:E42) -> 74776392 | F43: =SUM(F4:F42) -> 83506829 | G43: =SUM(G4:G42) -> 28169590 | H43: =SUM(H4:H42) -> 564281 | I43: =SUM(I4:I42) -> 35933248 | J43: =SUM(J4:J42) -> 2042156454 | ... L43: =SUM(L4:L42) -> 3089469108

Sheet تفصيل الإيرادات
A1: 5- الإيرادات مصنفة حسب الأبواب والأقسام والبنود
A2: (دينار بحريني)
A3: التبويــب | E3: البيـــان | F3: 2015 | I3: 2014 الفعلي
A4: بند | B4: قسم | C4: باب | D4: نوع | F4: الاعتماد | G4: الفعلي | H4: الفرق
C5: 1 | D5: 4 | E5: النفط والغاز الطبيعي | F5: =F6+F10+F22+F26 -> 1700787000 | G5: =G6+G10+G22+G26 -> 1594672391 | H5: =G5-F5 -> -106114609 | I5: =I6+I10+I22+I26 -> 2662346395
B6: 1 | C6: 1 | D6: 4 | E6: مبيعات النفط | F6: =SUM(F7:F9) -> 1269327000 | G6: =SUM(G7:G9) -> 1171024519 | H6: =G6-F6 -> -98302481 | I6: =SUM(I7:I9) -> 2212613176
A7: 40011 | B7: 1 | C7: 1 | D7: 4 | E7: حقل البحرين والمصفاة | F7: 148534000 | G7: 230724927 | H7: =G7-F7 -> 82190927 | I7: 206473297
A8: 40012 | B8: 1 | C8: 1 | D8: 4 | E8: حقل أبوسعفة | F8: 1141434000 | G8: 957404837 | H8: =G8-F8 -> -184029163 | I8: 2027312875
A9: 40014 | B9: 1 | C9: 1 | D9: 4 | E9: احتياطي الأجيال القادمة- حقل أبوسعفة | F9: -20641000 | G9: -17105245 | H9: =G9-F9 -> 3535755 | I9: -21172996
B10: 2 | C10: 1 | D10: 4 | E10: مبيعات الغاز | F10: =SUM(F11:F21) -> 414147000 | G10: =SUM(G11:G21) -> 411785821 | H10: =G10-F10 -> -2361179 | I10: =SUM(I11:I21) -> 434722091
A11: 40031 | B11: 2 | C11: 1 | D11: 4 | E11: محطة المنامة للكهرباء | F11: {=IFERROR(INDEX(#REF!,MATCH($D11&$C11&$B11&$A11,#REF!&#REF!&#REF!&#REF!,0)),0)} -> 0 | G11: {=IFERROR(INDEX(#REF!,MATCH($D11&$C11&$B11&$A11,#REF!&#REF!&#REF!&#REF!,0)),0)} -> 0 | H11: =G11-F11 -> 0 | I11: 0
A12: 40032 | B12: 2 | C12: 1 | D12: 4 | E12: محطة سترة للكهرباء | F12: 0 | G12: 0 | H12: =G12-F12 -> 0 | I12: 0
A13: 40033 | B13: 2 | C13: 1 | D13: 4 | E13: محطة سترة للمياه | F13: 0 | G13: 0 | H13: =G13-F13 -> 0 | I13: 0
A14: 40034 | B14: 2 | C14: 1 | D14: 4 | E14: محطة الرفاع للكهرباء | F14: 0 | G14: 0 | H14: =G14-F14 -> 0 | I14: 0
A15: 40035 | B15: 2 | C15: 1 | D15: 4 | E15: محطة الحد للكهرباء | F15: 64234000 | G15: 0 | H15: =G15-F15 -> -64234000 | I15: 0
A16: 40036 | B16: 2 | C16: 1 | D16: 4 | E16: محطة الحد للماء | F16: 0 | G16: 0 | H16: =G16-F16 -> 0
A17: 40037 | B17: 2 | C17: 1 | D17: 4 | E17: مبيعات الغاز- محطات الكهرباء والماء | F17: 51474000 | G17: 44113743 | H17: =G17-F17 -> -7360257 | I17: 62390724
A18: 40051 | B18: 2 | C18: 1 | D18: 4 | E18: شركة المنيوم البحرين (ألبا) | F18: 96495000 | G18: 90853535 | H18: =G18-F18 -> -5641465 | I18: 107213712
A19: 40052 | B19: 2 | C19: 1 | D19: 4 | E19: شركة نفط البحرين (بابكو) | F19: 38598000 | G19: 43778809 | H19: =G19-F19 -> 5180809 | I19: 38935826
A20: 40053 | B20: 2 | C20: 1 | D20: 4 | E20: شركة غاز البحرين الوطنية (بناغاز) | F20: 33392000 | G20: 28565322 | H20: =G20-F20 -> -4826678 | I20: 36231980
A21: 40054 | B21: 2 | C21: 1 | D21: 4 | E21: الشركات المحلية الاخرى | F21: 129954000 | G21: 204474412 | H21: =G21-F21 -> 74520412 | I21: 189949849
B22: 3 | C22: 1 | D22: 4 | E22: الضرائب والرسوم النفطية | F22: =SUM(F23:F27) -> 17313000 | G22: =SUM(G23:G27) -> 11862051 | H22: =SUM(H23:H25) -> -5450949 | I22: =SUM(I23:I27) -> 15011128
A23: 42011 | B23: 3 | C23: 1 | D23: 4 | E23: ضريبة دخل الغاز | F23: 11130000 | G23: 7282491 | H23: =G23-F23 -> -3847509 | I23: 10605738
A24: 42012 | B24: 3 | C24: 1 | D24: 4 | E24: رسوم تفتيش المنتجات النفطية | H24: =G24-F24 -> 0
A25: 42013 | B25: 3 | C25: 1 | D25: 4 | E25: ضريبة البنزين | F25: 6183000 | G25: 4579560 | H25: =G25-F25 -> -1603440 | I25: 4405390
B26: 4 | C26: 1 | D26: 4 | E26: عوائد الاستثمارات في النفط | F26: =F27 -> 0 | G26: =G27 -> 0 | H26: =H27 -> 0 | I26: =I27 -> 0
A27: 45014 | B27: 4 | C27: 1 | D27: 4 | E27: عوائد الاستثمارات في النفط | F27: 0 | G27: 0 | H27: =G27-F27 -> 0 | I27: 0
C28: 2 | D28: 4 | E28: الضرائب والرسوم | F28: =SUM(F29,F31,F38,F49) -> 193034053 | G28: =SUM(G29,G31,G38,G49) -> 224533723 | H28: =G28-F28 -> 31499670 | I28: =SUM(I29,I31,I38,I49) -> 202894933
B29: 1 | C29: 2 | D29: 4 | E29: الضرائب والرسوم على استهلاك السلع والمنتجات | F29: =SUM(F30) -> 0 | G29: =SUM(G30) -> 0 | H29: =G29-F29 -> 0 | I29: =SUM(I30) -> 0
A30: 42013 | B30: 1 | C30: 2 | D30: 4 | E30: ضريبة البنزين | F30: 0 | G30: 0 | H30: =G30-F30 -> 0 | I30: 0
B31: 2 | C31: 2 | D31: 4 | E31: الضرائب والرسوم على التجارة الدولية | F31: =SUM(F32:F37) -> 92470000 | G31: =SUM(G32:G37) -> 109205214 | H31: =G31-F31 -> 16735214 | I31: =SUM(I32:I37) -> 88587021
A32: 42501 | B32: 2 | C32: 2 | D32: 4 | E32: ضرائب جمركية على السلع الضرورية الأساسية | F32: 48000000 | G32: 52459852 | H32: =G32-F32 -> 4459852 | I32: 45313631
A33: 42503 | B33: 2 | C33: 2 | D33: 4 | E33: ضرائب جمركية على العربات | F33: 7500000 | G33: 18033658 | H33: =G33-F33 -> 10533658 | I33: 7457362
A34: 42504 | B34: 2 | C34: 2 | D34: 4 | E34: ضرائب جمركية على التبغ المصنع وغير المصنع ومشتقاته | F34: 16000000 | G34: 18300861 | H34: =G34-F34 -> 2300861 | I34: 16968822
A35: 42505 | B35: 2 | C35: 2 | D35: 4 | E35: ضرائب جمركية على السلع الكمالية | F35: 20000000 | G35: 19751712 | H35: =G35-F35 -> -248288 | I35: 17912053
A36: 42506 | B36: 2 | C36: 2 | D36: 4 | E36: ضرائب جمركية على اليخوت والزوارق والقوارب | F36: 400000 | G36: 80700 | H36: =G36-F36 -> -319300 | I36: 361304
A37: 42507 | B37: 2 | C37: 2 | D37: 4 | E37: ضريبة حماية الصناعة الوطنية | F37: 570000 | G37: 578431 | H37: =G37-F37 -> 8431 | I37: 573849
B38: 3 | C38: 2 | D38: 4 | E38: رسوم التسجيل والتراخيص | F38: =SUM(F39:F48) -> 1492552 | G38: =SUM(G39:G48) -> 2015906 | H38: =G38-F38 -> 523354 | I38: =SUM(I39:I48) -> 1957608
A39: 43011 | B39: 3 | C39: 2 | D39: 4 | E39: نشاطات التجارة العامة | F39: 30000 | G39: 78334 | H39: =G39-F39 -> 48334 | I39: 41885
A40: 43021 | B40: 3 | C40: 2 | D40: 4 | E40: نشاطات الصناعة | F40: 3000 | G40: 2541 | H40: =G40-F40 -> -459 | I40: 9603
...

Sheet الميزانية المعتمدة
A1: 6- ميزانية المصروفات المتكررة والمشاريع
I2: (دينار بحريني)
A3: البيـان | B3: الاعتمادات الأصلية | C3: الاعتماد الإضافي | D3: التعديل | E3: الاعتمادات بعد التعديل | F3: الإعتمادات المدورة من سنوات سابقة | G3: الاعتمادات المتوفرة | H3: المصروفات الفعلية | I3: الوفر (التجاوز)
A4: المصروفات المتكررة
A5: القوى العاملة | B5: 1407644662 | C5: - | D5: 5226461 | E5: =SUM(B5:D5) -> 1412871123 | F5: 0 | G5: =F5+E5 -> 1412871123 | H5: =' بيان الإيرادات والمصروفات'!$D$15 -> 1429500860 | I5: =G5-H5 -> -16629737
A6: الخدمات | B6: 165388878 | C6: - | D6: 21723594 | E6: =SUM(B6:D6) -> 187112472 | F6: 0 | G6: =F6+E6 -> 187112472 | H6: =' بيان الإيرادات والمصروفات'!$D$16 -> 238420990 | I6: =G6-H6 -> -51308518
A7: السلع الإستهلاكية | B7: 117223417 | C7: - | D7: 1522348 | E7: =SUM(B7:D7) -> 118745765 | F7: 0 | G7: =F7+E7 -> 118745765 | H7: =' بيان الإيرادات والمصروفات'!$D$17 -> 131180581 | I7: =G7-H7 -> -12434816
A8: السلع الرأسمالية | B8: 29786283 | C8: - | D8: -1896401 | E8: =SUM(B8:D8) -> 27889882 | F8: 0 | G8: =F8+E8 -> 27889882 | H8: =' بيان الإيرادات والمصروفات'!$D$18 -> 30313224 | I8: =G8-H8 -> -2423342
A9: الصيانة | B9: 56254943 | C9: - | D9: 1993420 | E9: =SUM(B9:D9) -> 58248363 | F9: 0 | G9: =F9+E9 -> 58248363 | H9: =' بيان الإيرادات والمصروفات'!$D$19 -> 59986238 | I9: =G9-H9 -> -1737875
A10: نفقات تحويلية | B10: 768391428 | C10: - | D10: -29760709 | E10: =SUM(B10:D10) -> 738630719 | F10: 0 | G10: =F10+E10 -> 738630719 | H10: =' بيان الإيرادات والمصروفات'!$D$20 -> 668488285 | I10: =G10-H10 -> 70142434
A11: الإعانات وتسديد فوائد القروض | B11: 611896389 | C11: - | D11: 1191287 | E11: =SUM(B11:D11) -> 613087676 | F11: 0 | G11: =F11+E11 -> 613087676 | H11: =' بيان الإيرادات والمصروفات'!$D$21 -> 557846113 | I11: =G11-H11 -> 55241563
A12: مجموع المصروفات المتكررة | B12: =SUM(B5:B11) -> 3156586000 | C12: - | D12: =SUM(D5:D11) -> 0 | E12: =SUM(E5:E11) -> 3156586000 | F12: =SUM(F5:F11) -> 0 | G12: =SUM(G5:G11) -> 3156586000 | H12: =SUM(H5:H11) -> 3115736291 | I12: =SUM(I5:I11) -> 40849709
A13: مصروفات المشاريع | B13: 445000000 | C13: - | D13: 0 | E13: =SUM(B13:D13) -> 445000000 | F13: 185000000 | G13: =F13+E13 -> 630000000 | H13: =' بيان الإيرادات والمصروفات'!$D$23 -> 443679113 | I13: =G13-H13 -> 186320887
A14: المجموع | B14: =B13+B12 -> 3601586000 | C14: - | D14: =D13+D12 -> 0 | E14: =E13+E12 -> 3601586000 | F14: =F13+F12 -> 185000000 | G14: =G13+G12 -> 3786586000 | H14: =H13+H12 -> 3559415404 | I14: =I13+I12 -> 227170596

Sheet مناقلات الميزانية
A1: 7- الميزانية الأصلية والتعديل والمناقلات للمصروفات المتكررة
G2: (دينار بحريني)
A3: البيـان | B3: الاعتمادات الأصلية | C3: الاعتماد الإضافي | D3: التعديل | E3: الاعتمادات بعد التعديل | F3: الاعتمادات المدورة من سنوات سابقة | G3: الاعتمادات المتوفرة
A4: قطاع الإدارة العامة | B4: =SUM(B5:B25) -> 1084305000 | C4: =SUM(C5:C25) -> 0 | D4: =SUM(D5:D25) -> 6226435 | E4: =SUM(E5:E25) -> 1090531435 | F4: =SUM(F5:F25) -> 0 | G4: =SUM(G5:G25) -> 1090531435
A5: ديوان صاحب السمو الملكي رئيس مجلس الوزراء | B5: 19342000 | C5: 0 | D5: 0 | E5: 19342000 | F5: 0 | G5: =+E5+F5 -> 19342000
A6: مكتب صاحب السمو الملكي النائب الأول لرئيس مجلس الوزراء | B6: 1860000 | C6: 0 | D6: 0 | E6: 1860000 | F6: 0 | G6: =+E6+F6 -> 1860000
A7: مكاتب نواب صاحب السمو الملكي رئيس مجلس الوزراء | B7: 3350000 | C7: 0 | D7: 292126 | E7: =B7+D7 -> 3642126 | F7: 0 | G7: =+E7+F7 -> 3642126
A8: مكاتب مستشاري صاحب السمو الملكي رئيس مجلس الوزراء | B8: 578000 | C8: 0 | D8: 9144 | E8: =B8+D8 -> 587144 | F8: 0 | G8: =+E8+F8 -> 587144
A9: مكتب وزير شئون مجلس الوزراء | B9: 334000 | C9: 0 | D9: 222013 | E9: =B9+D9 -> 556013 | F9: 0 | G9: =+E9+F9 -> 556013
A10: وزارة الدفاع (إيضاح رقم 13) | B10: 494450000 | C10: 0 | D10: 500000 | E10: =B10+D10 -> 494950000 | F10: 0 | G10: =+E10+F10 -> 494950000
A11: وزارة الداخلية | B11: 350400000 | C11: 0 | D11: 500000 | E11: =B11+D11 -> 350900000 | F11: 0 | G11: =+E11+F11 -> 350900000
A12: شئون الجمارك | B12: 15110000 | C12: 0 | D12: 0 | E12: =B12+D12 -> 15110000 | F12: 0 | G12: =+E12+F12 -> 15110000
A13: جهاز الأمن الوطني | B13: 35889000 | C13: 0 | D13: 0 | E13: =B13+D13 -> 35889000 | F13: 0 | G13: =+E13+F13 -> 35889000
A14: الحرس الوطني | B14: 40050000 | C14: 0 | D14: 0 | E14: =B14+D14 -> 40050000 | F14: 0 | G14: =+E14+F14 -> 40050000
A15: هيئة التشريع والإفتاء القانوني | B15: 2534000 | C15: 0 | D15: 75942 | E15: =B15+D15 -> 2609942 | F15: 0 | G15: =+E15+F15 -> 2609942
A16: وزارة الخارجية | B16: 30047000 | C16: 0 | D16: 785586 | E16: =B16+D16 -> 30832586 | F16: 0 | G16: =+E16+F16 -> 30832586
A17: وزارة العدل والشئون الإسلامية والأوقاف (شئون العدل) | B17: 10794000 | C17: 0 | D17: 500000 | E17: =B17+D17 -> 11294000 | F17: 0 | G17: =+E17+F17 -> 11294000
A18: الأمانة العامة لمجلس الوزراء | B18: 1566000 | C18: 0 | D18: 0 | E18: =B18+D18 -> 1566000 | F18: 0 | G18: =+E18+F18 -> 1566000
... A22: جهاز المساحة والتسجيل العقاري | B22: 7701000 | C22: 0 | D22: 955735 | E22: =B22+D22 -> 8656735 | F22: 0 | G22: =+E22+F22 -> 8656735
A23: الجهاز الاداري للنيابة العامة | B23: 3000000 | C23: 0 | D23: 361118 | E23: =B23+D23 -> 3361118 | G23: =+E23+F23 -> 3361118
A24: المجلس الأعلى للقضاء | B24: 12108000 | C24: 0 | D24: 500000 | E24: =B24+D24 -> 12608000 | F24: 0 | G24: =+E24+F24 -> 12608000
A25: مستشفى الملك حمد الجامعي (إيضاح رقم 14،13) | B25: 37430000 | C25: 0 | D25: 500000 | E25: =B25+D25 -> 37930000 | F25: 0 | G25: =+E25+F25 -> 37930000
A27: قطاع الخدمات الإجتماعية | B27: =SUM(B28:B39) -> 619345000 | C27: =SUM(C28:C39) -> 0 | D27: =SUM(D28:D39) -> 15083635 | E27: =SUM(E28:E39) -> 634428635 | F27: =SUM(F28:F39) -> 0 | G27: =SUM(G28:G39) -> 634428635
A28: هيئة البحرين للثقافة والآثار | B28: 7652000 | C28: 0 | D28: 21000 | E28: =B28+C28+D28 -> 7673000 | F28: 0 | G28: =+E28+F28 -> 7673000
A29: هيئة شئون الإعلام | B29: 21154000 | C29: 0 | D29: 2398053 | E29: =B29+C29+D29 -> 23552053 | F29: 0 | G29: =+E29+F29 -> 23552053
A30: وزارة التربية والتعليم | B30: 315472000 | C30: 0 | D30: 500000 | E30: =B30+C30+D30 -> 315972000 | F30: 0 | G30: =+E30+F30 -> 315972000
A31: وزارة الصحة | B31: 233912000 | C31: 0 | D31: 10500000 | E31: =B31+C31+D31 -> 244412000 | F31: 0 | G31: =+E31+F31 -> 244412000
A32: المجلس الأعلى للصحة | B32: 279000 | C32: 0 | D32: 388 | E32: =B32+C32+D32 -> 279388 | G32: =+E32+F32 -> 279388
A33: وزارة العمل والتنمية الإجتماعية (العمل) | B33: 5793000 | C33: 0 | D33: 257055 | E33: =B33+C33+D33 -> 6050055 | F33: 0 | G33: =+E33+F33 -> 6050055
A34: وزارة العمل والتنمية الإجتماعية (التنمية الاجتماعية) | B34: 10956000 | C34: 0 | D34: 1123639 | E34: =B34+C34+D34 -> 12079639 | F34: 0 | G34: =+E34+F34 -> 12079639
A35: وزارة شئون الشباب والرياضة | B35: 12239000 | C35: 0 | D35: 0 | E35: =B35+C35+D35 -> 12239000 | F35: 0 | G35: =+E35+F35 -> 12239000
A36: الأمانة العامة للمجلس الأعلى للشباب والرياضة | B36: 11184000 | C36: 0 | D36: 0 | E36: =B36+C36+D36 -> 11184000 | F36: 0 | G36: =+E36+F36 -> 11184000
A37: وزارة شئون الإعلام | B37: 425000 | C37: 0 | D37: 283500 | E37: =B37+C37+D37 -> 708500 | F37: 0 | G37: =+E37+F37 -> 708500
A38: وزارة شئون الشباب والرياضة (مكتب الوزير) | B38: 279000 | C38: 0 | D38: 0 | E38: =B38+C38+D38 -> 279000 | F38: 0 | G38: =+E38+F38 -> 279000
A39: وزارة شئون حقوق الإنسان | E39: =B39+C39+D39 -> 0 | F39: 0 | G39: =+E39+F39 -> 0
A41: قطاع الخدمات الإقتصادية | B41: =B42+B46+B47 -> 21873000 | C41: 0 | D41: =SUM(D42:D47) -> 799446 | E41: =SUM(E42:E47) -> 22672446 | F41: 0 | G41: =SUM(G42:G47) -> 22672446
A42: وزارة الصناعة والتجارة والسياحة | B42: 11653000 | C42: 0 | D42: 500000 | E42: =B42+C42+D42 -> 12153000 | F42: 0 | G42: =+E42+F42 -> 12153000
A43: 7- الميزانية الأصلية والتعديل والمناقلات للمصروفات المتكررة (تتمة)
G44: (دينار بحريني)
A45: البيـان | B45: الاعتمادات الأصلية | C45: الاعتماد الإضافي | D45: التعديل | E45: الاعتمادات بعد التعديل | F45: الاعتمادات المدورة من سنوات سابقة | G45: الاعتمادات المتوفرة
...

Sheet مصروفات الوزارات
A1: 8- المصروفات المتكررة مصنفة حسب الأبواب والوزارات والجهات الحكومية
L2: (دينار بحريني)
A3: الوزارة أو الجهة الحكومية | B3: Code | C3: قوى عاملة | D3: خدمات | E3: سلع إستهلاكية | F3: سلع رأسمالية | G3: صيانة | H3: نفقات تحويلية | I3: إعانات وتسديد فوائد القروض | J3: المجموع | K3: الاعتماد | L3: الفعلي 2014
A4: ديوان صاحب السمو الملكي رئيس مجلس الوزراء | B4: 11 | C4: 4373017 | D4: 4179437 | E4: 174216 | F4: 78795 | G4: 12241 | H4: 10500000 | I4: 0 | J4: =SUM(C4:I4) -> 19317706 | K4: 19342000 | L4: 19622089
A5: وزارة الدفاع (إيضاح رقم 13) | B5: 12 | C5: 372852770 | D5: 38121005 | E5: 28415109 | F5: 14131595 | G5: 41390443 | H5: 0 | I5: 1243898 | J5: =SUM(C5:I5) -> 496154820 | K5: 494950000 | L5: 514475345
A6: وزارة الداخلية | B6: 13 | C6: 333084944 | D6: 23441418 | E6: 6962223 | F6: 4686864 | G6: 4464885 | H6: 0 | I6: 0 | J6: =SUM(C6:I6) -> 372640334 | K6: 350900000 | L6: 358410204
A7: جهاز الأمن الوطني | B7: 14 | C7: 0 | D7: 0 | E7: 0 | F7: 0 | G7: 0 | H7: 35889000 | I7: 0 | J7: =SUM(C7:I7) -> 35889000 | K7: 35889000 | L7: 39345280
A8: هيئة التشريع والإفتاء القانوني | B8: 15 | C8: 2170798 | D8: 405265 | E8: 19908 | F8: 4226 | G8: 9745 | H8: 0 | I8: 0 | J8: =SUM(C8:I8) -> 2609942 | K8: 2609942 | L8: 2559477
A9: وزارة الخارجية | B9: 16 | C9: 20720084 | D9: 8765550 | E9: 466410 | F9: 355504 | G9: 569619 | H9: 0 | I9: 56581 | J9: =SUM(C9:I9) -> 30933748 | K9: 30832586 | L9: 33917819
A10: وزارة العدل والشئون الإسلامية والأوقاف (شئون العدل) | B10: 18 | C10: 8789602 | D10: 2853767 | E10: 270419 | F10: 67689 | G10: 345118 | H10: 867 | I10: 148360 | J10: =SUM(C10:I10) -> 12475822 | K10: 11294000 | L10: 16646836
A11: وزارة التربية والتعليم | B11: 21 | C11: 287571711 | D11: 38573917 | E11: 3784287 | F11: 2342115 | G11: 1732297 | H11: 0 | I11: 75000 | J11: =SUM(C11:I11) -> 334079327 | K11: 315972000 | L11: 326522465
A12: وزارة الصحة | B12: 22 | C12: 157192632 | D12: 43371658 | E12: 71160388 | F12: 1448626 | G12: 4768369 | H12: 0 | I12: 5200 | J12: =SUM(C12:I12) -> 277946873 | K12: 244412000 | L12: 262753035
A13: وزارة الأشغال وشئون البلديات والتخطيط العمراني (الإدارة العامة للتخطيط العمراني وإدارة الإستملاك والتعويض وشئون الزراعة والثروة البحرية) | B13: 23 | C13: 8618398 | D13: 1727394 | E13: 450323 | F13: 182308 | G13: 95695 | H13: 689011 | I13: 0 | J13: =SUM(C13:I13) -> 11763129 | K13: 11912000 | L13: 17814267
A14: وزارة العمل والتنمية الاجتماعية (العمل) | B14: 24 | C14: 5031142 | D14: 673418 | E14: 72180 | F14: 51943 | G14: 33406 | H14: 0 | I14: 187966 | J14: =SUM(C14:I14) -> 6050055 | K14: 6050055 | L14: 6628449
A15: وزارة شئون الشباب والرياضة | B15: 26 | C15: 3499866 | D15: 3417156 | E15: 67140 | F15: 176788 | G15: 445516 | H15: 2538585 | I15: 2083369 | J15: =SUM(C15:I15) -> 12228420 | K15: 12239000 | L15: 12718968
... A18: مكتب صاحب السمو الملكي النائب الاول لرئيس مجلس الوزراء | B18: 70 | C18: 841890 | D18: 311111 | E18: 57111 | F18: 56236 | G18: 5024 | H18: 0 | I18: 45000 | J18: =SUM(C18:I18) -> 1316372 | K18: 1860000 | L18: 814906
A19: مكاتب نواب صاحب السمو الملكي رئيس مجلس الوزراء | B19: D | C19: 2664380 | D19: 537594 | E19: 53480 | F19: 10166 | G19: 16499 | H19: 0 | I19: 0 | J19: =SUM(C19:I19) -> 3282119 | K19: 3642126 | L19: 3218910
A20: مكاتب مستشاري صاحب السمو الملكي رئيس مجلس الوزراء | B20: A | C20: 451375 | D20: 94016 | E20: 1848 | F20: 1813 | G20: 3582 | H20: 0 | I20: 0 | J20: =SUM(C20:I20) -> 552634 | K20: 587144 | L20: 1013380
A21: مكتب وزير شئون مجلس الوزراء | B21: 32 | C21: 320909 | D21: 225268 | E21: 7821 | F21: 981 | G21: 1034 | H21: 0 | I21: 0 | J21: =SUM(C21:I21) -> 556013 | K21: 556013 | L21: 556811
A22: وزارة الصناعة والتجارة والسياحة | B22: 34 | C22: 8254178 | D22: 4013296 | E22: 106645 | F22: 62470 | G22: 189779 | H22: 0 | I22: 0 | J22: =SUM(C22:I22) -> 12626368 | K22: 12153000 | L22: 11567570
A23: وزارة الإسكان | B23: 36 | C23: 4324813 | D23: 708227 | E23: 91903 | F23: 35898 | G23: 155878 | H23: 0 | I23: 0 | J23: =SUM(C23:I23) -> 5316719 | K23: 5316720 | L23: 5443886
A24: وزارة الثقافة | J24: =SUM(C24:I24) -> 0 | K24: 0 | L24: 0
A25: مكتب وزير الطاقة | B25: 40 | C25: 124795 | D25: 72873 | E25: 7918 | F25: 0 | G25: 853 | H25: 0 | I25: 0 | J25: =SUM(C25:I25) -> 206439 | K25: 279000 | L25: 212949
A26: المجلس الأعلى للبيئة | B26: 41 | C26: 4509479 | D26: 1335130 | E26: 118509 | F26: 139492 | G26: 791555 | H26: 0 | I26: 0 | J26: =SUM(C26:I26) -> 6894165 | K26: 6894165 | L26: 7437298
A27: مركز الشيخ محمد بن خليفة آل خليفة التخصصي للقلب (إيضاح رقم 13) | B27: 43 | C27: 7741045 | D27: 286540 | E27: 5878236 | F27: 1196949 | G27: 361153 | H27: 0 | I27: 0 | J27: =SUM(C27:I27) -> 15463923 | K27: 15465000 | L27: 15699755
A28: وزارة الأشغال وشئون البلديات والتخطيط العمراني (الأشغال) | B28: 46 | C28: 25705168 | D28: 19069568 | E28: 185222 | F28: 161785 | G28: 136755 | H28: 0 | I28: 0 | J28: =SUM(C28:I28) -> 45258498 | K28: 45258498 | L28: 31446852
A29: 8- المصروفات المتكررة مصنفة حسب الأبواب والوزارات والجهات الحكومية (تتمة)
L30: (دينار بحريني)
A31: الوزارة أو الجهة الحكومية | B31: Code | C31: قوى عاملة | D31: خدمات | E31: سلع إستهلاكية | F31: سلع رأسمالية | G31: صيانة | H31: نفقات تحويلية | I31: إعانات وتسديد فوائد القروض | J31: المجموع | K31: الاعتماد | L31: الفعلي 2014
A32: هيئة الكهرباء والماء (إيضاح رقم 12) | B32: 47 | C32: 0 | D32: 0 | E32: 0 | F32: 0 | G32: 0 | H32: 325500000 | I32: 0 | J32: =SUM(C32:I32) -> 325500000 | K32: 325500000 | L32: 350000000
A33: وزارة المواصلات والإتصالات | B33: 48 | C33: 16517762 | D33: 14473969 | E33: 214622 | F33: 478092 | G33: 925215 | H33: 0 | I33: 0 | J33: =SUM(C33:I33) -> 32609660 | K33: 32851000 | L33: 28518425
A34: الحرس الوطني | B34: 50 | C34: 38901486 | D34: 612357 | E34: 306825 | F34: 11631 | G34: 101764 | H34: 0 | I34: 115937 | J34: =SUM(C34:I34) -> 40050000 | K34: 40050000 | L34: 40200000
A35: الهيئة الوطنية للنفط والغاز | B35: 51 | C35: 1491994 | D35: 964521 | E35: 16301 | F35: 28217 | G35: 14413 | H35: 0 | I35: 0 | J35: =SUM(C35:I35) -> 2515446 | K35: 2515446 | L35: 2706944
A36: وزارة الدولة لشئون الإتصالات | C36: 0 | D36: 0 | E36: 0 | F36: 0 | G36: 0 | H36: 0 | I36: 0 | J36: 0 | K36: 0 | L36: 297127
A37: وزارة شئون مجلسي الشورى والنواب | B37: 54 | C37: 1128078 | D37: 210282 | E37: 8318 | F37: 140648 | G37: 1706 | H37: 0 | I37: 0 | J37: =SUM(C37:I37) -> 1489032 | K37: 1584546 | L37: 1576167
A38: وزارة شئون الإعلام | B38: 55 | C38: 342382 | D38: 346344 | E38: 4711 | F38: 6713 | G38: 0 | H38: 0 | I38: 0 | J38: =SUM(C38:I38) -> 700150 | K38: 708500 | L38: 804645
A39: مجلـس المناقصات والمزايدات | B39: 59 | C39: 764643 | D39: 356921 | E39: 19392 | F39: 8141 | G39: 10079 | H39: 0 | I39: 0 | J39: =SUM(C39:I39) -> 1159176 | K39: 1159177 | L39: 1127386
A40: الميزانيات التحويلية (إيضاح رقم 10) | B40: 60 | C40: 0 | D40: 3747931 | E40: 0 | F40: 0 | G40: 0 | H40: 282285178 | I40: 553351657 | J40: =SUM(C40:I40) -> 839384766 | K40: 960857378 | L40: 798360264
A41: هيئة شئون الإعلام | B41: 65 | C41: 14756024 | D41: 6381502 | E41: 1333706 | F41: 166577 | G41: 350453 | H41: 0 | I41: 5000 | J41: =SUM(C41:I41) -> 22993262 | K41: 23552053 | L41: 23801986
A42: وزارة شئون حقوق الإنسان | C42: 0 | D42: 0 | E42: 0 | F42: 0 | G42: 0 | H42: 0 | I42: 0 | J42: 0 | K42: 0 | L42: 1062823
...

Sheet مصروفات الوزارات (2)
A1: 8- المصروفات المتكررة مصنفة حسب الأبواب والوزارات والجهات الحكومية
L2: (دينار بحريني)
A3: الوزارة أو الجهة الحكومية | B3: Code | C3: قوى عاملة | D3: خدمات | E3: سلع إستهلاكية | F3: سلع رأسمالية | G3: صيانة | H3: نفقات تحويلية | I3: إعانات وتسديد فوائد القروض | J3: المجموع | K3: الاعتماد | L3: الفعلي 2014
A4: ديوان صاحب السمو الملكي رئيس مجلس الوزراء | B4: 11 | C4: 4373017 | D4: 4179437 | E4: 174216 | F4: 78795 | G4: 12241 | H4: 10500000 | I4: 0 | J4: 19317706 | K4: 19342000 | L4: 19622089 | N4: ديوان صاحب السمو الملكي رئيس مجلس الوزراء
A5: وزارة الدفاع (إيضاح رقم 13) | B5: 12 | C5: 372852770 | D5: 38121005 | E5: 28415109 | F5: 14131595 | G5: 41390442 | H5: 0 | I5: 1243898 | J5: 496154820 | K5: 494950000 | L5: 514475345 | N5: وزارة الدفاع (إيضاح رقم 13)
A6: وزارة الداخلية | B6: 13 | C6: 333084944 | D6: 23441418 | E6: 6962223 | F6: 4686864 | G6: 4464885 | H6: 0 | I6: 0 | J6: 372640335 | K6: 350900000 | L6: 358410204 | N6: وزارة الداخلية
A7: جهاز الأمن الوطني | B7: 14 | C7: 0 | D7: 0 | E7: 0 | F7: 0 | G7: 0 | H7: 35889000 | I7: 0 | J7: 35889000 | K7: 35889000 | L7: 39345280 | N7: جهاز الأمن الوطني
A8: هيئة التشريع والإفتاء القانوني | B8: 15 | C8: 2170798 | D8: 405265 | E8: 19908 | F8: 4226 | G8: 9746 | H8: 0 | I8: 0 | J8: 2609942 | K8: 2609942 | L8: 2559477 | N8: هيئة التشريع والإفتاء القانوني
A9: وزارة الخارجية | B9: 16 | C9: 20720084 | D9: 8765550 | E9: 466410 | F9: 355504 | G9: 569619 | H9: 0 | I9: 56581 | J9: 30933748 | K9: 30832586 | L9: 33917819 | N9: وزارة الخارجية
A10: وزارة العدل والشئون الإسلامية والأوقاف (شئون العدل) | B10: 18 | C10: 8789602 | D10: 2853767 | E10: 270419 | F10: 67689 | G10: 345118 | H10: 867 | I10: 148360 | J10: 12475822 | K10: 11294000 | L10: 16646836 | N10: وزارة العدل والشئون الإسلامية والأوقاف - شئون العدل
A11: وزارة التربية والتعليم | B11: 21 | C11: 287571711 | D11: 38573917 | E11: 3784287 | F11: 2342115 | G11: 1732297 | H11: 0 | I11: 75000 | J11: 334079328 | K11: 315972000 | L11: 326522465 | N11: وزارة التربية والتعليم
A12: وزارة الصحة | B12: 22 | C12: 157192632 | D12: 43371658 | E12: 71160388 | F12: 1448626 | G12: 4768369 | H12: 0 | I12: 5200 | J12: 277946873 | K12: 244412000 | L12: 262753035 | N12: وزارة الصحة
A13: وزارة الأشغال وشئون البلديات والتخطيط العمراني (شئون البلديات والتخطيط العمراني) | B13: 23 | C13: 8618398 | D13: 1727394 | E13: 450323 | F13: 182308 | G13: 95695 | H13: 689011 | I13: 0 | J13: 11763130 | K13: 11912000 | L13: 17814267 | N13: وزارة الأشغال وشئون البلديات والتخطيط العمراني - الإدارة العامة للتخطيط العمراني وإدارة الإستملاك والتعويض وشئون الزراعة والثروة البحرية
A14: وزارة العمل والتنمية الاجتماعية (شئون العمل) | B14: 24 | C14: 5031142 | D14: 673418 | E14: 72180 | F14: 51943 | G14: 33406 | H14: 0 | I14: 187966 | J14: 6050055 | K14: 6050055 | L14: 6628449 | N14: وزارة العمل
A15: وزارة شئون الشباب والرياضة | B15: 26 | C15: 3499866 | D15: 3417156 | E15: 67140 | F15: 176788 | G15: 445516 | H15: 2538585 | I15: 2083369 | J15: 12228419 | K15: 12239000 | L15: 12718968 | N15: المؤسسة العامة للشباب والرياضة
... A18: مكتب صاحب السمو الملكي النائب الاول لرئيس مجلس الوزراء | B18: 70 | C18: 841890 | D18: 311111 | E18: 57111 | F18: 56236 | G18: 5024 | H18: 0 | I18: 45000 | J18: 1316372 | K18: 1860000 | L18: 814906 | N18: مكتب صاحب السمو الملكي النائب الأول لرئيس مجلس الوزراء
A19: مكاتب نواب صاحب السمو الملكي رئيس مجلس الوزراء | B19: D | C19: 2664380 | D19: 537594 | E19: 53480 | F19: 10166 | G19: 16499 | H19: 0 | I19: 0 | J19: 3282120 | K19: 3642126 | L19: 3218910 | N19: مكاتب نواب صاحب السمو الملكي رئيس مجلس الوزراء
A20: مكاتب مستشاري صاحب السمو الملكي رئيس مجلس الوزراء | B20: A | C20: 451376 | D20: 94016 | E20: 1848 | F20: 1813 | G20: 3582 | H20: 0 | I20: 0 | J20: 552636 | K20: 587144 | L20: 1013380 | N20: مكاتب مستشاري صاحب السمو الملكي رئيس مجلس الوزراء
A21: 8- المصروفات المتكررة مصنفة حسب الأبواب والوزارات والجهات الحكومية (تتمة)
L22: (دينار بحريني)
A23: الوزارة أو الجهة الحكومية | C23: قوى عاملة | D23: خدمات | E23: سلع إستهلاكية | F23: سلع رأسمالية | G23: صيانة | H23: نفقات تحويلية | I23: إعانات وتسديد فوائد القروض | J23: المجموع | K23: الاعتماد | L23: الفعلي 2014
A24: مكتب وزير شئون مجلس الوزراء | B24: 32 | C24: 320909 | D24: 225268 | E24: 7821 | F24: 981 | G24: 1034 | H24: 0 | I24: 0 | J24: 556012 | K24: 556013 | L24: 556811 | N24: مكتب وزير شئون المتابعة
A25: وزارة الصناعة والتجارة والسياحة | B25: 34 | C25: 8254178 | D25: 4013296 | E25: 106645 | F25: 62470 | G25: 189779 | H25: 0 | I25: 0 | J25: 12626368 | K25: 12153000 | L25: 11567570 | N25: وزارة الصناعة والتجارة
A26: وزارة الإسكان | B26: 36 | C26: 4324813 | D26: 708227 | E26: 91903 | F26: 35898 | G26: 155878 | H26: 0 | I26: 0 | J26: 5316719 | K26: 5316720 | L26: 5443886 | N26: وزارة الإسكان
A27: وزارة الثقافة | J27: =SUM(C27:I27) -> 0 | K27: 0 | L27: 0
A28: مكتب وزير الطاقة | B28: 40 | C28: 124795 | D28: 72873 | E28: 7918 | F28: 0 | G28: 853 | H28: 0 | I28: 0 | J28: 206438 | K28: 279000 | L28: 212949 | N28: مكتب وزير الطاقة
A29: المجلس الأعلى للبيئة | B29: 41 | C29: 4509479 | D29: 1335130 | E29: 118509 | F29: 139492 | G29: 791555 | H29: 0 | I29: 0 | J29: 6894164 | K29: 6894165 | L29: 7437298 | N29: المجلس الأعلى للبيئة
A30: مركز الشيخ محمد بن خليفة آل خليفة التخصصي للقلب (إيضاح رقم 13) | B30: 43 | C30: 7741045 | D30: 286540 | E30: 5878236 | F30: 1196949 | G30: 361153 | H30: 0 | I30: 0 | J30: 15463922 | K30: 15465000 | L30: 15699755 | N30: مركز الشيخ محمد بن خليفة آل خليفة التخصصي للقلب (إيضاح رقم 13)
A31: وزارة الأشغال وشئون البلديات والتخطيط العمراني (شئون الأشغال) | B31: 46 | C31: 25705168 | D31: 19069568 | E31: 185222 | F31: 161785 | G31: 136755 | H31: 0 | I31: 0 | J31: 45258497 | K31: 45258498 | L31: 31446852 | N31: وزارة الأشغال وشئون البلديات والتخطيط العمراني-الأشغال
A32: هيئة الكهرباء والماء (إيضاح رقم 12) | B32: 47 | C32: 0 | D32: 0 | E32: 0 | F32: 0 | G32: 0 | H32: 325500000 | I32: 0 | J32: 325500000 | K32: 325500000 | L32: 350000000 | N32: هيئة الكهرباء والماء (إيضاح رقم 12)
A33: وزارة المواصلات والاتصالات | B33: 48 | C33: 16517762 | D33: 14473969 | E33: 214622 | F33: 478092 | G33: 925215 | H33: 0 | I33: 0 | J33: 32609661 | K33: 32851000 | L33: 28518425 | N33: وزارة المواصلات والاتصالات
A34: الحرس الوطني | B34: 50 | C34: 38901486 | D34: 612357 | E34: 306825 | F34: 11631 | G34: 101764 | H34: 0 | I34: 115937 | J34: 40050000 | K34: 40050000 | L34: 40200000 | N34: الحرس الوطنى
A35: الهيئة الوطنية للنفط والغاز | B35: 51 | C35: 1491994 | D35: 964521 | E35: 16301 | F35: 28217 | G35: 14413 | H35: 0 | I35: 0 | J35: 2515446 | K35: 2515446 | L35: 2706944 | N35: الهيئة الوطنية للنفط والغاز
A36: وزارة شئون مجلسي الشورى والنواب | B36: 54 | C36: 1128078 | D36: 210282 | E36: 8318 | F36: 140648 | G36: 1706 | H36: 0 | I36: 0 | J36: 1489032 | K36: 1584546 | L36: 3224250 | N36: شئون الطيران المدني
A37: وزارة شئون الاعلام | B37: 55 | C37: 342382 | D37: 346344 | E37: 4711 | F37: 6713 | G37: 0 | H37: 0 | I37: 0 | J37: 700150 | K37: 708500 | L37: 804645 | N37: وزير الدولة لشئون الاتصالات
A38: مجلـس المناقصات والمزايدات | B38: 59 | C38: 764643 | D38: 356921 | E38: 19392 | F38: 8141 | G38: 10079 | H38: 0 | I38: 0 | J38: 1159177 | K38: 1159177 | L38: 1127386 | N38: وزارة شئون مجلسي الشورى والنواب
A39: الميزانية التحويلية | B39: 60 | C39: 0 | D39: 3747931 | E39: 0 | F39: 0 | G39: 0 | H39: 281085178 | I39: 553351657 | J39: 838184766 | K39: 960857378 | L39: 798360264 | N39: وزارة شئون الإعلام
... A42: المجلس الأعلى للصحة | B42: 67 | C42: 108623 | D42: 104457 | E42: 6110 | F42: 57727 | G42: 2470 | H42: 0 | I42: 0 | J42: 279388 | K42: 279388 | L42: 61887 | N42: الميزانية التحويلية (إيضاح رقم 10)
A43: 8- المصروفات المتكررة مصنفة حسب الأبواب والوزارات والجهات الحكومية (تتمة)
L44: (دينار بحريني)
...

Sheet تفصيل المصروفات
A1: 9- المصروفات المتكررة مصنفة حسب الأبواب والأقسام والبنود
F2: (دينار بحريني)
A3: التبويــب | E3: البيـــان | F3: 2015 | I3: 2014 الفعلي
A4: بند | B4: قسم | C4: باب | D4: نوع | F4: الاعتماد | G4: الفعلي | H4: الفرق
C5: 1 | D5: 6 | E5: نفقات القوى العاملة | F5: =F6+F24+F40+F48+F59+F69+F83+F92 -> 1412871123 | G5: =G6+G24+G40+G48+G59+G69+G83+G92 -> 1429500860 | H5: =F5-G5 -> -16629737 | I5: =I6+I24+I40+I48+I59+I69+I83+I92 -> 1379273023
B6: 1 | C6: 1 | D6: 6 | E6: وظائف البحرينيين | F6: =SUM(F7:F23) -> 981168514 | G6: =SUM(G7:G23) -> 1071191771 | H6: =F6-G6 -> -90023257 | I6: =SUM(I7:I23) -> 1028944984
A7: 60011 | B7: 1 | C7: 1 | D7: 6 | E7: الرواتب الأساسية | F7: 764080709 | G7: 838627490 | H7: =F7-G7 -> -74546781 | I7: 807908770
A8: 60021 | B8: 1 | C8: 1 | D8: 6 | E8: العمل الإضافي | F8: 20089889 | G8: 20475248 | H8: =F8-G8 -> -385359 | I8: 19131688
A9: 61011 | B9: 1 | C9: 1 | D9: 6 | E9: العلاوة الإجتماعية | F9: 45363243 | G9: 49175974 | H9: =F9-G9 -> -3812731 | I9: 47469456
A10: 61012 | B10: 1 | C10: 1 | D10: 6 | E10: علاوة تحسين معيشة | F10: 58074410 | G10: 58803859 | H10: =F10-G10 -> -729449 | I10: 56691389
A11: 61021 | B11: 1 | C11: 1 | D11: 6 | E11: علاوة السيارة والمواصلات | F11: 24587785 | G11: 26725731 | H11: =F11-G11 -> -2137946 | I11: 25821003
A12: 61022 | B12: 1 | C12: 1 | D12: 6 | E12: علاوة الهاتف | F12: 3746176 | G12: 4032911 | H12: =F12-G12 -> -286735 | I12: 3735671
A13: 61031 | B13: 1 | C13: 1 | D13: 6 | E13: علاوات شخصية أخرى | F13: 40959553 | G13: 47060073 | H13: =F13-G13 -> -6100520 | I13: 44345283
A14: 61032 | B14: 1 | C14: 1 | D14: 6 | E14: مكافأة خاصة | F14: 99816 | G14: 1810 | H14: =F14-G14 -> 98006 | I14: 7316
A15: 61033 | B15: 1 | C15: 1 | D15: 6 | E15: مكافأة أداء | F15: 5400 | G15: 2500 | H15: =F15-G15 -> 2900 | I15: 5700
A16: 61034 | B16: 1 | C16: 1 | D16: 6 | E16: مكافأة انضباط | F16: 59920 | G16: 71800 | H16: =F16-G16 -> -11880 | I16: 81600
A17: 61035 | B17: 1 | C17: 1 | D17: 6 | E17: بدل علاوة الأطباء الاستشاريين | F17: 2615766 | G17: 2921255 | H17: =F17-G17 -> -305489 | I17: 2778740
A18: 61036 | B18: 1 | C18: 1 | D18: 6 | E18: بدل التفرغ للأطباء الاستشاريين | F18: 3513447 | G18: 3790432 | H18: =F18-G18 -> -276985 | I18: 3513447
... A23: 61991 | B23: 1 | C23: 1 | D23: 6 | E23: علاوات وتكاليف أخرى | F23: 11543933 | G23: 14108484 | H23: =F23-G23 -> -2564551 | I23: 12244994
B24: 2 | C24: 1 | D24: 6 | E24: وظائف غير البحرينيين | F24: =SUM(F25:F39) -> 213863910 | G24: =SUM(G25:G39) -> 133877222 | H24: =F24-G24 -> 79986688 | I24: =SUM(I25:I39) -> 130964936
A25: 60011 | B25: 2 | C25: 1 | D25: 6 | E25: الرواتب الأساسية | F25: 143743688 | G25: 77858448 | H25: =F25-G25 -> 65885240 | I25: 76943058
A26: 60021 | B26: 2 | C26: 1 | D26: 6 | E26: العمل الإضافي | F26: 2707068 | G26: 3315661 | H26: =F26-G26 -> -608593 | I26: 2920736
A27: 61011 | B27: 2 | C27: 1 | D27: 6 | E27: العلاوة الإجتماعية | F27: 5976812 | G27: 4089127 | H27: =F27-G27 -> 1887685 | I27: 3542170
A28: 61012 | B28: 2 | C28: 1 | D28: 6 | E28: علاوة تحسين معيشة | F28: 51715 | G28: 59205 | H28: =F28-G28 -> -7490 | I28: 54053
A29: 61021 | B29: 2 | C29: 1 | D29: 6 | E29: علاوة السيارة والمواصلات | F29: 3268148 | G29: 1601990 | H29: =F29-G29 -> 1666158 | I29: 1540284
A30: 61022 | B30: 2 | C30: 1 | D30: 6 | E30: علاوة الهاتف | F30: 193589 | G30: 245348 | H30: =F30-G30 -> -51759 | I30: 192106
A31: 61031 | B31: 2 | C31: 1 | D31: 6 | E31: علاوات شخصية أخرى | F31: 12635456 | G31: 4934774 | H31: =F31-G31 -> 7700682 | I31: 5869462
A32: 61034 | B32: 2 | C32: 1 | D32: 6 | E32: مكافأة انضباط | F32: 2200 | G32: 21800 | H32: =F32-G32 -> -19600 | I32: 16400
A33: 61035 | B33: 2 | C33: 1 | D33: 6 | E33: بدل علاوة الأطباء الاستشاريين | F33: 38906 | G33: 34336 | H33: =F33-G33 -> 4570 | I33: 38906
A34: 61036 | B34: 2 | C34: 1 | D34: 6 | E34: بدل التفرغ للعمل الحكومي للأطباء الاستشاريين | F34: 0 | G34: 0 | H34: =F34-G34 -> 0
A35: 61041 | B35: 2 | C35: 1 | D35: 6 | E35: بدل اغتراب | F35: 291849 | G35: 378266 | H35: =F35-G35 -> -86417 | I35: 193456
A36: 61042 | B36: 2 | C36: 1 | D36: 6 | E36: توظيف وإجازة وإنهاء عقود الموظفين | F36: 24743512 | G36: 14775083 | H36: =F36-G36 -> 9968429 | I36: 17489791
A37: 61043 | B37: 2 | C37: 1 | D37: 6 | E37: تكاليف السكن | F37: 14852568 | G37: 16422102 | H37: =F37-G37 -> -1569534 | I37: 15954010
A38: 61991 | B38: 2 | C38: 1 | D38: 6 | E38: علاوات وتكاليف أخرى | F38: 5356258 | G38: 10122207 | H38: =F38-G38 -> -4765949 | I38: 6206341
A39: 64021 | B39: 2 | C39: 1 | D39: 6 | E39: أجور السفر | F39: 2141 | G39: 18875 | H39: =F39-G39 -> -16734 | I39: 4163
B40: 3 | C40: 1 | D40: 6 | E40: الوظائف المؤقتة للبحرينيين | F40: =SUM(F41:F47) -> 2839869 | G40: =SUM(G41:G47) -> 2969914 | H40: =F40-G40 -> -130045 | I40: =SUM(I41:I47) -> 2870721
A41: 60011 | B41: 3 | C41: 1 | D41: 6 | E41: الرواتب الأساسية | F41: 2805311 | G41: 2935311 | H41: =F41-G41 -> -130000 | I41: 2833924
A42: 60021 | B42: 3 | C42: 1 | D42: 6 | E42: العمل الإضافي | F42: 5641 | G42: 6574 | H42: =F42-G42 -> -933 | I42: 7366
A43: 61011 | B43: 3 | C43: 1 | D43: 6 | E43: العلاوة الإجتماعية | F43: 19385 | G43: 17856 | H43: =F43-G43 -> 1529 | I43: 11710
A44: 61021 | B44: 3 | C44: 1 | D44: 6 | E44: علاوة السيارة والمواصلات | F44: 7887 | G44: 6124 | H44: =F44-G44 -> 1763 | I44: 4685
...

Sheet مصروفات الميزانية التحويلية
A1: 10- مصروفات الميزانيات التحويلية
E2: (دينار بحريني)
A3: البيان | B3: 2015 | E3: الفعلي 2014
B4: الاعتماد | C4: الفعلي | D4: نسبة الصرف %
A5: الجهات ذات الميزانيات الملحقة والمستقلة | B5: 160088978 | C5: 158082703 | D5: =(C5/B5)*100 -> 98.746775 | E5: 148584334
A6: المساهمات في المنظمات الإقليمية والدولية | B6: 15275423 | C6: 14225736 | D6: =(C6/B6)*100 -> 93.128262 | E6: 13020541
A7: دعم الأسر محدودة الدخل | B7: 115000000 | C7: 110392130 | D7: =(C7/B7)*100 -> 95.993157 | E7: 114422620
A8: دعم السلع الغذائية (اللحوم-الدواجن-الطحين) | B8: 57000000 | C8: 47335499 | D8: =(C8/B8)*100 -> 83.044735 | E8: 57314788
A9: الهيئة العامة للتأمين الاجتماعي | B9: 18913640 | C9: 18913639 | D9: =(C9/B9)*100 -> 99.999995 | E9: 17044693
A10: حصة ومساهمة الحكومة في أنظمة التقاعد | B10: 800000 | C10: 16835 | D10: =(C10/B10)*100 -> 2.104375 | E10: 2802437
A11: برنامج التقاعد المبكر | B11: 2790000 | C11: 0 | D11: - | E11: 0
A12: حصة الحكومة في التأمين ضد التعطل | B12: 17840822 | C12: 17840821 | D12: =(C12/B12)*100 -> 99.999994 | E12: 13761592
A13: صندوق الضمان الاجتماعي | B13: 21630000 | C13: 17800000 | D13: =(C13/B13)*100 -> 82.293111 | E13: 20062815
A14: علاوة تحسين مستوى المعيشة للمتقاعدين | B14: 125000000 | C14: 110438860 | D14: =(C14/B14)*100 -> 88.351088 | E14: 92608207
A15: دعم برامج الاسكان (علاوة الايجار-تخفيض الأقساط) | B15: 51952400 | C15: 47952400 | D15: =(C15/B15)*100 -> 92.300644 | E15: 48761700
A16: مساعدات حكومية | B16: 7190000 | C16: 5216165 | D16: =(C16/B16)*100 -> 72.547497 | E16: 13728314
A17: الفوائد على القروض والصكوك | B17: 296000000 | C17: 269457882 | D17: =(C17/B17)*100 -> 91.033068 | E17: 227355339
A18: إلتزامات متنوعة ومبالغ محجوزة أو مدورة | B18: 71376115 | C18: 21712096 | D18: =(C18/B18)*100 -> 30.419274 | E18: 28892884
A19: المجموع | B19: =SUM(B5:B18) -> 960857378 | C19: =SUM(C5:C18) -> 839384766 | D19: =(C19/B19)*100 -> 87.357894 | E19: =SUM(E5:E18) -> 798360264

Sheet مشاريع
A1: 11- مصروفات المشاريع مصنفة حسب الوزارات والجهات الحكومية
F2: (دينار بحريني)
A3: الوزارة أو الجهة الحكومية | C3: 2015 | F3: الفعلي 2014
B4: Code | C4: الاعتماد | D4: الفعلي | E4: نسبة الصرف %
A5: وزارة الداخلية | B5: 13 | C5: 38755028 | D5: 31276833 | E5: =D5/C5*100 -> 80.703936 | F5: 19650560
A6: جهاز الأمن الوطني | B6: 14 | C6: 0 | D6: 0 | E6: =IFERROR(D6/C6*100,0) -> 0 | F6: 208000
A7: هيئة التشريع والإفتاء القانوني | B7: 15 | C7: 0 | D7: 0 | E7: =IFERROR(D7/C7*100,0) -> 0 | F7: 137000
A8: وزارة الخارجية | B8: 16 | C8: 2185198 | D8: 987912 | E8: =D8/C8*100 -> 45.209267 | F8: 215690
A9: مكاتب نواب صاحب السمو الملكي رئيس مجلس الوزراء | B9: 17 | C9: 15000 | D9: 15000 | E9: =D9/C9*100 -> 100 | F9: 44200
A10: وزارة العدل والشئون الإسلامية والأوقاف (شئون العدل) | B10: 18 | C10: 1894583 | D10: 200090 | E10: =D10/C10*100 -> 10.561163 | F10: 690458
A11: وزارة التربية والتعليم | B11: 21 | C11: 13608151 | D11: 4432953 | E11: =D11/C11*100 -> 32.575719 | F11: 6576258
A12: وزارة الصحة | B12: 22 | C12: 16238207 | D12: 8570086 | E12: =D12/C12*100 -> 52.777292 | F12: 11635577
A13: وزارة الأشغال وشئون البلديات والتخطيط العمراني (الإدارة العامة للتخطيط العمراني وإدارة الإستملاك والتعويض وشئون الزراعة والثروة البحرية) | B13: 23 | C13: 16079981 | D13: 8548357 | E13: =D13/C13*100 -> 53.161487 | F13: 9089225
A14: وزارة العمل والتنمية الاجتماعية (العمل) | B14: 24 | C14: 398945 | D14: 181466 | E14: =D14/C14*100 -> 45.486471 | F14: 137191
A15: وزارة شئون الشباب والرياضة | B15: 26 | C15: 11020786 | D15: 6911289 | E15: =D15/C15*100 -> 62.711398 | F15: 6154567
A16: نادي راشد للفروسية وسباق الخيل | B16: 28 | C16: 296478 | D16: 261070 | E16: =D16/C16*100 -> 88.057124 | F16: 124662
A17: وزارة العمل والتنمية الاجتماعية (التنمية الاجتماعية) | B17: 29 | C17: 2049023 | D17: 970328 | E17: =D17/C17*100 -> 47.355642 | F17: 535785
A18: وزارة الصناعة والتجارة والسياحة | B18: 34 | C18: 13482609 | D18: 4793449 | E18: =D18/C18*100 -> 35.55283 | F18: 9157618
A19: وزارة الإسكان | B19: 36 | C19: 171582617 | D19: 141827915 | E19: =D19/C19*100 -> 82.658673 | F19: 120389470
... A23: الحرس الوطني | B23: 50 | C23: 6000000 | D23: 5953424 | E23: =D23/C23*100 -> 99.223733 | F23: 1941835
A24: وزارة الدولة لشئون الإتصالات | B24: 53 | C24: 0 | D24: 0 | E24: =IFERROR(D24/C24*100,0) -> 0 | F24: 288856
A25: وزارة شئون الإعلام | B25: 55 | C25: 1432483 | D25: 1091600 | E25: =D25/C25*100 -> 76.203348 | F25: 0
A26: مجلـس المناقصات والمزايدات | B26: 59 | C26: 200000 | D26: 114432 | E26: =D26/C26*100 -> 57.216 | F26: 113684
A27: الميزانية التحويلية | B27: 60 | C27: 146536854 | D27: 100302253 | E27: =D27/C27*100 -> 68.448483 | F27: 112090556
A28: هيئة شئون الإعلام | B28: 65 | C28: 12647048 | D28: 7511345 | E28: =D28/C28*100 -> 59.392081 | F28: 10218255
A29: هيئة البحرين للثقافة والآثار | B29: 66 | C29: 10208947 | D29: 4650195 | E29: =D29/C29*100 -> 45.550192 | F29: 19073668
A30: المجلس الأعلى للصحة | B30: 67 | C30: 465611 | D30: 237637 | E30: =D30/C30*100 -> 51.037669 | F30: 94389
A31: مكتب صاحب السمو الملكي النائب الأول لرئيس مجلس الوزراء | B31: 70 | C31: 3000000 | D31: 3000000 | E31: 0 | F31: 6000000
A32: ديوان الخدمة المدنية | B32: 72 | C32: 859506 | D32: 134694 | E32: =D32/C32*100 -> 15.671095 | F32: 213833
A33: هيئة المعلومات والحكومة الإلكترونية (الجهاز المركزي للمعلومات سابقاً) | B33: 73 | C33: 6287379 | D33: 4768215 | E33: =D33/C33*100 -> 75.837881 | F33: 1449195
A34: المجلس الأعلى للقضاء | B34: 76 | C34: 236087 | D34: 123848 | E34: =D34/C34*100 -> 52.458628 | F34: 184630
A35: وزارة العدل والشئون الإسلامية والأوقاف (الشئون الإسلامية) | B35: 77 | C35: 1588824 | D35: 1037004 | E35: =D35/C35*100 -> 65.268652 | F35: 2608839
A36: جهاز المساحة والتسجيل العقاري | B36: 78 | C36: 2314215 | D36: 543113 | E36: =D36/C36*100 -> 23.468563 | F36: 1776818
A37: وزارة المالية | B37: 81 | C37: 2500000 | D37: 2483482 | E37: =D37/C37*100 -> 99.33928 | F37: 1255961
A38: شئون الجمارك | B38: 83 | C38: 3474254 | D38: 1648470 | E38: =D38/C38*100 -> 47.448172 | F38: 1626679
A39: مستشفى الملك حمد الجامعي (إيضاح رقم 14،13) | B39: 88 | C39: 16157590 | D39: 10234270 | E39: =D39/C39*100 -> 63.340325 | F39: 9702410
A40: المجموع | C40: =SUM(C5:C39) -> 630000000 | D40: =SUM(D5:D39) -> 443679113 | E40: =D40/C40*100 -> 70.425256 | F40: =SUM(F5:F39) -> 448304933

Sheet الإعتمادات المدورة
A1: 12- مصروفات هيئة الكهرباء والماء
A2: تمثل مبالغ التحويـلات النقدية من وزارة المالية إلى هيئة الكهرباء والماء، ولا تعبـر عن مصروفات الهيئة الفعليـة للسنة.
A4: 13- مصروفات قوة الدفاع
A5: نصت الفقرة (أ) مـن المـادة (4) مـن قانون ديـوان الرقابـة الماليـة والإداريـة رقـم (16) لسنة 2002 الـمعدل بالمرسـوم بقانون رقم (49) لسنة 2010 على أن "... يستثنى مـن رقابة الديوان أية جهة أوجب الدستور أو الـقانون مراعـاة السرية في شئونها..."، كمـا نصت الفقـرة (ز) من المادة (33) من دستور مملكة البحرين بشأن قـوة الدفاع على أن "تــراعـى السرية في شئونها"، وبناءً علـيه لم يخضع الحساب الختامي لوزارة الدفاع والجهات التابعـة لها لـرقابة ديوان الرقابة الماليـة والإدارية، وإنما تم التدقيق على الحسابات الختامية لهذه الجهات من قبل إحدى مؤسسـات التدقيق.
A7: 14- مصروفات مستشفى الملك حمد
A8: نصت المادة الرابعة من الأمر الملكي رقم (31) لسنة 2010 بشأن مستشفى الملك حمد على أن "يكون للمستشفى ميزانية خاصة ملحقة بميزانية قوة الدفاع"، وعليه لـم تخضع مصروفات الـمستشفى لـرقابة ديوان الرقابة الـمالية والإداريـة وإنما تم تدقيقها من قبل إحدى مؤسسات التدقيق طبقاً لما تم ذكره في الإيضاح رقم (13).
A10: 15- المبالغ المدورة من اعتمادات ميزانية النفقات المتكررة للوزارات والجهات الحكومية
A11: لم يتم تدوير أية اعتمادات للنفقات المتكررة من سنة 2015 إلى السنة المالية المقبلة للوزارات والجهات الحكومية، بحسب قرار وزير المالية رقم (8) لسنة 2016 الصـادر بتاريخ 15 مايو 2016.
B13: (دينار بحريني)
A14: الوزارة أو الجهة الحكومية | B14: 2013 | C14: 2012
A16: دعم الخدمات والمشاريع الإسكانية | B16: - | C16: -
A17: ديوان صاحب السمو الملكي رئيس الوزراء | B17: 0 | C17: 0
A18: وزارة الخارجية | B18: 0 | C18: 0
A19: هيئة شئون الإعلام | B19: 0 | C19: 0
A20: الجهاز المركزي للمعلومات والإتصالات | B20: 0 | C20: 0
A21: وزارة الصناعة والتجارة | B21: 0 | C21: 0
A22: وزارة الإسكان | B22: 0 | C22: 0
A23: شئون الجمارك | B23: 0 | C23: 0
A24: تقديرات أخرى للوزارات والجهات الحكومية | B24: 0 | C24: 0
A25: المجموع | B25: - | C25: =SUM(C16:C24) -> 0
A27: 16- المبالغ المدورة من اعتمادات ميزانية نفقات المشاريع للوزارات والجهات الحكومية
A28: أقرت وزارة المالية تدوير جزء من الاعتمادات المالية المتبقية إلى السنة الماليـة المقبلة لعـدد من المشاريـع الحكومية طبقاً لما تقتضيه المصلحة العامة، وذلك بعد دراسـة متطلبات كل مشروع سواءً من حيث التـدفقات الـنقدية الـلازمة لـمواجهة الالتزامـات التعاقدية، أو المتطلبات المالية اللازمة لتنفيذ مراحل سـير العمـل المخطط لإنجازه خلال السنة المالية المقبلة. يمثل المبلغ الـمدوّر من ميزانية نفقات المشـاريع جـزء من الـــفرق بين مجمـوع اعتمادات ميزانية المشـاريع لـسنة 2015 البالغـة حوالي 630 مـليون دينـار ومجمـوع مصـروفات المشـاريع الفعليـة لغـاية 31 ديسمبر 2015 والتـي بلغـت حوالي 444 مليــون دينار، ولا يتـم إظهار المبـالغ المدورة ضمـن الحسابات الــفردية للوزارات والجهـات الحكومية. وقد بلغ مجموع الإعتمادات المدورة من اعتمادات نفقات ميزانية المشاريع من السنة المالية 2015 للسنة المالية 2016 مبلغ 59 مليون دينار.

Sheet المقبوضات والمدفوعات
A1: 1- كشف المقبوضات والمدفوعات
D2: (دينار بحرينى)
C3: دينار بحريني
A4: البيان | C4: 2015 | D4: 2014
A5: التدفقات النقدية من الأنشطة التشغيلية
A6: المقبوضات
A7: النفط والغاز الطبيعي | C7: 1594647700 | D7: 2662191298
A8: الضرائب والرسوم | C8: 225242429 | D8: 201141304
A9: المنتجات الخدمية والسلعية الحكومية | C9: 72825570 | D9: 52573952
A10: الإعانات | C10: 28169590 | D10: 28169772
A11: الغرامات والجزاءات والايرادات المتنوعة | C11: 32728661 | D11: 55790156
A12: مبالغ مستلمة لصالح الغير | C12: 127506183 | D12: 137964742
A13: إجمالي المقبوضات التشغيلية | C13: =SUM(C7:C12) -> 2081120133 | D13: =SUM(D7:D12) -> 3137831224
A14: المدفوعات
A15: القوى العاملة | C15: -1405109874 | D15: -1369436828
A16: الخدمات | C16: -207446158 | D16: -217079491
A17: السلع الإستهلاكية | C17: -61021900 | D17: -82222552
A18: الصيانة | C18: -58507370 | D18: -70113926
A19: نفقات تحويلية | C19: -597765145 | D19: -715844510
A20: الإعانات وتسديد فوائد القروض | C20: -549126532 | D20: -488081753
A21: مدفوعات مقدمة وتسديد ذمم دائنة | C21: -102001080 | D21: -52208363
A22: مشتريات المخزون | C22: -62091438 | D22: -65881692
