Workbook
Name leer: '[1]تفصيل المصروفات (3)'!$A$2:$A$6
Name leer: '[1]تفصيل المصروفات (3)'!$A$2:$A$6
Name المصروفات_حسب_الأبواب_والأقسام_والبنود: #REF!
Name المصروفات_حسب_الأبواب_والأقسام_والبنود: #REF!
Name المصروفات_حسب_الأبواب_والأقسام_والبنود: #REF!
Name المصروفات_حسب_الأبواب_والأقسام_والبنود: #REF!
Name المصروفات_حسب_الأبواب_والأقسام_والبنود: #REF!
Name المصروفات_حسب_الأبواب_والأقسام_والبنود: #REF!
Name المصروفات_حسب_الأبواب_والأقسام_والبنود: #REF!
Name المصروفات_حسب_الأبواب_والأقسام_والبنود: #REF!

Sheet  بيان الإيرادات والمصروفات
A1: بيان الإيرادات والمصروفات الموحد للدولة
A2: للسنة المالية المنتهية في 31 ديسمبر 2015
E3: (دينار بحريني)
A4: البيان | B4: الإيضاحات | C4: الاعتماد | D4: الفعلي 2015 | E4: الفعلي 2014
A5: الإيرادات
A6: النفط والغاز الطبيعي | B6: 5,4,2 | C6: ='تفصيل الإيرادات'!F5 -> 1700787000 | D6: ='تفصيل الإيرادات'!G5 -> 1594672391 | E6: ='تفصيل الإيرادات'!I5 -> 2662346395
A7: الضرائب والرسوم | B7: 5,4 | C7: ='تفصيل الإيرادات'!F28 -> 193034053 | D7: ='تفصيل الإيرادات'!G28 -> 224533723 | E7: ='تفصيل الإيرادات'!I28 -> 202894933
A8: المنتجات الخدمية والسلعية الحكومية | B8: 5,4 | C8: ='تفصيل الإيرادات'!F88 -> 69540357 | D8: ='تفصيل الإيرادات'!G88 -> 74776392 | E8: ='تفصيل الإيرادات'!I88 -> 53917847
A9: الإستثمارات والأملاك الحكومية | B9: 5,4 | C9: ='تفصيل الإيرادات'!F155 -> 72216730 | D9: ='تفصيل الإيرادات'!G155 -> 83506829 | E9: ='تفصيل الإيرادات'!I155 -> 82346641
A10: الإعانات | B10: 5,4 | C10: ='تفصيل الإيرادات'!F174 -> 28200000 | D10: ='تفصيل الإيرادات'!G174 -> 28169590 | E10: ='تفصيل الإيرادات'!I174 -> 28169772
A11: مبيعات الأصول الرأسمالية | B11: 5,4 | C11: ='تفصيل الإيرادات'!F177 -> 398320 | D11: ='تفصيل الإيرادات'!G177 -> 564281 | E11: ='تفصيل الإيرادات'!I177 -> 901978
A12: الغرامات والجزاءات والإيرادات المتنوعة | B12: 5,4 | C12: ='تفصيل الإيرادات'!F190 -> 33152540 | D12: ='تفصيل الإيرادات'!G190 -> 35933248 | E12: ='تفصيل الإيرادات'!I190 -> 58891542
A13: مجموع الإيرادات | B13: 5,4,3 | C13: =SUM(C6:C12) -> 2097329000 | D13: =SUM(D6:D12) -> 2042156454 | E13: =SUM(E6:E12) -> 3089469108
A14: المصروفات المتكررة
A15: القوى العاملة | B15: 9,8,6 | C15: ='تفصيل المصروفات'!$F$5 -> 1412871123 | D15: ='تفصيل المصروفات'!$G$5 -> 1429500860 | E15: ='تفصيل المصروفات'!$I$5 -> 1379273023
A16: الخدمات | B16: 9,8,6 | C16: ='تفصيل المصروفات'!$F$95 -> 187112472 | D16: ='تفصيل المصروفات'!$G$95 -> 238420990 | E16: ='تفصيل المصروفات'!$I$95 -> 223123791
A17: السلع الإستهلاكية | B17: 9,8,6 | C17: ='تفصيل المصروفات'!$F$168 -> 118745765 | D17: ='تفصيل المصروفات'!$G$168 -> 131180581 | E17: ='تفصيل المصروفات'!$I$168 -> 147903758
A18: السلع الرأسمالية | B18: 9,8,6 | C18: ='تفصيل المصروفات'!$F$226 -> 27889882 | D18: ='تفصيل المصروفات'!$G$226 -> 30313224 | E18: ='تفصيل المصروفات'!$I$226 -> 36308070
A19: الصيانة | B19: 9,8,6 | C19: ='تفصيل المصروفات'!$F$340 -> 58248363 | D19: ='تفصيل المصروفات'!$G$340 -> 59986238 | E19: ='تفصيل المصروفات'!$I$340 -> 69058155
A20: نفقات تحويلية | B20: 9,8,6 | C20: ='تفصيل المصروفات'!$F$407 -> 738630719 | D20: ='تفصيل المصروفات'!$G$407 -> 668488285 | E20: ='تفصيل المصروفات'!$I$407 -> 729348815
A21: الإعانات وتسديد فوائد القروض | B21: 9,8,6 | C21: ='تفصيل المصروفات'!$F$420 -> 613087676 | D21: ='تفصيل المصروفات'!$G$420 -> 557846113 | E21: ='تفصيل المصروفات'!$I$420 -> 511214633
A22: مجموع المصروفات المتكررة | B22: 9,8,7,6,3 | C22: =SUM(C15:C21) -> 3156586000 | D22: =SUM(D15:D21) -> 3115736291 | E22: =SUM(E15:E21) -> 3096230245
A23: مصروفات المشاريع | B23: 11,6,3 | C23: =مشاريع!C40 -> 630000000 | D23: =مشاريع!D40 -> 443679113 | E23: =مشاريع!F40 -> 448304933
A24: مجموع المصروفات | B24: 6 | C24: =SUM(C22:C23) -> 3786586000 | D24: =SUM(D22:D23) -> 3559415404 | E24: =SUM(E22:E23) -> 3544535178
A25: العجز للسنة | C25: =C13-C24 -> -1689257000 | D25: =D13-D24 -> -1517258950 | E25: =E13-E24 -> -455066070
A27: مصروفات مشاريع التسليح والتطوير | B27: 14 | C27: 0 | D27: 0 | E27: 0
A28: العجز للسنة | C28: =C25-C27 -> -1689257000 | D28: =D25-D27 -> -1517258950 | E28: =E25-E27 -> -455066070
A29: بيان الاعتمادات المدورة
D30: 2015 | E30: 2014
A31: اعتمادات المصروفات المتكررة | B31: 15,7,6 | D31: 0 | E31: 0
A32: اعتمادات المشاريع | B32: 16,6 | D32: 59000000 | E32: 185000000
A33: مجموع الاعتمادات المدورة | D33: =SUM(D31:D32) -> 59000000 | E33: =SUM(E31:E32) -> 185000000
A35: الإيضاحات الواردة على الصفحات من (4) إلى (35) هي جزء مكمل للحساب الختامي الموحد للدولة.

Sheet إيرادات النفط 
A1: 2- إيرادات النفط والغاز الطبيعي
C2: (دينار بحريني)
A3: البيان | B3: الفعلي 2015 | C3: الفعلي 2014
A4: إيرادات حقل البحرين النفطية والمصفاة
A5: الإيرادات
A6: إجمالي الإيرادات | B6: 2175842253 | C6: 3692584112
A7: إجمالي التكاليف | B7: -1945117326 | C7: -3486110815
A8: صافي الإيرادات | B8: =SUM(B6:B7) -> 230724927 | C8: =SUM(C6:C7) -> 206473297
A10: إيرادات حقل أبو سعفة
A11: إجمالي الإيرادات | B11: 1066466713 | C11: 2121315346
A12: إجمالي التكاليف | B12: -109061876 | C12: -94002471
A13: إحتياطي الأجيال القادمة | B13: -17105245 | C13: -21172996
A14: صافي الإيرادات | B14: =SUM(B11:B13) -> 940299592 | C14: =SUM(C11:C13) -> 2006139879
A16: مبيعات الغاز الطبيعي
A17: إيرادات الغاز الطبيعي | B17: 411785821 | C17: 434722091
A19: ضرائب ورسوم نفطية | B19: 11862051 | C19: 15011128
A20: توزيعات أرباح مستلمة (الشركة القابضة للنفط والغاز) | B20: 0 | C20: 0
A22: صافي إيرادات النفط والغاز الطبيعي | B22: =B8+B14+B17+B19+B20 -> 1594672391 | C22: =C8+C14+C17+C19+C20 -> 2662346395

Sheet مصروفات وايرادات الوزارات
A1: 3- الإيرادات والمصروفات مصنفة حسب الوزارات والجهات الحكومية
C2: (دينار بحريني)
A3: الوزارة أو الجهة الحكومية | C3: الإيرادات | F3: المصروفات المتكررة | I3: مصروفات المشاريع
B4: Code | C4: الفعلي | D4: الاعتماد | E4: نسبة التحصيل % | F4: الفعلي | G4: الاعتماد | H4: نسبة الصرف % | I4: الفعلي | J4: الاعتماد | K4: نسبة الصرف %
A5: ديوان صاحب السمو الملكي رئيس مجلس الوزراء | B5: 11 | C5: 88100 | D5: 0 | E5: 0 | F5: 19317706 | G5: 19342000 | H5: 99.87 | I5: 0 | J5: 0 | K5: 0
A6: وزارة الدفاع (إيضاح رقم 13) | B6: 12 | C6: 0 | D6: 0 | E6: 0 | F6: 496154820 | G6: 494950000 | H6: 100.24 | I6: 0 | J6: 0 | K6: 0
A7: وزارة الداخلية | B7: 13 | C7: 47605960 | D7: 40454000 | E7: 117.68 | F7: 372640334 | G7: 350900000 | H7: 106.2 | I7: 31276833 | J7: 38755028 | K7: 80.7
A8: جهاز الأمن الوطني | B8: 14 | C8: 0 | D8: 0 | E8: 0 | F8: 35889000 | G8: 35889000 | H8: 100 | I8: 0 | J8: 0 | K8: 0
A9: هيئة التشريع والإفتاء القانوني | B9: 15 | C9: 13159 | D9: 5000 | E9: 263.17 | F9: 2609942 | G9: 2609942 | H9: 100 | I9: 0 | J9: 0 | K9: 0
A10: وزارة الخارجية | B10: 16 | C10: 1785623 | D10: 2055000 | E10: 86.89 | F10: 30933748 | G10: 30832586 | H10: 100.33 | I10: 987912 | J10: 2185198 | K10: 45.21
A11: وزارة العدل والشئون الإسلامية والأوقاف (شئون العدل) | B11: 18 | C11: 15836788 | D11: 10846000 | E11: 146.02 | F11: 12475822 | G11: 11294000 | H11: 110.46 | I11: 200090 | J11: 1894583 | K11: 10.56
A12: وزارة التربية والتعليم | B12: 21 | C12: 1608282 | D12: 768000 | E12: 209.41 | F12: 334079327 | G12: 315972000 | H12: 105.73 | I12: 4432953 | J12: 13608151 | K12: 32.58
A13: وزارة الصحة | B13: 22 | C13: 35063505 | D13: 33450000 | E13: 104.82 | F13: 277946873 | G13: 244412000 | H13: 113.72 | I13: 8570086 | J13: 16238207 | K13: 52.78
A14: وزارة الأشغال وشئون البلديات والتخطيط العمراني (الإدارة العامة للتخطيط العمراني وإدارة الإستملاك والتعويض وشئون الزراعة والثروة البحرية) | B14: 23 | C14: 896658 | D14: 335000 | E14: 267.66 | F14: 11763129 | G14: 11912000 | H14: 98.75 | I14: 8548357 | J14: 16079981 | K14: 53.16
A15: وزارة العمل والتنمية الاجتماعية (العمل) | B15: 24 | C15: 30559 | D15: 67000 | E15: 45.61 | F15: 6050055 | G15: 6050055 | H15: 100 | I15: 181466 | J15: 398945 | K15: 45.49
A16: وزارة شئون الشباب والرياضة | B16: 26 | C16: 600896 | D16: 16000 | E16: 3755.6 | F16: 12228420 | G16: 12239000 | H16: 99.91 | I16: 6911289 | J16: 11020786 | K16: 62.71
... A22: مكتب صاحب السمو الملكي النائب الاول لرئيس مجلس الوزراء | B22: 70 | C22: 0 | D22: 0 | E22: 0 | F22: 1316372 | G22: 1860000 | H22: 70.77 | I22: 3000000 | J22: 3000000 | K22: 100
A23: مكاتب نواب صاحب السمو الملكي رئيس مجلس الوزارء | B23: D | C23: 0 | D23: 0 | E23: 0 | F23: 3282119 | G23: 3642126 | H23: 90.115498 | I23: 15000 | J23: 15000 | K23: 100
A24: مكاتب مستشاري صاحب السمو الملكي رئيس مجلس الوزراء | B24: A | C24: 0 | D24: 0 | E24: 0 | F24: 552634 | G24: 587144 | H24: 94.122737 | I24: 0 | J24: 0 | K24: 0
A25: مكتب وزير الطاقة | B25: 40 | C25: 0 | D25: 0 | E25: 0 | F25: 206439 | G25: 279000 | H25: 73.99 | I25: 0 | J25: 0 | K25: 0
A26: المجلس الأعلى للبيئة | B26: 41 | C26: 317845 | D26: 143000 | E26: 222.27 | F26: 6894165 | G26: 6894165 | H26: 100 | I26: 211391 | J26: 900753 | K26: 23.47
A27: 3- الإيرادات والمصروفات مصنفة حسب الوزارات والجهات الحكومية (تتمة)
C28: (دينار بحريني)
A29: الوزارة أو الجهة الحكومية | C29: الإيرادات | F29: المصروفات المتكررة | I29: مصروفات المشاريع
C30: الفعلي | D30: الاعتماد | E30: نسبة التحصيل % | F30: الفعلي | G30: الاعتماد | H30: نسبة الصرف % | I30: الفعلي | J30: الاعتماد | K30: نسبة الصرف %
A31: مركز الشيخ محمد بن خليفة آل خليفة التخصصي للقلب (إيضاح رقم 13) | B31: 43 | C31: 0 | D31: 0 | E31: 0 | F31: 15463923 | G31: 15465000 | H31: 99.99 | I31: 0 | J31: 0 | K31: 0
A32: وزارة الأشغال وشئون البلديات والتخطيط العمراني (الأشغال) | B32: 46 | C32: 622154 | D32: 267000 | E32: 233.02 | F32: 45258498 | G32: 45258498 | H32: 100 | I32: 86617663 | J32: 119104897 | K32: 72.72
A33: هيئة الكهرباء والماء (إيضاح رقم 12) | B33: 47 | C33: 0 | D33: 0 | E33: 0 | F33: 325500000 | G33: 325500000 | H33: 100 | I33: 0 | J33: 0 | K33: 0
A34: وزارة المواصلات والاتصالات | B34: 48 | C34: 44085405 | D34: 37292000 | E34: 118.22 | F34: 32609660 | G34: 32851000 | H34: 99.27 | I34: 4039329 | J34: 8478946 | K34: 47.64
A35: الحرس الوطني | B35: 50 | C35: 0 | D35: 0 | E35: 0 | F35: 40050000 | G35: 40050000 | H35: 100 | I35: 5953424 | J35: 6000000 | K35: 99.22
A36: الهيئة الوطنية للنفط والغاز | B36: 51 | C36: 7564 | D36: 0 | E36: 0 | F36: 2515446 | G36: 2515446 | H36: 100 | I36: 0 | J36: 0 | K36: 0
A37: وزارة شئون مجلسي الشورى والنواب | B37: 54 | C37: 1350 | D37: 0 | E37: 0 | F37: 1489032 | G37: 1584546 | H37: 93.97 | I37: 0 | J37: 0 | K37: 0
A38: وزارة شئون الإعلام | B38: 55 | C38: 6677 | D38: 0 | E38: 0 | F38: 700150 | G38: 708500 | H38: 98.82 | I38: 1091600 | J38: 1432483 | K38: 76.2
A39: مجلـس المناقصات والمزايدات | B39: 59 | C39: 8825 | D39: 0 | E39: 0 | F39: 1159176 | G39: 1159177 | H39: 100 | I39: 114432 | J39: 200000 | K39: 57.22
A40: الميزانيات التحويلية (إيضاح رقم 10) | B40: 60 | C40: 127995763 | D40: 128041000 | E40: 99.96 | F40: 839384766 | G40: 960857378 | H40: 87.23 | I40: 100302253 | J40: 146536854 | K40: 68.45
A41: إيرادات النفط والغاز الطبيعي | B41: 62 | C41: 1594672391 | D41: 1700787000 | E41: 93.76 | F41: 0 | G41: 0 | H41: 0 | I41: 0 | J41: 0 | K41: 0
A42: هيئة شئون الإعلام | B42: 65 | C42: 1718527 | D42: 1492000 | E42: 115.18 | F42: 22993262 | G42: 23552053 | H42: 97.63 | I42: 7511345 | J42: 12647048 | K42: 59.39
... A51: وزارة العدل والشئون الإسلامية والأوقاف (الشئون الإسلامية) | B51: 77 | C51: 8775 | D51: 10000 | E51: 87.75 | F51: 4255942 | G51: 4255942 | H51: 100 | I51: 1037004 | J51: 1588824 | K51: 65.27
A52: 3- الإيرادات والمصروفات مصنفة حسب الوزارات والجهات الحكومية (تتمة)
C53: (دينار بحريني)
A54: الوزارة أو الجهة الحكومية | C54: الإيرادات | F54: المصروفات المتكررة | I54: مصروفات المشاريع
C55: الفعلي | D55: الاعتماد | E55: نسبة التحصيل % | F55: الفعلي | G55: الاعتماد | H55: نسبة الصرف % | I55: الفعلي | J55: الاعتماد | K55: نسبة الصرف %
A56: جهاز المساحة والتسجيل العقاري | B56: 78 | C56: 20970182 | D56: 20376000 | E56: 102.92 | F56: 8656735 | G56: 8656735 | H56: 100 | I56: 543113 | J56: 2314215 | K56: 23.47
A57: وزارة شئون الشباب والرياضة (مكتب الوزير) | B57: 79 | C57: 0 | D57: 0 | E57: 0 | F57: 235180 | G57: 279000 | H57: 84.29 | I57: 0 | J57: 0 | K57: 0
A58: وزارة المالية | B58: 81 | C58: 17509 | D58: 3000 | E58: 583.65 | F58: 7939930 | G58: 8004000 | H58: 99.2 | I58: 2483482 | J58: 2500000 | K58: 99.34
A59: شئون الجمارك | B59: 83 | C59: 116766540 | D59: 99700000 | E59: 117.12 | F59: 17919129 | G59: 15110000 | H59: 91.68 | I59: 1648470 | J59: 3474254 | K59: 47.45
A60: مستشفى الملك حمد الجامعي (إيضاح رقم 14،13) | B60: 88 | C60: 0 | D60: 0 | E60: 0 | F60: 41160511 | G60: 37930000 | H60: 108.52 | I60: 10234270 | J60: 16157590 | K60: 63.34
A61: المجموع | C61: =SUM(C5:C60) -> 2042156454 | D61: =SUM(D5:D60) -> 2097329000 | E61: =C61/D61*100 -> 97.36939 | F61: =SUM(F5:F60) -> 3115736291 | G61: =SUM(G5:G60) -> 3156586000 | H61: =F61/G61*100 -> 98.70589 | I61: =SUM(I5:I60) -> 443679113 | J61: =SUM(J5:J60) -> 630000000 | K61: =I61/J61*100 -> 70.425256

Sheet الايرادات
A1: 4- الإيرادات مصنفة حسب الأبواب والوزارات والجهات الحكومية
C2: (دينار بحريني)
A3: الوزارة أو الجهة الحكومية | B3: Code | C3: النفط والغاز الطبيعي | D3: ضــرائـب ورســوم | E3: منتجات خدمية وسلعية حكومية | F3: إستثمارات وأملاك حكومية | G3: الإعانات | H3: مبيعات أصول رأسمالية | I3: غرامــات وجزاءات وإيرادات متنوعة | J3: المجموع | K3: الاعتماد | L3: الفعلي 2014
A4: ديوان صاحب السمو الملكي رئيس مجلس الوزراء | B4: 11 | C4: 0 | D4: 0 | E4: 0 | F4: 0 | G4: 0 | H4: 0 | I4: 88100 | J4: 88100 | K4: 0 | L4: 1563
A5: وزارة الداخلية | B5: 13 | C5: 0 | D5: 40677302 | E5: 5658468 | F5: 40550 | G5: 0 | H5: 344376 | I5: 885264 | J5: 47605960 | K5: 40454000 | L5: 40729524
A6: جهاز الأمن الوطني | B6: 14 | C6: 0 | D6: 0 | E6: 0 | F6: 0 | G6: 0 | H6: 0 | I6: 0 | J6: 0 | K6: 0 | L6: 170
A7: هيئة التشريع والإفتاء القانوني | B7: 15 | C7: 0 | D7: 60 | E7: 6217 | F7: 0 | G7: 0 | H7: 130 | I7: 6752 | J7: 13159 | K7: 5000 | L7: 3704
A8: وزارة الخارجية | B8: 16 | C8: 0 | D8: 1020750 | E8: 0 | F8: 0 | G8: 0 | H8: 0 | I8: 764873 | J8: 1785623 | K8: 2055000 | L8: 1879359
A9: وزارة العدل والشئون الإسلامية والأوقاف (شئون العدل) | B9: 18 | C9: 0 | D9: 6399317 | E9: 7341 | F9: 42660 | G9: 0 | H9: 401 | I9: 9387069 | J9: 15836788 | K9: 10846000 | L9: 9952681
A10: وزارة التربية والتعليم | B10: 21 | C10: 0 | D10: 14725 | E10: 115854 | F10: 50 | G10: 0 | H10: 66073 | I10: 1411581 | J10: 1608282 | K10: 768000 | L10: 1188931
A11: وزارة الصحة | B11: 22 | C11: 0 | D11: 13665 | E11: 33918844 | F11: 538502 | G11: 0 | H11: 9868 | I11: 582625 | J11: 35063505 | K11: 33450000 | L11: 14181687
A12: وزارة الأشغال وشئون البلديات والتخطيط العمراني (الإدارة العامة للتخطيط العمراني وإدارة الإستملاك والتعويض وشئون الزراعة والثروة البحرية) | B12: 23 | C12: 0 | D12: 41464 | E12: 349545 | F12: 69629 | G12: 0 | H12: 33934 | I12: 402086 | J12: 896658 | K12: 335000 | L12: 400408
A13: وزارة العمل والتنمية الاجتماعية ( العمل) | B13: 24 | C13: 0 | D13: 5435 | E13: 2345 | F13: 400 | G13: 0 | H13: 0 | I13: 22379 | J13: 30559 | K13: 67000 | L13: 1382127
A14: وزارة شئون الشباب والرياضة | B14: 26 | C14: 0 | D14: 10905 | E14: 0 | F14: 7400 | G14: 0 | H14: 0 | I14: 582591 | J14: 600896 | K14: 16000 | L14: 77142
A15: وزارة العمل والتنمية الاجتماعية (التنمية الاجتماعية) | B15: 29 | C15: 0 | D15: 1600 | E15: 0 | F15: 0 | G15: 0 | H15: 665 | I15: 4897 | J15: 7162 | K15: 5000 | L15: 4087
... A25: الميزانية التحويلية | B25: 60 | C25: 0 | D25: 19729166 | E25: 881495 | F25: 66919706 | G25: 28169590 | H25: 13455 | I25: 12282350 | J25: 127995763 | K25: 128041000 | L25: 164598429
A26: وزارة شئون مجلس الوزراء | C26: 0 | J26: =SUM(C26:I26) -> 0
A27: وزارة الثقافة | J27: =SUM(C27:I27) -> 0
A28: 4- الإيرادات مصنفة حسب الأبواب والوزارات والجهات الحكومية (تتمة)
C29: (دينار بحريني)
A30: الوزارة أو الجهة الحكومية | B30: Code | C30: النفط والغاز الطبيعي | D30: ضــرائـب ورســوم | E30: منتجات خدمية وسلعية حكومية | F30: إستثمارات وأملاك حكومية | G30: الإعانات | H30: مبيعات أصول رأسمالية | I30: غرامــات وجزاءات وإيرادات متنوعة | J30: المجموع | K30: الاعتماد | L30: الفعلي 2014
A31: إيرادات النفط والغاز الطبيعي (إيضاح رقم 2) | B31: 62 | C31: 1594672391 | D31: 0 | E31: 0 | F31: 0 | G31: 0 | H31: 0 | I31: 0 | J31: 1594672391 | K31: 1700787000 | L31: 2662346395
A32: هيئة شئون الإعلام | B32: 65 | C32: 0 | D32: 342232 | E32: 1331972 | F32: 600 | G32: 0 | H32: 0 | I32: 43724 | J32: 1718527 | K32: 1492000 | L32: 1298057
A33: هيئة البحرين للثقافة والآثار | B33: 66 | C33: 0 | D33: 1491933 | E33: 423 | F33: 22800 | G33: 0 | H33: 0 | I33: 281518 | J33: 1796674 | K33: 0 | L33: 12515374
A34: الجهاز الإداري للنيابة العامة | B34: 68 | C34: 0 | D34: 45 | E34: 0 | F34: 0 | G34: 0 | H34: 0 | I34: 7759 | J34: 7804 | K34: 0 | L34: 0
A35: ديوان الخدمة المدنية | B35: 72 | C35: 0 | D35: 250 | E35: 0 | F35: 0 | G35: 0 | H35: 50 | I35: 6431 | J35: 6731 | K35: 5000 | L35: 14151
A36: هيئة المعلومات والحكومة الإلكترونية (الجهاز المركزي للمعلومات سابقاُ) | B36: 73 | C36: 0 | D36: 2465286 | E36: 0 | F36: 0 | G36: 0 | H36: 0 | I36: 0 | J36: 2465286 | K36: 1683000 | L36: 1704235
A37: الأمانة العامة للمجلس الأعلى للشباب والرياضة | B37: 75 | C37: 0 | D37: 585 | E37: 0 | F37: 0 | G37: 0 | H37: 0 | I37: 0 | J37: 585 | K37: 0 | L37: 0
A38: المجلس الأعلى للقضاء | B38: 76 | C38: 0 | D38: 645 | E38: 3309 | F38: 0 | G38: 0 | H38: 0 | I38: 2261 | J38: 6215 | K38: 0 | L38: 1873
A39: وزارة العدل والشئون الإسلامية والأوقاف (الشئون الإسلامية) | B39: 77 | C39: 0 | D39: 5475 | E39: 0 | F39: 0 | G39: 0 | H39: 0 | I39: 3300 | J39: 8775 | K39: 10000 | L39: 24264
A40: جهاز المساحة والتسجيل العقاري | B40: 78 | C40: 0 | D40: 20803808 | E40: 150986 | F40: 300 | G40: 0 | H40: 0 | I40: 15088 | J40: 20970182 | K40: 20376000 | L40: 22671205
A41: وزارة المالية | B41: 81 | C41: 0 | D41: 640 | E41: 0 | F41: 180 | G41: 0 | H41: 0 | I41: 16689 | J41: 17509 | K41: 3000 | L41: 34588
A42: شئون الجمارك | B42: 83 | C42: 0 | D42: 110031666 | E42: 63437 | F42: 0 | G42: 0 | H42: 20790 | I42: 6650646 | J42: 116766540 | K42: 99700000 | L42: 97643744
A43: المجموع | C43: =SUM(C4:C42) -> 1594672391 | D43: =SUM(D4:D42) -> 224533723 | E43: =SUM(E4:E42) -> 74776392 | F43: =SUM(F4:F42) -> 83506829 | G43: =SUM(G4:G42) -> 28169590 | H43: =SUM(H4:H42) -> 564281 | I43: =SUM(I4:I42) -> 35933248 | J43: =SUM(J4:J42) -> 2042156454 | ... L43: =SUM(L4:L42) -> 3089469108

Sheet تفصيل الإيرادات
A1: 5- الإيرادات مصنفة حسب الأبواب والأقسام والبنود
A2: (دينار بحريني)
A3: التبويــب | E3: البيـــان | F3: 2015 | I3: 2014 الفعلي
A4: بند | B4: قسم | C4: باب | D4: نوع | F4: الاعتماد | G4: الفعلي | H4: الفرق
C5: 1 | D5: 4 | E5: النفط والغاز الطبيعي | F5: =F6+F10+F22+F26 -> 1700787000 | G5: =G6+G10+G22+G26 -> 1594672391 | H5: =G5-F5 -> -106114609 | I5: =I6+I10+I22+I26 -> 2662346395
B6: 1 | C6: 1 | D6: 4 | E6: مبيعات النفط | F6: =SUM(F7:F9) -> 1269327000 | G6: =SUM(G7:G9) -> 1171024519 | H6: =G6-F6 -> -98302481 | I6: =SUM(I7:I9) -> 2212613176
A7: 40011 | B7: 1 | C7: 1 | D7: 4 | E7: حقل البحرين والمصفاة | F7: 148534000 | G7: 230724927 | H7: =G7-F7 -> 82190927 | I7: 206473297
A8: 40012 | B8: 1 | C8: 1 | D8: 4 | E8: حقل أبوسعفة | F8: 1141434000 | G8: 957404837 | H8: =G8-F8 -> -184029163 | I8: 2027312875
A9: 40014 | B9: 1 | C9: 1 | D9: 4 | E9: احتياطي الأجيال القادمة- حقل أبوسعفة | F9: -20641000 | G9: -17105245 | H9: =G9-F9 -> 3535755 | I9: -21172996
B10: 2 | C10: 1 | D10: 4 | E10: مبيعات الغاز | F10: =SUM(F11:F21) -> 414147000 | G10: =SUM(G11:G21) -> 411785821 | H10: =G10-F10 -> -2361179 | I10: =SUM(I11:I21) -> 434722091
A11: 40031 | B11: 2 | C11: 1 | D11: 4 | E11: محطة المنامة للكهرباء | F11: {=IFERROR(INDEX(#REF!,MATCH($D11&$C11&$B11&$A11,#REF!&#REF!&#REF!&#REF!,0)),0)} -> 0 | G11: {=IFERROR(INDEX(#REF!,MATCH($D11&$C11&$B11&$A11,#REF!&#REF!&#REF!&#REF!,0)),0)} -> 0 | H11: =G11-F11 -> 0 | I11: 0
A12: 40032 | B12: 2 | C12: 1 | D12: 4 | E12: محطة سترة للكهرباء | F12: 0 | G12: 0 | H12: =G12-F12 -> 0 | I12: 0
A13: 40033 | B13: 2 | C13: 1 | D13: 4 | E13: محطة سترة للمياه | F13: 0 | G13: 0 | H13: =G13-F13 -> 0 | I13: 0
A14: 40034 | B14: 2 | C14: 1 | D14: 4 | E14: محطة الرفاع للكهرباء | F14: 0 | G14: 0 | H14: =G14-F14 -> 0 | I14: 0
A15: 40035 | B15: 2 | C15: 1 | D15: 4 | E15: محطة الحد للكهرباء | F15: 64234000 | G15: 0 | H15: =G15-F15 -> -64234000 | I15: 0
A16: 40036 | B16: 2 | C16: 1 | D16: 4 | E16: محطة الحد للماء | F16: 0 | G16: 0 | H16: =G16-F16 -> 0
A17: 40037 | B17: 2 | C17: 1 | D17: 4 | E17: مبيعات الغاز- محطات الكهرباء والماء | F17: 51474000 | G17: 44113743 | H17: =G17-F17 -> -7360257 | I17: 62390724
A18: 40051 | B18: 2 | C18: 1 | D18: 4 | E18: شركة المنيوم البحرين (ألبا) | F18: 96495000 | G18: 90853535 | H18: =G18-F18 -> -5641465 | I18: 107213712
A19: 40052 | B19: 2 | C19: 1 | D19: 4 | E19: شركة نفط البحرين (بابكو) | F19: 38598000 | G19: 43778809 | H19: =G19-F19 -> 5180809 | I19: 38935826
A20: 40053 | B20: 2 | C20: 1 | D20: 4 | E20: شركة غاز البحرين الوطنية (بناغاز) | F20: 33392000 | G20: 28565322 | H20: =G20-F20 -> -4826678 | I20: 36231980
A21: 40054 | B21: 2 | C21: 1 | D21: 4 | E21: الشركات المحلية الاخرى | F21: 129954000 | G21: 204474412 | H21: =G21-F21 -> 74520412 | I21: 189949849
B22: 3 | C22: 1 | D22: 4 | E22: الضرائب والرسوم النفطية | F22: =SUM(F23:F27) -> 17313000 | G22: =SUM(G23:G27) -> 11862051 | H22: =SUM(H23:H25) -> -5450949 | I22: =SUM(I23:I27) -> 15011128
A23: 42011 | B23: 3 | C23: 1 | D23: 4 | E23: ضريبة دخل الغاز | F23: 11130000 | G23: 7282491 | H23: =G23-F23 -> -3847509 | I23: 10605738
A24: 42012 | B24: 3 | C24: 1 | D24: 4 | E24: رسوم تفتيش المنتجات النفطية | H24: =G24-F24 -> 0
A25: 42013 | B25: 3 | C25: 1 | D25: 4 | E25: ضريبة البنزين | F25: 6183000 | G25: 4579560 | H25: =G25-F25 -> -1603440 | I25: 4405390
B26: 4 | C26: 1 | D26: 4 | E26: عوائد الاستثمارات في النفط | F26: =F27 -> 0 | G26: =G27 -> 0 | H26: =H27 -> 0 | I26: =I27 -> 0
A27: 45014 | B27: 4 | C27: 1 | D27: 4 | E27: عوائد الاستثمارات في النفط | F27: 0 | G27: 0 | H27: =G27-F27 -> 0 | I27: 0
C28: 2 | D28: 4 | E28: الضرائب والرسوم | F28: =SUM(F29,F31,F38,F49) -> 193034053 | G28: =SUM(G29,G31,G38,G49) -> 224533723 | H28: =G28-F28 -> 31499670 | I28: =SUM(I29,I31,I38,I49) -> 202894933
B29: 1 | C29: 2 | D29: 4 | E29: الضرائب والرسوم على استهلاك السلع والمنتجات | F29: =SUM(F30) -> 0 | G29: =SUM(G30) -> 0 | H29: =G29-F29 -> 0 | I29: =SUM(I30) -> 0
A30: 42013 | B30: 1 | C30: 2 | D30: 4 | E30: ضريبة البنزين | F30: 0 | G30: 0 | H30: =G30-F30 -> 0 | I30: 0
B31: 2 | C31: 2 | D31: 4 | E31: الضرائب والرسوم على التجارة الدولية | F31: =SUM(F32:F37) -> 92470000 | G31: =SUM(G32:G37) -> 109205214 | H31: =G31-F31 -> 16735214 | I31: =SUM(I32:I37) -> 88587021
A32: 42501 | B32: 2 | C32: 2 | D32: 4 | E32: ضرائب جمركية على السلع الضرورية الأساسية | F32: 48000000 | G32: 52459852 | H32: =G32-F32 -> 4459852 | I32: 45313631
A33: 42503 | B33: 2 | C33: 2 | D33: 4 | E33: ضرائب جمركية على العربات | F33: 7500000 | G33: 18033658 | H33: =G33-F33 -> 10533658 | I33: 7457362
A34: 42504 | B34: 2 | C34: 2 | D34: 4 | E34: ضرائب جمركية على التبغ المصنع وغير المصنع ومشتقاته | F34: 16000000 | G34: 18300861 | H34: =G34-F34 -> 2300861 | I34: 16968822
A35: 42505 | B35: 2 | C35: 2 | D35: 4 | E35: ضرائب جمركية على السلع الكمالية | F35: 20000000 | G35: 19751712 | H35: =G35-F35 -> -248288 | I35: 17912053
A36: 42506 | B36: 2 | C36: 2 | D36: 4 | E36: ضرائب جمركية على اليخوت والزوارق والقوارب | F36: 400000 | G36: 80700 | H36: =G36-F36 -> -319300 | I36: 361304
A37: 42507 | B37: 2 | C37: 2 | D37: 4 | E37: ضريبة حماية الصناعة الوطنية | F37: 570000 | G37: 578431 | H37: =G37-F37 -> 8431 | I37: 573849
B38: 3 | C38: 2 | D38: 4 | E38: رسوم التسجيل والتراخيص | F38: =SUM(F39:F48) -> 1492552 | G38: =SUM(G39:G48) -> 2015906 | H38: =G38-F38 -> 523354 | I38: =SUM(I39:I48) -> 1957608
A39: 43011 | B39: 3 | C39: 2 | D39: 4 | E39: نشاطات التجارة العامة | F39: 30000 | G39: 78334 | H39: =G39-F39 -> 48334 | I39: 41885
A40: 43021 | B40: 3 | C40: 2 | D40: 4 | E40: نشاطات الصناعة | F40: 3000 | G40: 2541 | H40: =G40-F40 -> -459 | I40: 9603
A41: 43031 | B41: 3 | C41: 2 | D41: 4 | E41: نشاطات الخدمات المالية | F41: 10000 | G41: 45427 | H41: =G41-F41 -> 35427 | I41: 13892
A42: 43041 | B42: 3 | C42: 2 | D42: 4 | E42: نشاطات الخدمات المتنوعة | F42: 1065052 | G42: 1534627 | H42: =G42-F42 -> 469575 | I42: 1579778
A43: 43051 | B43: 3 | C43: 2 | D43: 4 | E43: رسوم تسجيل الوكالات التجارية | F43: 14500 | G43: 11062 | H43: =G43-F43 -> -3438 | I43: 13787
A44: 43061 | B44: 3 | C44: 2 | D44: 4 | E44: تراخيص مكاتب المحاماة | F44: 0 | G44: 0 | H44: =G44-F44 -> 0
A45: 43071 | B45: 3 | C45: 2 | D45: 4 | E45: رسوم تنظيم مزاولة المهن الهندسية | F45: 85000 | G45: 40000 | H45: =G45-F45 -> -45000 | I45: 40000
A46: 44041 | B46: 3 | C46: 2 | D46: 4 | E46: رسوم وتراخيص المواد الصيدلانية | F46: 35000 | G46: 32111 | H46: =G46-F46 -> -2889 | I46: 31799
A47: 44042 | B47: 3 | C47: 2 | D47: 4 | E47: رسوم وتراخيص المرافق الصحية | F47: 120000 | G47: 113996 | H47: =G47-F47 -> -6004 | I47: 109042
A48: 44043 | B48: 3 | C48: 2 | D48: 4 | E48: رسوم وتراخيص المهن الصحية | F48: 130000 | G48: 157808 | H48: =G48-F48 -> 27808 | I48: 117822
B49: 4 | C49: 2 | D49: 4 | E49: الرسوم والأتعاب الإدارية | F49: =SUM(F51:F62,F67:F87) -> 99071501 | G49: =SUM(G51:G62,G67:G87) -> 113312603 | H49: =SUM(H51:H62,H67:H87) -> 14241102 | I49: =SUM(I51:I62,I67:I87) -> 112350304
A50: 42012 | B50: 4 | C50: 2 | D50: 4 | E50: رسوم تفتيش المنتجات النفطية | F50: 0 | G50: 0 | H50: 0 | I50: 0
A51: 44011 | B51: 4 | C51: 2 | D51: 4 | E51: رسوم الجوازات | F51: 1800000 | G51: 676517 | H51: =G51-F51 -> -1123483 | I51: 982251
A52: 44012 | B52: 4 | C52: 2 | D52: 4 | E52: رسوم الإقامات | F52: 2437000 | G52: 2321112 | H52: =G52-F52 -> -115888 | I52: 2428954
A53: 44013 | B53: 4 | C53: 2 | D53: 4 | E53: رسوم التأشيرات وشهادات عدم الممانعة | F53: 9708000 | G53: 16781608 | H53: =G53-F53 -> 7073608 | I53: 11471167
A54: 44014 | B54: 4 | C54: 2 | D54: 4 | E54: رسوم البطاقة الشخصية | F54: 0 | G54: 0 | H54: =G54-F54 -> 0
A55: 44015 | B55: 4 | C55: 2 | D55: 4 | E55: رسوم البطاقة السكانية | F55: 1510000 | G55: 2201066 | H55: =G55-F55 -> 691066 | I55: 1475497
A56: 44016 | B56: 4 | C56: 2 | D56: 4 | E56: رسوم تقديم الخدمات الاستشارية | F56: 85000 | G56: 1233 | H56: =G56-F56 -> -83767 | I56: 7000
A57: 44021 | B57: 4 | C57: 2 | D57: 4 | E57: رسوم هيئة تنظيم سوق العمل | F57: 18500000 | G57: 19206856 | H57: =G57-F57 -> 706856 | I57: 24231174
A58: 44031 | B58: 4 | C58: 2 | D58: 4 | E58: رسوم رخص العمل | F58: 0 | G58: 0 | H58: =G58-F58 -> 0 | I58: 783410
A59: 44032 | B59: 4 | C59: 2 | D59: 4 | E59: رسوم تجديد رخص العمل | F59: 0 | G59: 0 | H59: =G59-F59 -> 0 | I59: 557105
A60: 44051 | B60: 4 | C60: 2 | D60: 4 | E60: رسوم تسجيل الملكية | F60: 150000 | G60: 116381 | H60: =G60-F60 -> -33619 | I60: 91573
A61: 44052 | B61: 4 | C61: 2 | D61: 4 | E61: رسوم نقل الملكية | F61: 20000000 | G61: 20686702 | H61: =G61-F61 -> 686702 | I61: 22418893
A62: 44071 | B62: 4 | C62: 2 | D62: 4 | E62: رسوم تسجيل العربات | F62: 15296000 | G62: 15717790 | H62: =G62-F62 -> 421790 | I62: 14490304
A63: 5- الإيرادات مصنفة حسب الأبواب والأقسام والبنود (تتمة)
A64: (دينار بحريني)
A65: التبويــب | E65: البيـــان | F65: 2015 | I65: 2014 الفعلي
A66: بند | B66: قسم | C66: باب | D66: نوع | F66: الاعتماد | G66: الفعلي | H66: الفرق
A67: 44072 | B67: 4 | C67: 2 | D67: 4 | E67: رسوم رخص السياقة | F67: 3727000 | G67: 4381225 | H67: =G67-F67 -> 654225 | I67: 3695338
A68: 44091 | B68: 4 | C68: 2 | D68: 4 | E68: رسوم قضائية | F68: 5104000 | G68: 5652851 | H68: =G68-F68 -> 548851 | I68: 4775298
A69: 44092 | B69: 4 | C69: 2 | D69: 4 | E69: رسوم التوثيق | F69: 580000 | G69: 613478 | H69: =G69-F69 -> 33478 | I69: 526107
A70: 44093 | B70: 4 | C70: 2 | D70: 4 | E70: رسوم تصديق المعاملات الرسمية | F70: 1660000 | G70: 1846493 | H70: =G70-F70 -> 186493 | I70: 2581558
A71: 44111 | B71: 4 | C71: 2 | D71: 4 | E71: رسوم تصنيف الفنادق | F71: 435500 | G71: 547350 | H71: =G71-F71 -> 111850 | I71: 456500
A72: 44112 | B72: 4 | C72: 2 | D72: 4 | E72: رسوم خدمات الفنادق | F72: 10000000 | G72: 12651162 | H72: =G72-F72 -> 2651162 | I72: 11427380
A73: 44131 | B73: 4 | C73: 2 | D73: 4 | E73: رسوم فحص الذهب | F73: 250000 | G73: 275209 | H73: =G73-F73 -> 25209 | I73: 236632
A74: 44132 | B74: 4 | C74: 2 | D74: 4 | E74: رسوم فحص اللؤلؤ | F74: 50000 | G74: 67315 | H74: =G74-F74 -> 17315 | I74: 56916
A75: 44151 | B75: 4 | C75: 2 | D75: 4 | E75: رسوم المواصفات والمقاييس | F75: 5000 | G75: 6981 | H75: =G75-F75 -> 1981 | I75: 6988
A76: 44152 | B76: 4 | C76: 2 | D76: 4 | E76: رسوم التصميمات والعلامات التجارية | F76: 1200000 | G76: 1349810 | H76: =G76-F76 -> 149810 | I76: 1299825
A77: 44153 | B77: 4 | C77: 2 | D77: 4 | E77: رسوم تأشير السجل والعلامات التجارية | F77: 3350000 | G77: 3599740 | H77: =G77-F77 -> 249740 | I77: 3739191
A78: 44171 | B78: 4 | C78: 2 | D78: 4 | E78: رسوم المغادرة | F78: 1140000 | G78: 2202764 | H78: =G78-F78 -> 1062764 | I78: 2016602
... A87: 44908 | B87: 4 | C87: 2 | D87: 4 | E87: رسوم تقديم الطلبات | F87: 497523 | G87: 352826 | H87: =G87-F87 -> -144697 | I87: 166574
C88: 3 | D88: 4 | E88: المنتجات الخدمية والسلعية الحكومية | F88: =F89+F139 -> 69540357 | G88: =G89+G139 -> 74776392 | H88: =G88-F88 -> 5236035 | I88: =I89+I139 -> 53917847
B89: 1 | C89: 3 | D89: 4 | E89: المنتجات الخدمية الحكومية | F89: =SUM(F90:F138) -> 68975099 | G89: =SUM(G90:G138) -> 74041839 | H89: =G89-F89 -> 5066740 | I89: =SUM(I90:I138) -> 53217516
A90: 40132 | B90: 1 | C90: 3 | D90: 4 | E90: مبيعات المطبوعات | F90: 0 | H90: =G90-F90 -> 0
A91: 40135 | B91: 1 | C91: 3 | D91: 4 | E91: مبيعات الإستمارات والأوراق الرسمية | F91: 0 | G91: 0 | H91: =G91-F91 -> 0 | I91: 0
A92: 40136 | B92: 1 | C92: 3 | D92: 4 | E92: تزويد المطار بالمعلومات | F92: 0 | H92: =G92-F92 -> 0
A93: 41011 | B93: 1 | C93: 3 | D93: 4 | E93: الغرف الخاصة بالمستشفيات | F93: 500000 | G93: 418152 | H93: =G93-F93 -> -81848 | I93: 420375
A94: 41012 | B94: 1 | C94: 3 | D94: 4 | E94: الرعاية الصحية الأساسية | F94: 28800000 | G94: 28482392 | H94: =G94-F94 -> -317608 | I94: 8560266
A95: 41013 | B95: 1 | C95: 3 | D95: 4 | E95: خدمات الصحة العامة | F95: 1450000 | G95: 1498793 | H95: =G95-F95 -> 48793 | I95: 1466385
A96: 41014 | B96: 1 | C96: 3 | D96: 4 | E96: الخدمات الطبية الخاصة | F96: 14000 | G96: 481754 | H96: =G96-F96 -> 467754 | I96: 18439
A97: 41015 | B97: 1 | C97: 3 | D97: 4 | E97: رسوم علاج اصابات حوادث الطرق | F97: 5000 | G97: 0 | H97: =G97-F97 -> -5000 | I97: 0
A98: 41016 | B98: 1 | C98: 3 | D98: 4 | E98: الطب الخاص المحدود | F98: 10000 | G98: 0 | H98: =G98-F98 -> -10000 | I98: 900
A99: 41017 | B99: 1 | C99: 3 | D99: 4 | E99: المرضى الخارجيون | F99: 1050000 | G99: 1408321 | H99: =G99-F99 -> 358321 | I99: 1224931
A100: 41018 | B100: 1 | C100: 3 | D100: 4 | E100: القومسيون الطبي | F100: 135000 | G100: 112715 | H100: =G100-F100 -> -22285 | I100: 115491
A101: 41019 | B101: 1 | C101: 3 | D101: 4 | E101: رسوم علاج اصابات العمل | F101: 270000 | G101: 290000 | H101: =G101-F101 -> 20000 | I101: 272660
A102: 41020 | B102: 1 | C102: 3 | D102: 4 | E102: رسوم الفحص الطبي للعمالة الجديدة | F102: 440000 | G102: 502674 | H102: =G102-F102 -> 62674 | I102: 455586
A103: 41021 | B103: 1 | C103: 3 | D103: 4 | E103: رسوم التسجيل في كلية العلوم الصحية | F103: 0 | G103: 0 | H103: =G103-F103 -> 0 | I103: 13000
A104: 41023 | B104: 1 | C104: 3 | D104: 4 | E104: رسوم الأشعة | F104: 35000 | G104: 66425 | H104: =G104-F104 -> 31425 | I104: 40884
... A119: 41055 | B119: 1 | C119: 3 | D119: 4 | E119: قيمة الأختام الجمركية للحاويات | F119: 55000 | G119: 56361 | H119: =G119-F119 -> 1361 | I119: 54339
A120: 41056 | B120: 1 | C120: 3 | D120: 4 | E120: الفحص بالشاشات التلفزيونية | F120: 0 | G120: 0
A121: 41071 | B121: 1 | C121: 3 | D121: 4 | E121: نزول الطائرات | F121: 500000 | G121: 1413901 | H121: =G121-F121 -> 913901 | I121: 604765
A122: 41072 | B122: 1 | C122: 3 | D122: 4 | E122: وقوف الطائرات | F122: 0 | G122: 175 | H122: =G122-F122 -> 175 | I122: 2626
...

Sheet الميزانية المعتمدة
A1: 6- ميزانية المصروفات المتكررة والمشاريع
I2: (دينار بحريني)
A3: البيـان | B3: الاعتمادات الأصلية | C3: الاعتماد الإضافي | D3: التعديل | E3: الاعتمادات بعد التعديل | F3: الإعتمادات المدورة من سنوات سابقة | G3: الاعتمادات المتوفرة | H3: المصروفات الفعلية | I3: الوفر (التجاوز)
A4: المصروفات المتكررة
A5: القوى العاملة | B5: 1407644662 | C5: - | D5: 5226461 | E5: =SUM(B5:D5) -> 1412871123 | F5: 0 | G5: =F5+E5 -> 1412871123 | H5: =' بيان الإيرادات والمصروفات'!$D$15 -> 1429500860 | I5: =G5-H5 -> -16629737
A6: الخدمات | B6: 165388878 | C6: - | D6: 21723594 | E6: =SUM(B6:D6) -> 187112472 | F6: 0 | G6: =F6+E6 -> 187112472 | H6: =' بيان الإيرادات والمصروفات'!$D$16 -> 238420990 | I6: =G6-H6 -> -51308518
A7: السلع الإستهلاكية | B7: 117223417 | C7: - | D7: 1522348 | E7: =SUM(B7:D7) -> 118745765 | F7: 0 | G7: =F7+E7 -> 118745765 | H7: =' بيان الإيرادات والمصروفات'!$D$17 -> 131180581 | I7: =G7-H7 -> -12434816
A8: السلع الرأسمالية | B8: 29786283 | C8: - | D8: -1896401 | E8: =SUM(B8:D8) -> 27889882 | F8: 0 | G8: =F8+E8 -> 27889882 | H8: =' بيان الإيرادات والمصروفات'!$D$18 -> 30313224 | I8: =G8-H8 -> -2423342
A9: الصيانة | B9: 56254943 | C9: - | D9: 1993420 | E9: =SUM(B9:D9) -> 58248363 | F9: 0 | G9: =F9+E9 -> 58248363 | H9: =' بيان الإيرادات والمصروفات'!$D$19 -> 59986238 | I9: =G9-H9 -> -1737875
A10: نفقات تحويلية | B10: 768391428 | C10: - | D10: -29760709 | E10: =SUM(B10:D10) -> 738630719 | F10: 0 | G10: =F10+E10 -> 738630719 | H10: =' بيان الإيرادات والمصروفات'!$D$20 -> 668488285 | I10: =G10-H10 -> 70142434
A11: الإعانات وتسديد فوائد القروض | B11: 611896389 | C11: - | D11: 1191287 | E11: =SUM(B11:D11) -> 613087676 | F11: 0 | G11: =F11+E11 -> 613087676 | H11: =' بيان الإيرادات والمصروفات'!$D$21 -> 557846113 | I11: =G11-H11 -> 55241563
A12: مجموع المصروفات المتكررة | B12: =SUM(B5:B11) -> 3156586000 | C12: - | D12: =SUM(D5:D11) -> 0 | E12: =SUM(E5:E11) -> 3156586000 | F12: =SUM(F5:F11) -> 0 | G12: =SUM(G5:G11) -> 3156586000 | H12: =SUM(H5:H11) -> 3115736291 | I12: =SUM(I5:I11) -> 40849709
A13: مصروفات المشاريع | B13: 445000000 | C13: - | D13: 0 | E13: =SUM(B13:D13) -> 445000000 | F13: 185000000 | G13: =F13+E13 -> 630000000 | H13: =' بيان الإيرادات والمصروفات'!$D$23 -> 443679113 | I13: =G13-H13 -> 186320887
A14: المجموع | B14: =B13+B12 -> 3601586000 | C14: - | D14: =D13+D12 -> 0 | E14: =E13+E12 -> 3601586000 | F14: =F13+F12 -> 185000000 | G14: =G13+G12 -> 3786586000 | H14: =H13+H12 -> 3559415404 | I14: =I13+I12 -> 227170596

Sheet مناقلات الميزانية
A1: 7- الميزانية الأصلية والتعديل والمناقلات للمصروفات المتكررة
G2: (دينار بحريني)
A3: البيـان | B3: الاعتمادات الأصلية | C3: الاعتماد الإضافي | D3: التعديل | E3: الاعتمادات بعد التعديل | F3: الاعتمادات المدورة من سنوات سابقة | G3: الاعتمادات المتوفرة
A4: قطاع الإدارة العامة | B4: =SUM(B5:B25) -> 1084305000 | C4: =SUM(C5:C25) -> 0 | D4: =SUM(D5:D25) -> 6226435 | E4: =SUM(E5:E25) -> 1090531435 | F4: =SUM(F5:F25) -> 0 | G4: =SUM(G5:G25) -> 1090531435
A5: ديوان صاحب السمو الملكي رئيس مجلس الوزراء | B5: 19342000 | C5: 0 | D5: 0 | E5: 19342000 | F5: 0 | G5: =+E5+F5 -> 19342000
A6: مكتب صاحب السمو الملكي النائب الأول لرئيس مجلس الوزراء | B6: 1860000 | C6: 0 | D6: 0 | E6: 1860000 | F6: 0 | G6: =+E6+F6 -> 1860000
A7: مكاتب نواب صاحب السمو الملكي رئيس مجلس الوزراء | B7: 3350000 | C7: 0 | D7: 292126 | E7: =B7+D7 -> 3642126 | F7: 0 | G7: =+E7+F7 -> 3642126
A8: مكاتب مستشاري صاحب السمو الملكي رئيس مجلس الوزراء | B8: 578000 | C8: 0 | D8: 9144 | E8: =B8+D8 -> 587144 | F8: 0 | G8: =+E8+F8 -> 587144
A9: مكتب وزير شئون مجلس الوزراء | B9: 334000 | C9: 0 | D9: 222013 | E9: =B9+D9 -> 556013 | F9: 0 | G9: =+E9+F9 -> 556013
A10: وزارة الدفاع (إيضاح رقم 13) | B10: 494450000 | C10: 0 | D10: 500000 | E10: =B10+D10 -> 494950000 | F10: 0 | G10: =+E10+F10 -> 494950000
A11: وزارة الداخلية | B11: 350400000 | C11: 0 | D11: 500000 | E11: =B11+D11 -> 350900000 | F11: 0 | G11: =+E11+F11 -> 350900000
A12: شئون الجمارك | B12: 15110000 | C12: 0 | D12: 0 | E12: =B12+D12 -> 15110000 | F12: 0 | G12: =+E12+F12 -> 15110000
A13: جهاز الأمن الوطني | B13: 35889000 | C13: 0 | D13: 0 | E13: =B13+D13 -> 35889000 | F13: 0 | G13: =+E13+F13 -> 35889000
A14: الحرس الوطني | B14: 40050000 | C14: 0 | D14: 0 | E14: =B14+D14 -> 40050000 | F14: 0 | G14: =+E14+F14 -> 40050000
A15: هيئة التشريع والإفتاء القانوني | B15: 2534000 | C15: 0 | D15: 75942 | E15: =B15+D15 -> 2609942 | F15: 0 | G15: =+E15+F15 -> 2609942
A16: وزارة الخارجية | B16: 30047000 | C16: 0 | D16: 785586 | E16: =B16+D16 -> 30832586 | F16: 0 | G16: =+E16+F16 -> 30832586
A17: وزارة العدل والشئون الإسلامية والأوقاف (شئون العدل) | B17: 10794000 | C17: 0 | D17: 500000 | E17: =B17+D17 -> 11294000 | F17: 0 | G17: =+E17+F17 -> 11294000
A18: الأمانة العامة لمجلس الوزراء | B18: 1566000 | C18: 0 | D18: 0 | E18: =B18+D18 -> 1566000 | F18: 0 | G18: =+E18+F18 -> 1566000
... A22: جهاز المساحة والتسجيل العقاري | B22: 7701000 | C22: 0 | D22: 955735 | E22: =B22+D22 -> 8656735 | F22: 0 | G22: =+E22+F22 -> 8656735
A23: الجهاز الاداري للنيابة العامة | B23: 3000000 | C23: 0 | D23: 361118 | E23: =B23+D23 -> 3361118 | G23: =+E23+F23 -> 3361118
A24: المجلس الأعلى للقضاء | B24: 12108000 | C24: 0 | D24: 500000 | E24: =B24+D24 -> 12608000 | F24: 0 | G24: =+E24+F24 -> 12608000
A25: مستشفى الملك حمد الجامعي (إيضاح رقم 14،13) | B25: 37430000 | C25: 0 | D25: 500000 | E25: =B25+D25 -> 37930000 | F25: 0 | G25: =+E25+F25 -> 37930000
A27: قطاع الخدمات الإجتماعية | B27: =SUM(B28:B39) -> 619345000 | C27: =SUM(C28:C39) -> 0 | D27: =SUM(D28:D39) -> 15083635 | E27: =SUM(E28:E39) -> 634428635 | F27: =SUM(F28:F39) -> 0 | G27: =SUM(G28:G39) -> 634428635
A28: هيئة البحرين للثقافة والآثار | B28: 7652000 | C28: 0 | D28: 21000 | E28: =B28+C28+D28 -> 7673000 | F28: 0 | G28: =+E28+F28 -> 7673000
A29: هيئة شئون الإعلام | B29: 21154000 | C29: 0 | D29: 2398053 | E29: =B29+C29+D29 -> 23552053 | F29: 0 | G29: =+E29+F29 -> 23552053
A30: وزارة التربية والتعليم | B30: 315472000 | C30: 0 | D30: 500000 | E30: =B30+C30+D30 -> 315972000 | F30: 0 | G30: =+E30+F30 -> 315972000
A31: وزارة الصحة | B31: 233912000 | C31: 0 | D31: 10500000 | E31: =B31+C31+D31 -> 244412000 | F31: 0 | G31: =+E31+F31 -> 244412000
A32: المجلس الأعلى للصحة | B32: 279000 | C32: 0 | D32: 388 | E32: =B32+C32+D32 -> 279388 | G32: =+E32+F32 -> 279388
A33: وزارة العمل والتنمية الإجتماعية (العمل) | B33: 5793000 | C33: 0 | D33: 257055 | E33: =B33+C33+D33 -> 6050055 | F33: 0 | G33: =+E33+F33 -> 6050055
A34: وزارة العمل والتنمية الإجتماعية (التنمية الاجتماعية) | B34: 10956000 | C34: 0 | D34: 1123639 | E34: =B34+C34+D34 -> 12079639 | F34: 0 | G34: =+E34+F34 -> 12079639
A35: وزارة شئون الشباب والرياضة | B35: 12239000 | C35: 0 | D35: 0 | E35: =B35+C35+D35 -> 12239000 | F35: 0 | G35: =+E35+F35 -> 12239000
A36: الأمانة العامة للمجلس الأعلى للشباب والرياضة | B36: 11184000 | C36: 0 | D36: 0 | E36: =B36+C36+D36 -> 11184000 | F36: 0 | G36: =+E36+F36 -> 11184000
A37: وزارة شئون الإعلام | B37: 425000 | C37: 0 | D37: 283500 | E37: =B37+C37+D37 -> 708500 | F37: 0 | G37: =+E37+F37 -> 708500
A38: وزارة شئون الشباب والرياضة (مكتب الوزير) | B38: 279000 | C38: 0 | D38: 0 | E38: =B38+C38+D38 -> 279000 | F38: 0 | G38: =+E38+F38 -> 279000
A39: وزارة شئون حقوق الإنسان | E39: =B39+C39+D39 -> 0 | F39: 0 | G39: =+E39+F39 -> 0
A41: قطاع الخدمات الإقتصادية | B41: =B42+B46+B47 -> 21873000 | C41: 0 | D41: =SUM(D42:D47) -> 799446 | E41: =SUM(E42:E47) -> 22672446 | F41: 0 | G41: =SUM(G42:G47) -> 22672446
A42: وزارة الصناعة والتجارة والسياحة | B42: 11653000 | C42: 0 | D42: 500000 | E42: =B42+C42+D42 -> 12153000 | F42: 0 | G42: =+E42+F42 -> 12153000
A43: 7- الميزانية الأصلية والتعديل والمناقلات للمصروفات المتكررة (تتمة)
G44: (دينار بحريني)
A45: البيـان | B45: الاعتمادات الأصلية | C45: الاعتماد الإضافي | D45: التعديل | E45: الاعتمادات بعد التعديل | F45: الاعتمادات المدورة من سنوات سابقة | G45: الاعتمادات المتوفرة
A46: الهيئة الوطنية للنفط والغاز | B46: 2466000 | C46: 0 | D46: 49446 | E46: =B46+C46+D46 -> 2515446 | F46: 0 | G46: =+E46+F46 -> 2515446
A47: وزارة المالية | B47: 7754000 | C47: 0 | D47: 250000 | E47: =B47+C47+D47 -> 8004000 | F47: 0 | G47: =+E47+F47 -> 8004000
A48: قطاع البنية الأساسية | B48: =SUM(B49:B53) -> 403472000 | C48: =SUM(C49:C53) -> 0 | D48: =SUM(D49:D53) -> 5733218 | E48: =SUM(E49:E53) -> 409205218 | F48: =SUM(F49:F53) -> 0 | G48: =SUM(G49:G53) -> 409205218
A49: وزارة الإسكان | B49: 5000000 | C49: 0 | D49: 316720 | E49: =B49+C49+D49 -> 5316720 | F49: 0 | G49: =+E49+F49 -> 5316720
A50: وزارة الأشغال وشئون البلديات والتخطيط العمراني (الأشغال) | B50: 39842000 | C50: 0 | D50: 5416498 | E50: =B50+C50+D50 -> 45258498 | F50: 0 | G50: =+E50+F50 -> 45258498
A51: مكتب وزير الطاقة | B51: 279000 | C51: 0 | D51: 0 | E51: =B51+C51+D51 -> 279000 | F51: 0 | G51: =+E51+F51 -> 279000
A52: هيئة الكهرباء والماء (إيضاح رقم 12) | B52: 325500000 | C52: 0 | D52: 0 | E52: =B52+C52+D52 -> 325500000 | F52: 0 | G52: =+E52+F52 -> 325500000
A53: وزارة المواصلات والاتصالات | B53: 32851000 | C53: 0 | D53: 0 | E53: =B53+C53+D53 -> 32851000 | F53: 0 | G53: =+E53+F53 -> 32851000
A55: الميزانيات المتنوعة | B55: =SUM(B56:B61) -> 37664000 | C55: =SUM(C56:C61) -> 0 | D55: =SUM(D56:D61) -> 1226888 | E55: =SUM(E56:E61) -> 38890888 | F55: =SUM(F56:F61) -> 0 | G55: =SUM(G56:G61) -> 38890888
A56: وزارة الأشغال وشئون البلديات والتخطيط العمراني (الإدارة العامة للتخطيط العمراني وإدارة الإستملاك والتعويض وشئون الزراعة والثروة البحرية) | B56: 11219000 | C56: 0 | D56: 693000 | E56: =B56+C56+D56 -> 11912000 | F56: 0 | G56: =+E56+F56 -> 11912000
A57: نادي راشد للفروسية وسباق الخيل | B57: 1876000 | C57: 0 | D57: 0 | E57: =B57+C57+D57 -> 1876000 | F57: 0 | G57: =+E57+F57 -> 1876000
A58: المجلس الأعلى للبيئة | B58: 6493000 | C58: 0 | D58: 401165 | E58: =B58+C58+D58 -> 6894165 | F58: 0 | G58: =+E58+F58 -> 6894165
A59: مركز الشيخ محمد بن خليفة آل خليفة التخصصي للقلب (إيضاح رقم 13) | B59: 15465000 | C59: 0 | D59: 0 | E59: =B59+C59+D59 -> 15465000 | F59: 0 | G59: =+E59+F59 -> 15465000
A60: وزارة شئون مجلسي الشورى والنواب | B60: 1486000 | C60: 0 | D60: 98546 | E60: =B60+C60+D60 -> 1584546 | F60: 0 | G60: =+E60+F60 -> 1584546
A61: مجلس المناقصات والمزايدات | B61: 1125000 | C61: 0 | D61: 34177 | E61: =B61+C61+D61 -> 1159177 | F61: 0 | G61: =+E61+F61 -> 1159177
A63: الميزانيات التحويلية وحسابات تحت اشراف وزارة المالية | B63: =B64+B107 -> 989927000 | C63: =C64+C107 -> 0 | D63: =D64+D107 -> -29069622 | E63: =E64+E107 -> 960857378 | F63: =F64+F107 -> 0 | G63: =G64+G107 -> 960857378
A64: الميزانيات التحويلية | B64: =SUM(B65:B106) -> 239406000 | C64: =SUM(C65:C106) -> 0 | D64: =SUM(D65:D106) -> 3712978 | E64: =SUM(E65:E106) -> 243118978 | F64: =SUM(F65:F106) -> 0 | G64: =SUM(G65:G106) -> 243118978
A65: المجالس البلدية | B65: 612000 | C65: 0 | D65: 0 | E65: =B65+C65+D65 -> 612000 | F65: 0 | G65: =+E65+F65 -> 612000
A66: المحكمة الدستورية | B66: 2362000 | C66: 0 | D66: 0 | E66: =B66+C66+D66 -> 2362000 | F66: 0 | G66: =+E66+F66 -> 2362000
A67: صندوق النفقة | B67: 250000 | C67: 0 | D67: 0 | E67: =B67+C67+D67 -> 250000 | F67: 0 | G67: =+E67+F67 -> 250000
A68: غرفة البحرين لتسوية المنازعات الاقتصادية والمالية والإستثمارية | B68: 1395000 | C68: 0 | D68: 0 | E68: =B68+C68+D68 -> 1395000 | F68: 0 | G68: =+E68+F68 -> 1395000
A69: هيئة المعلومات والحكومة الإلكترونية (الحكومة الإلكترونية) | B69: 3787000 | C69: 0 | D69: 1200000 | E69: =B69+C69+D69 -> 4987000 | F69: 0 | G69: =+E69+F69 -> 4987000
A70: الهيئه الوطنية لتنظيم المهن والخدمات الصحية | B70: 2037000 | C70: 0 | D70: 0 | E70: =B70+C70+D70 -> 2037000 | F70: 0 | G70: =+E70+F70 -> 2037000
A71: الأوقاف السنية | B71: 2700000 | C71: 0 | D71: 96000 | E71: =B71+C71+D71 -> 2796000 | F71: 0 | G71: =+E71+F71 -> 2796000
A72: الأوقاف الجعفرية | B72: 2700000 | C72: 0 | D72: 88000 | E72: =B72+C72+D72 -> 2788000 | F72: 0 | G72: =+E72+F72 -> 2788000
A73: شركة بورصة البحرين | B73: 500000 | C73: 0 | D73: 0 | E73: =B73+C73+D73 -> 500000 | F73: 0 | G73: =E73+F73 -> 500000
A74: جامعة البحرين | B74: 45178000 | C74: 0 | D74: 0 | E74: =B74+C74+D74 -> 45178000 | F74: 0 | G74: =+E74+F74 -> 45178000
A75: كلية المعلمين (جامعة البحرين) | B75: 5580000 | C75: 0 | D75: 0 | E75: =B75+C75+D75 -> 5580000 | F75: 0 | G75: =+E75+F75 -> 5580000
A76: بوليتكنك البحرين | B76: 12183000 | C76: 0 | D76: 500000 | E76: =B76+C76+D76 -> 12683000 | F76: 0 | G76: =+E76+F76 -> 12683000
A77: الهيئة الوطنية للمؤهلات وضمان جودة التعليم والتدريب | B77: 5022000 | C77: 0 | D77: 0 | E77: =B77+C77+D77 -> 5022000 | F77: 0 | G77: =+E77+F77 -> 5022000
A78: دعم السلع الغذائية | B78: 57000000 | C78: 0 | D78: 0 | E78: =B78+C78+D78 -> 57000000 | F78: 0 | G78: =+E78+F78 -> 57000000
A79: بيت القرآن | B79: 76000 | C79: 0 | D79: 0 | E79: =B79+C79+D79 -> 76000 | F79: 0 | G79: =+E79+F79 -> 76000
A80: مجلس الشورى | B80: 8970000 | C80: 0 | D80: 0 | E80: =B80+C80+D80 -> 8970000 | F80: 0 | G80: =+E80+F80 -> 8970000
A81: المحافظات | B81: 4650000 | C81: 0 | D81: 0 | E81: =B81+C81+D81 -> 4650000 | F81: 0 | G81: =+E81+F81 -> 4650000
A82: المجلس الأعلى للشئون الإسلامية | B82: 3054000 | C82: 0 | D82: 0 | E82: =B82+C82+D82 -> 3054000 | F82: 0 | G82: =+E82+F82 -> 3054000
A83: ديوان الرقابة المالية والإدارية | B83: 5400000 | C83: 0 | D83: 0 | E83: =B83+C83+D83 -> 5400000 | F83: 0 | G83: =+E83+F83 -> 5400000
A84: المؤسسة الوطنية لحقوق الإنسان | B84: 930000 | C84: 0 | D84: 0 | E84: =B84+C84+D84 -> 930000 | F84: 0 | G84: =+E84+F84 -> 930000
A85: جائزة عيسى لخدمة الإنسانية | B85: 930000 | C85: 0 | D85: 0 | E85: =B85+C85+D85 -> 930000 | F85: 0 | G85: =+E85+F85 -> 930000
... A93: معهد البحرين للتنمية السياسية | B93: 1395000 | C93: 0 | D93: 0 | E93: =B93+C93+D93 -> 1395000 | F93: 0 | G93: =+E93+F93 -> 1395000
A94: دعم برنامج الاسكان (علاوة الإيجار) | C94: 0 | E94: =B94+C94+D94 -> 0
A95: دعم برنامج الاسكان (تخفيض الأقساط الاسكانية) | C95: 0 | E95: =B95+C95+D95 -> 0
A96: معهد البحرين للإدارة العامة | B96: 1860000 | C96: 0 | D96: 0 | E96: =B96+C96+D96 -> 1860000 | F96: 0 | G96: =+E96+F96 -> 1860000
A97: هيئة تنظيم سوق العمل | B97: 6789000 | C97: 0 | D97: 0 | E97: =B97+C97+D97 -> 6789000 | F97: 0 | G97: =+E97+F97 -> 6789000
A98: الأمانة العامة لمجلس الدفاع الأعلى | C98: 0 | E98: =B98+C98+D98 -> 0
A99: معرض البحرين الدولي للطيران | B99: 1172000 | C99: 0 | D99: 0 | E99: =B99+C99+D99 -> 1172000 | F99: 0 | G99: =+E99+F99 -> 1172000
A100: مركز البحرين للدراسات الاستراتيجية والدولية والطاقة | B100: 1395000 | C100: 0 | D100: 0 | E100: =B100+C100+D100 -> 1395000 | F100: 0 | G100: =+E100+F100 -> 1395000
A101: صندوق الضمان الإجتماعي | B101: 21630000 | C101: 0 | D101: 0 | E101: =B101+C101+D101 -> 21630000 | F101: 0 | G101: =+E101+F101 -> 21630000
A102: الصندوق الإجتماعي الوطني | B102: 14700000 | C102: 0 | D102: 1027287 | E102: =B102+C102+D102 -> 15727287 | F102: 0 | G102: =+E102+F102 -> 15727287
A103: الهيئة العليا للإعلام والإتصال | B103: 279000 | C103: 0 | D103: 0 | E103: =B103+C103+D103 -> 279000 | F103: 0 | G103: =+E103+F103 -> 279000
A104: بدالة انترنت البحرين | B104: 1860000 | C104: 0 | D104: 0 | E104: =B104+C104+D104 -> 1860000 | F104: 0 | G104: =+E104+F104 -> 1860000
A105: قصر القضيبية | B105: 0 | C105: 0 | D105: 800000 | E105: =B105+C105+D105 -> 800000 | G105: =+E105+F105 -> 800000
A106: الهيئة الوطنية لعلوم الفضاء | B106: 279000 | C106: 0 | D106: 0 | E106: =B106+C106+D106 -> 279000 | F106: 0 | G106: =+E106+F106 -> 279000
A107: حسابات تحت إشراف وزارة المالية | B107: =SUM(B108:B128) -> 750521000 | C107: =SUM(C108:C128) -> 0 | D107: =SUM(D108:D128) -> -32782600 | E107: =SUM(E108:E128) -> 717738400 | F107: =SUM(F108:F128) -> 0 | G107: =SUM(G108:G128) -> 717738400
A108: فوائد الدين الحكومي | B108: 296000000 | C108: 0 | D108: 0 | E108: =B108+C108+D108 -> 296000000 | F108: 0 | G108: =+E108+F108 -> 296000000
A109: نصيب البحرين في مجلس التعاون | B109: 8500000 | C109: 0 | D109: 917543 | E109: =B109+C109+D109 -> 9417543 | F109: 0 | G109: =+E109+F109 -> 9417543
A110: مساعدات حكومية | B110: 2790000 | C110: 0 | D110: 0 | E110: =B110+C110+D110 -> 2790000 | F110: 0 | G110: =+E110+F110 -> 2790000
A111: حصة ومساهمة الحكومة في أنظمة التقاعد | B111: 800000 | C111: 0 | D111: 0 | E111: =B111+C111+D111 -> 800000 | F111: 0 | G111: =+E111+F111 -> 800000
A112: إشتراكات ومساهمات في منظمات الأمم المتحدة | B112: 2650000 | C112: 0 | D112: 2457880 | E112: =B112+C112+D112 -> 5107880 | F112: 0 | G112: =+E112+F112 -> 5107880
A113: برنامج الأمم المتحدة الإنمائي | B113: 0 | C113: 0 | D113: 750000 | E113: =B113+C113+D113 -> 750000 | F113: 0 | G113: =+E113+F113 -> 750000
A114: إلتزامات متنوعة | B114: 4100000 | C114: 0 | D114: 16368776 | E114: =B114+C114+D114 -> 20468776 | F114: 0 | G114: =+E114+F114 -> 20468776
...

Sheet مصروفات الوزارات
A1: 8- المصروفات المتكررة مصنفة حسب الأبواب والوزارات والجهات الحكومية
L2: (دينار بحريني)
A3: الوزارة أو الجهة الحكومية | B3: Code | C3: قوى عاملة | D3: خدمات | E3: سلع إستهلاكية | F3: سلع رأسمالية | G3: صيانة | H3: نفقات تحويلية | I3: إعانات وتسديد فوائد القروض | J3: المجموع | K3: الاعتماد | L3: الفعلي 2014
A4: ديوان صاحب السمو الملكي رئيس مجلس الوزراء | B4: 11 | C4: 4373017 | D4: 4179437 | E4: 174216 | F4: 78795 | G4: 12241 | H4: 10500000 | I4: 0 | J4: =SUM(C4:I4) -> 19317706 | K4: 19342000 | L4: 19622089
A5: وزارة الدفاع (إيضاح رقم 13) | B5: 12 | C5: 372852770 | D5: 38121005 | E5: 28415109 | F5: 14131595 | G5: 41390443 | H5: 0 | I5: 1243898 | J5: =SUM(C5:I5) -> 496154820 | K5: 494950000 | L5: 514475345
A6: وزارة الداخلية | B6: 13 | C6: 333084944 | D6: 23441418 | E6: 6962223 | F6: 4686864 | G6: 4464885 | H6: 0 | I6: 0 | J6: =SUM(C6:I6) -> 372640334 | K6: 350900000 | L6: 358410204
A7: جهاز الأمن الوطني | B7: 14 | C7: 0 | D7: 0 | E7: 0 | F7: 0 | G7: 0 | H7: 35889000 | I7: 0 | J7: =SUM(C7:I7) -> 35889000 | K7: 35889000 | L7: 39345280
A8: هيئة التشريع والإفتاء القانوني | B8: 15 | C8: 2170798 | D8: 405265 | E8: 19908 | F8: 4226 | G8: 9745 | H8: 0 | I8: 0 | J8: =SUM(C8:I8) -> 2609942 | K8: 2609942 | L8: 2559477
A9: وزارة الخارجية | B9: 16 | C9: 20720084 | D9: 8765550 | E9: 466410 | F9: 355504 | G9: 569619 | H9: 0 | I9: 56581 | J9: =SUM(C9:I9) -> 30933748 | K9: 30832586 | L9: 33917819
A10: وزارة العدل والشئون الإسلامية والأوقاف (شئون العدل) | B10: 18 | C10: 8789602 | D10: 2853767 | E10: 270419 | F10: 67689 | G10: 345118 | H10: 867 | I10: 148360 | J10: =SUM(C10:I10) -> 12475822 | K10: 11294000 | L10: 16646836
A11: وزارة التربية والتعليم | B11: 21 | C11: 287571711 | D11: 38573917 | E11: 3784287 | F11: 2342115 | G11: 1732297 | H11: 0 | I11: 75000 | J11: =SUM(C11:I11) -> 334079327 | K11: 315972000 | L11: 326522465
A12: وزارة الصحة | B12: 22 | C12: 157192632 | D12: 43371658 | E12: 71160388 | F12: 1448626 | G12: 4768369 | H12: 0 | I12: 5200 | J12: =SUM(C12:I12) -> 277946873 | K12: 244412000 | L12: 262753035
A13: وزارة الأشغال وشئون البلديات والتخطيط العمراني (الإدارة العامة للتخطيط العمراني وإدارة الإستملاك والتعويض وشئون الزراعة والثروة البحرية) | B13: 23 | C13: 8618398 | D13: 1727394 | E13: 450323 | F13: 182308 | G13: 95695 | H13: 689011 | I13: 0 | J13: =SUM(C13:I13) -> 11763129 | K13: 11912000 | L13: 17814267
A14: وزارة العمل والتنمية الاجتماعية (العمل) | B14: 24 | C14: 5031142 | D14: 673418 | E14: 72180 | F14: 51943 | G14: 33406 | H14: 0 | I14: 187966 | J14: =SUM(C14:I14) -> 6050055 | K14: 6050055 | L14: 6628449
A15: وزارة شئون الشباب والرياضة | B15: 26 | C15: 3499866 | D15: 3417156 | E15: 67140 | F15: 176788 | G15: 445516 | H15: 2538585 | I15: 2083369 | J15: =SUM(C15:I15) -> 12228420 | K15: 12239000 | L15: 12718968
... A18: مكتب صاحب السمو الملكي النائب الاول لرئيس مجلس الوزراء | B18: 70 | C18: 841890 | D18: 311111 | E18: 57111 | F18: 56236 | G18: 5024 | H18: 0 | I18: 45000 | J18: =SUM(C18:I18) -> 1316372 | K18: 1860000 | L18: 814906
A19: مكاتب نواب صاحب السمو الملكي رئيس مجلس الوزراء | B19: D | C19: 2664380 | D19: 537594 | E19: 53480 | F19: 10166 | G19: 16499 | H19: 0 | I19: 0 | J19: =SUM(C19:I19) -> 3282119 | K19: 3642126 | L19: 3218910
A20: مكاتب مستشاري صاحب السمو الملكي رئيس مجلس الوزراء | B20: A | C20: 451375 | D20: 94016 | E20: 1848 | F20: 1813 | G20: 3582 | H20: 0 | I20: 0 | J20: =SUM(C20:I20) -> 552634 | K20: 587144 | L20: 1013380
A21: مكتب وزير شئون مجلس الوزراء | B21: 32 | C21: 320909 | D21: 225268 | E21: 7821 | F21: 981 | G21: 1034 | H21: 0 | I21: 0 | J21: =SUM(C21:I21) -> 556013 | K21: 556013 | L21: 556811
A22: وزارة الصناعة والتجارة والسياحة | B22: 34 | C22: 8254178 | D22: 4013296 | E22: 106645 | F22: 62470 | G22: 189779 | H22: 0 | I22: 0 | J22: =SUM(C22:I22) -> 12626368 | K22: 12153000 | L22: 11567570
A23: وزارة الإسكان | B23: 36 | C23: 4324813 | D23: 708227 | E23: 91903 | F23: 35898 | G23: 155878 | H23: 0 | I23: 0 | J23: =SUM(C23:I23) -> 5316719 | K23: 5316720 | L23: 5443886
A24: وزارة الثقافة | J24: =SUM(C24:I24) -> 0 | K24: 0 | L24: 0
A25: مكتب وزير الطاقة | B25: 40 | C25: 124795 | D25: 72873 | E25: 7918 | F25: 0 | G25: 853 | H25: 0 | I25: 0 | J25: =SUM(C25:I25) -> 206439 | K25: 279000 | L25: 212949
A26: المجلس الأعلى للبيئة | B26: 41 | C26: 4509479 | D26: 1335130 | E26: 118509 | F26: 139492 | G26: 791555 | H26: 0 | I26: 0 | J26: =SUM(C26:I26) -> 6894165 | K26: 6894165 | L26: 7437298
A27: مركز الشيخ محمد بن خليفة آل خليفة التخصصي للقلب (إيضاح رقم 13) | B27: 43 | C27: 7741045 | D27: 286540 | E27: 5878236 | F27: 1196949 | G27: 361153 | H27: 0 | I27: 0 | J27: =SUM(C27:I27) -> 15463923 | K27: 15465000 | L27: 15699755
A28: وزارة الأشغال وشئون البلديات والتخطيط العمراني (الأشغال) | B28: 46 | C28: 25705168 | D28: 19069568 | E28: 185222 | F28: 161785 | G28: 136755 | H28: 0 | I28: 0 | J28: =SUM(C28:I28) -> 45258498 | K28: 45258498 | L28: 31446852
A29: 8- المصروفات المتكررة مصنفة حسب الأبواب والوزارات والجهات الحكومية (تتمة)
L30: (دينار بحريني)
A31: الوزارة أو الجهة الحكومية | B31: Code | C31: قوى عاملة | D31: خدمات | E31: سلع إستهلاكية | F31: سلع رأسمالية | G31: صيانة | H31: نفقات تحويلية | I31: إعانات وتسديد فوائد القروض | J31: المجموع | K31: الاعتماد | L31: الفعلي 2014
A32: هيئة الكهرباء والماء (إيضاح رقم 12) | B32: 47 | C32: 0 | D32: 0 | E32: 0 | F32: 0 | G32: 0 | H32: 325500000 | I32: 0 | J32: =SUM(C32:I32) -> 325500000 | K32: 325500000 | L32: 350000000
A33: وزارة المواصلات والإتصالات | B33: 48 | C33: 16517762 | D33: 14473969 | E33: 214622 | F33: 478092 | G33: 925215 | H33: 0 | I33: 0 | J33: =SUM(C33:I33) -> 32609660 | K33: 32851000 | L33: 28518425
A34: الحرس الوطني | B34: 50 | C34: 38901486 | D34: 612357 | E34: 306825 | F34: 11631 | G34: 101764 | H34: 0 | I34: 115937 | J34: =SUM(C34:I34) -> 40050000 | K34: 40050000 | L34: 40200000
A35: الهيئة الوطنية للنفط والغاز | B35: 51 | C35: 1491994 | D35: 964521 | E35: 16301 | F35: 28217 | G35: 14413 | H35: 0 | I35: 0 | J35: =SUM(C35:I35) -> 2515446 | K35: 2515446 | L35: 2706944
A36: وزارة الدولة لشئون الإتصالات | C36: 0 | D36: 0 | E36: 0 | F36: 0 | G36: 0 | H36: 0 | I36: 0 | J36: 0 | K36: 0 | L36: 297127
A37: وزارة شئون مجلسي الشورى والنواب | B37: 54 | C37: 1128078 | D37: 210282 | E37: 8318 | F37: 140648 | G37: 1706 | H37: 0 | I37: 0 | J37: =SUM(C37:I37) -> 1489032 | K37: 1584546 | L37: 1576167
A38: وزارة شئون الإعلام | B38: 55 | C38: 342382 | D38: 346344 | E38: 4711 | F38: 6713 | G38: 0 | H38: 0 | I38: 0 | J38: =SUM(C38:I38) -> 700150 | K38: 708500 | L38: 804645
A39: مجلـس المناقصات والمزايدات | B39: 59 | C39: 764643 | D39: 356921 | E39: 19392 | F39: 8141 | G39: 10079 | H39: 0 | I39: 0 | J39: =SUM(C39:I39) -> 1159176 | K39: 1159177 | L39: 1127386
A40: الميزانيات التحويلية (إيضاح رقم 10) | B40: 60 | C40: 0 | D40: 3747931 | E40: 0 | F40: 0 | G40: 0 | H40: 282285178 | I40: 553351657 | J40: =SUM(C40:I40) -> 839384766 | K40: 960857378 | L40: 798360264
A41: هيئة شئون الإعلام | B41: 65 | C41: 14756024 | D41: 6381502 | E41: 1333706 | F41: 166577 | G41: 350453 | H41: 0 | I41: 5000 | J41: =SUM(C41:I41) -> 22993262 | K41: 23552053 | L41: 23801986
A42: وزارة شئون حقوق الإنسان | C42: 0 | D42: 0 | E42: 0 | F42: 0 | G42: 0 | H42: 0 | I42: 0 | J42: 0 | K42: 0 | L42: 1062823
A43: هيئة البحرين للثقافة والآثار | B43: 66 | C43: 3820593 | D43: 2586705 | E43: 47124 | F43: 16955 | G43: 155591 | H43: 850000 | I43: 196000 | J43: =SUM(C43:I43) -> 7672968 | K43: 7673000 | L43: 9635613
A44: المجلس الأعلى للصحة | B44: 67 | C44: 108623 | D44: 104457 | E44: 6110 | F44: 57727 | G44: 2470 | H44: 0 | I44: 0 | J44: =SUM(C44:I44) -> 279387 | K44: 279388 | L44: 0
A45: الجهاز الإداري للنيابة العامة | B45: 68 | C45: 2345863 | D45: 780529 | E45: 43170 | F45: 99487 | G45: 92069 | H45: 0 | I45: 0 | J45: =SUM(C45:I45) -> 3361118 | K45: 3361118 | L45: 0
A46: الأمانة العامة لمجلس الوزراء | B46: 71 | C46: 1181724 | D46: 209409 | E46: 17688 | F46: 17474 | G46: 3271 | H46: 0 | I46: 0 | J46: =SUM(C46:I46) -> 1429566 | K46: 1566000 | L46: 1362257
A47: ديوان الخدمة المدنية | B47: 72 | C47: 5119423 | D47: 738039 | E47: 24571 | F47: 13622 | G47: 21174 | H47: 0 | I47: 0 | J47: =SUM(C47:I47) -> 5916829 | K47: 5916829 | L47: 6189898
A48: هيئة المعلومات والحكومة الإلكترونية (الجهاز المركزي للمعلومات سابقاُ) | B48: 73 | C48: 5918408 | D48: 1188837 | E48: 1349496 | F48: 129396 | G48: 430701 | H48: 0 | I48: 0 | J48: =SUM(C48:I48) -> 9016838 | K48: 8614000 | L48: 8684942
A49: الأمانة العامة للمجلس الأعلى للشباب والرياضة | B49: 75 | C49: 639321 | D49: 224779 | E49: 39523 | F49: 10332 | G49: 6110 | H49: 10235644 | I49: 19905 | J49: =SUM(C49:I49) -> 11175614 | K49: 11184000 | L49: 14995639
A50: المجلس الأعلى للقضاء | B50: 76 | C50: 11776232 | D50: 1177699 | E50: 34668 | F50: 11382 | G50: 9314 | H50: 0 | I50: 0 | J50: =SUM(C50:I50) -> 13009295 | K50: 12608000 | L50: 12311351
A51: وزارة العدل والشئون الإسلامية والأوقاف (الشئون الإسلامية) | B51: 77 | C51: 1838119 | D51: 2323525 | E51: 10980 | F51: 28038 | G51: 55280 | H51: 0 | I51: 0 | J51: =SUM(C51:I51) -> 4255942 | K51: 4255942 | L51: 4579012
A52: جهاز المساحة والتسجيل العقاري | B52: 78 | C52: 5554580 | D52: 2731132 | E52: 75209 | F52: 147321 | G52: 148493 | H52: 0 | I52: 0 | J52: =SUM(C52:I52) -> 8656735 | K52: 8656735 | L52: 6470564
A53: وزارة شئون الشباب والرياضة (مكتب الوزير) | B53: 79 | C53: 4667 | D53: 42476 | E53: 3432 | F53: 105 | G53: 0 | H53: 0 | I53: 184500 | J53: =SUM(C53:I53) -> 235180 | K53: 279000 | L53: 0
A54: وزارة المالية | B54: 81 | C54: 6280923 | D54: 1218033 | E54: 70810 | F54: 145671 | G54: 224493 | H54: 0 | I54: 0 | J54: =SUM(C54:I54) -> 7939930 | K54: 8004000 | L54: 7874088
... A56: مستشفى الملك حمد الجامعي (إيضاح رقم 14،13) | B56: 88 | C56: 25963290 | D56: 1788302 | E56: 8714849 | F56: 3297013 | G56: 1397057 | H56: 0 | I56: 0 | J56: =SUM(C56:I56) -> 41160511 | K56: 37930000 | L56: 39247352
A57: المجموع | C57: =SUM(C4:C28,C32:C56) -> 1429500860 | D57: =SUM(D4:D56) -> 238420990 | E57: =SUM(E4:E56) -> 131180581 | F57: =SUM(F4:F56) -> 30313224 | G57: =SUM(G4:G56) -> 59986238 | H57: =SUM(H4:H56) -> 668488285 | I57: =SUM(I4:I56) -> 557846113 | J57: =SUM(B57:I57) -> 3115736291 | K57: =SUM(K4:K56) -> 3156586000 | L57: =SUM(L4:L56) -> 3096230245

Sheet مصروفات الوزارات (2)
A1: 8- المصروفات المتكررة مصنفة حسب الأبواب والوزارات والجهات الحكومية
L2: (دينار بحريني)
A3: الوزارة أو الجهة الحكومية | B3: Code | C3: قوى عاملة | D3: خدمات | E3: سلع إستهلاكية | F3: سلع رأسمالية | G3: صيانة | H3: نفقات تحويلية | I3: إعانات وتسديد فوائد القروض | J3: المجموع | K3: الاعتماد | L3: الفعلي 2014
A4: ديوان صاحب السمو الملكي رئيس مجلس الوزراء | B4: 11 | C4: 4373017 | D4: 4179437 | E4: 174216 | F4: 78795 | G4: 12241 | H4: 10500000 | I4: 0 | J4: 19317706 | K4: 19342000 | L4: 19622089 | N4: ديوان صاحب السمو الملكي رئيس مجلس الوزراء
A5: وزارة الدفاع (إيضاح رقم 13) | B5: 12 | C5: 372852770 | D5: 38121005 | E5: 28415109 | F5: 14131595 | G5: 41390442 | H5: 0 | I5: 1243898 | J5: 496154820 | K5: 494950000 | L5: 514475345 | N5: وزارة الدفاع (إيضاح رقم 13)
A6: وزارة الداخلية | B6: 13 | C6: 333084944 | D6: 23441418 | E6: 6962223 | F6: 4686864 | G6: 4464885 | H6: 0 | I6: 0 | J6: 372640335 | K6: 350900000 | L6: 358410204 | N6: وزارة الداخلية
A7: جهاز الأمن الوطني | B7: 14 | C7: 0 | D7: 0 | E7: 0 | F7: 0 | G7: 0 | H7: 35889000 | I7: 0 | J7: 35889000 | K7: 35889000 | L7: 39345280 | N7: جهاز الأمن الوطني
A8: هيئة التشريع والإفتاء القانوني | B8: 15 | C8: 2170798 | D8: 405265 | E8: 19908 | F8: 4226 | G8: 9746 | H8: 0 | I8: 0 | J8: 2609942 | K8: 2609942 | L8: 2559477 | N8: هيئة التشريع والإفتاء القانوني
A9: وزارة الخارجية | B9: 16 | C9: 20720084 | D9: 8765550 | E9: 466410 | F9: 355504 | G9: 569619 | H9: 0 | I9: 56581 | J9: 30933748 | K9: 30832586 | L9: 33917819 | N9: وزارة الخارجية
A10: وزارة العدل والشئون الإسلامية والأوقاف (شئون العدل) | B10: 18 | C10: 8789602 | D10: 2853767 | E10: 270419 | F10: 67689 | G10: 345118 | H10: 867 | I10: 148360 | J10: 12475822 | K10: 11294000 | L10: 16646836 | N10: وزارة العدل والشئون الإسلامية والأوقاف - شئون العدل
A11: وزارة التربية والتعليم | B11: 21 | C11: 287571711 | D11: 38573917 | E11: 3784287 | F11: 2342115 | G11: 1732297 | H11: 0 | I11: 75000 | J11: 334079328 | K11: 315972000 | L11: 326522465 | N11: وزارة التربية والتعليم
A12: وزارة الصحة | B12: 22 | C12: 157192632 | D12: 43371658 | E12: 71160388 | F12: 1448626 | G12: 4768369 | H12: 0 | I12: 5200 | J12: 277946873 | K12: 244412000 | L12: 262753035 | N12: وزارة الصحة
A13: وزارة الأشغال وشئون البلديات والتخطيط العمراني (شئون البلديات والتخطيط العمراني) | B13: 23 | C13: 8618398 | D13: 1727394 | E13: 450323 | F13: 182308 | G13: 95695 | H13: 689011 | I13: 0 | J13: 11763130 | K13: 11912000 | L13: 17814267 | N13: وزارة الأشغال وشئون البلديات والتخطيط العمراني - الإدارة العامة للتخطيط العمراني وإدارة الإستملاك والتعويض وشئون الزراعة والثروة البحرية
A14: وزارة العمل والتنمية الاجتماعية (شئون العمل) | B14: 24 | C14: 5031142 | D14: 673418 | E14: 72180 | F14: 51943 | G14: 33406 | H14: 0 | I14: 187966 | J14: 6050055 | K14: 6050055 | L14: 6628449 | N14: وزارة العمل
A15: وزارة شئون الشباب والرياضة | B15: 26 | C15: 3499866 | D15: 3417156 | E15: 67140 | F15: 176788 | G15: 445516 | H15: 2538585 | I15: 2083369 | J15: 12228419 | K15: 12239000 | L15: 12718968 | N15: المؤسسة العامة للشباب والرياضة
... A18: مكتب صاحب السمو الملكي النائب الاول لرئيس مجلس الوزراء | B18: 70 | C18: 841890 | D18: 311111 | E18: 57111 | F18: 56236 | G18: 5024 | H18: 0 | I18: 45000 | J18: 1316372 | K18: 1860000 | L18: 814906 | N18: مكتب صاحب السمو الملكي النائب الأول لرئيس مجلس الوزراء
A19: مكاتب نواب صاحب السمو الملكي رئيس مجلس الوزراء | B19: D | C19: 2664380 | D19: 537594 | E19: 53480 | F19: 10166 | G19: 16499 | H19: 0 | I19: 0 | J19: 3282120 | K19: 3642126 | L19: 3218910 | N19: مكاتب نواب صاحب السمو الملكي رئيس مجلس الوزراء
A20: مكاتب مستشاري صاحب السمو الملكي رئيس مجلس الوزراء | B20: A | C20: 451376 | D20: 94016 | E20: 1848 | F20: 1813 | G20: 3582 | H20: 0 | I20: 0 | J20: 552636 | K20: 587144 | L20: 1013380 | N20: مكاتب مستشاري صاحب السمو الملكي رئيس مجلس الوزراء
A21: 8- المصروفات المتكررة مصنفة حسب الأبواب والوزارات والجهات الحكومية (تتمة)
L22: (دينار بحريني)
A23: الوزارة أو الجهة الحكومية | C23: قوى عاملة | D23: خدمات | E23: سلع إستهلاكية | F23: سلع رأسمالية | G23: صيانة | H23: نفقات تحويلية | I23: إعانات وتسديد فوائد القروض | J23: المجموع | K23: الاعتماد | L23: الفعلي 2014
A24: مكتب وزير شئون مجلس الوزراء | B24: 32 | C24: 320909 | D24: 225268 | E24: 7821 | F24: 981 | G24: 1034 | H24: 0 | I24: 0 | J24: 556012 | K24: 556013 | L24: 556811 | N24: مكتب وزير شئون المتابعة
A25: وزارة الصناعة والتجارة والسياحة | B25: 34 | C25: 8254178 | D25: 4013296 | E25: 106645 | F25: 62470 | G25: 189779 | H25: 0 | I25: 0 | J25: 12626368 | K25: 12153000 | L25: 11567570 | N25: وزارة الصناعة والتجارة
A26: وزارة الإسكان | B26: 36 | C26: 4324813 | D26: 708227 | E26: 91903 | F26: 35898 | G26: 155878 | H26: 0 | I26: 0 | J26: 5316719 | K26: 5316720 | L26: 5443886 | N26: وزارة الإسكان
A27: وزارة الثقافة | J27: =SUM(C27:I27) -> 0 | K27: 0 | L27: 0
A28: مكتب وزير الطاقة | B28: 40 | C28: 124795 | D28: 72873 | E28: 7918 | F28: 0 | G28: 853 | H28: 0 | I28: 0 | J28: 206438 | K28: 279000 | L28: 212949 | N28: مكتب وزير الطاقة
A29: المجلس الأعلى للبيئة | B29: 41 | C29: 4509479 | D29: 1335130 | E29: 118509 | F29: 139492 | G29: 791555 | H29: 0 | I29: 0 | J29: 6894164 | K29: 6894165 | L29: 7437298 | N29: المجلس الأعلى للبيئة
A30: مركز الشيخ محمد بن خليفة آل خليفة التخصصي للقلب (إيضاح رقم 13) | B30: 43 | C30: 7741045 | D30: 286540 | E30: 5878236 | F30: 1196949 | G30: 361153 | H30: 0 | I30: 0 | J30: 15463922 | K30: 15465000 | L30: 15699755 | N30: مركز الشيخ محمد بن خليفة آل خليفة التخصصي للقلب (إيضاح رقم 13)
A31: وزارة الأشغال وشئون البلديات والتخطيط العمراني (شئون الأشغال) | B31: 46 | C31: 25705168 | D31: 19069568 | E31: 185222 | F31: 161785 | G31: 136755 | H31: 0 | I31: 0 | J31: 45258497 | K31: 45258498 | L31: 31446852 | N31: وزارة الأشغال وشئون البلديات والتخطيط العمراني-الأشغال
A32: هيئة الكهرباء والماء (إيضاح رقم 12) | B32: 47 | C32: 0 | D32: 0 | E32: 0 | F32: 0 | G32: 0 | H32: 325500000 | I32: 0 | J32: 325500000 | K32: 325500000 | L32: 350000000 | N32: هيئة الكهرباء والماء (إيضاح رقم 12)
A33: وزارة المواصلات والاتصالات | B33: 48 | C33: 16517762 | D33: 14473969 | E33: 214622 | F33: 478092 | G33: 925215 | H33: 0 | I33: 0 | J33: 32609661 | K33: 32851000 | L33: 28518425 | N33: وزارة المواصلات والاتصالات
A34: الحرس الوطني | B34: 50 | C34: 38901486 | D34: 612357 | E34: 306825 | F34: 11631 | G34: 101764 | H34: 0 | I34: 115937 | J34: 40050000 | K34: 40050000 | L34: 40200000 | N34: الحرس الوطنى
A35: الهيئة الوطنية للنفط والغاز | B35: 51 | C35: 1491994 | D35: 964521 | E35: 16301 | F35: 28217 | G35: 14413 | H35: 0 | I35: 0 | J35: 2515446 | K35: 2515446 | L35: 2706944 | N35: الهيئة الوطنية للنفط والغاز
A36: وزارة شئون مجلسي الشورى والنواب | B36: 54 | C36: 1128078 | D36: 210282 | E36: 8318 | F36: 140648 | G36: 1706 | H36: 0 | I36: 0 | J36: 1489032 | K36: 1584546 | L36: 3224250 | N36: شئون الطيران المدني
A37: وزارة شئون الاعلام | B37: 55 | C37: 342382 | D37: 346344 | E37: 4711 | F37: 6713 | G37: 0 | H37: 0 | I37: 0 | J37: 700150 | K37: 708500 | L37: 804645 | N37: وزير الدولة لشئون الاتصالات
A38: مجلـس المناقصات والمزايدات | B38: 59 | C38: 764643 | D38: 356921 | E38: 19392 | F38: 8141 | G38: 10079 | H38: 0 | I38: 0 | J38: 1159177 | K38: 1159177 | L38: 1127386 | N38: وزارة شئون مجلسي الشورى والنواب
A39: الميزانية التحويلية | B39: 60 | C39: 0 | D39: 3747931 | E39: 0 | F39: 0 | G39: 0 | H39: 281085178 | I39: 553351657 | J39: 838184766 | K39: 960857378 | L39: 798360264 | N39: وزارة شئون الإعلام
... A42: المجلس الأعلى للصحة | B42: 67 | C42: 108623 | D42: 104457 | E42: 6110 | F42: 57727 | G42: 2470 | H42: 0 | I42: 0 | J42: 279388 | K42: 279388 | L42: 61887 | N42: الميزانية التحويلية (إيضاح رقم 10)
A43: 8- المصروفات المتكررة مصنفة حسب الأبواب والوزارات والجهات الحكومية (تتمة)
L44: (دينار بحريني)
A45: الوزارة أو الجهة الحكومية | C45: قوى عاملة | D45: خدمات | E45: سلع إستهلاكية | F45: سلع رأسمالية | G45: صيانة | H45: نفقات تحويلية | I45: إعانات وتسديد فوائد القروض | J45: المجموع | K45: الاعتماد | L45: الفعلي 2014
A46: الجهاز الإداري للنيابة العامة | B46: 68 | C46: 2345863 | D46: 780529 | E46: 43170 | F46: 99487 | G46: 92068 | H46: 0 | I46: 0 | J46: 3361118 | K46: 3361118 | L46: 0 | N46: هيئة شئون الإعلام
A47: الأمانة العامة لمجلس الوزراء | B47: 71 | C47: 1181724 | D47: 209409 | E47: 17688 | F47: 17474 | G47: 3271 | H47: 0 | I47: 0 | J47: 1429566 | K47: 1566000 | L47: 1362257 | N47: وزارة الثقافة
A48: ديوان الخدمة المدنية | B48: 72 | C48: 5119423 | D48: 738039 | E48: 24571 | F48: 13622 | G48: 21174 | H48: 0 | I48: 0 | J48: 5916829 | K48: 5916829 | L48: 6189898 | N48: الأمانة العامة لمجلس الوزراء
A49: هيئة المعلومات والحكومة الالكترونية (الجهاز المركزي للمعلومات سابقاُ) | B49: 73 | C49: 5918408 | D49: 1188837 | E49: 1349496 | F49: 129396 | G49: 430701 | H49: 0 | I49: 0 | J49: 9016838 | K49: 8614000 | L49: 8684942 | N49: ديوان الخدمة المدنية
A50: الأمانة العامة للمجلس الأعلى للشباب والرياضة | B50: 75 | C50: 639321 | D50: 224779 | E50: 39523 | F50: 10332 | G50: 6110 | H50: 10235645 | I50: 19905 | J50: 11175615 | K50: 11184000 | L50: 14995639 | N50: الجهاز المركزي للمعلومات
A51: المجلس الاعلى للقضاء | B51: 76 | C51: 11776232 | D51: 1177699 | E51: 34668 | F51: 11382 | G51: 9314 | H51: 0 | I51: 0 | J51: 13009294 | K51: 12608000 | L51: 12311351 | N51: الأمانة العامة للمجلس الأعلى للشباب والرياضة
A52: وزارة العدل والشئون الإسلامية والأوقاف (الشئون الإسلامية) | B52: 77 | C52: 1838119 | D52: 2323525 | E52: 10980 | F52: 28038 | G52: 55280 | H52: 0 | I52: 0 | J52: 4255942 | K52: 4255942 | L52: 4579012 | N52: المجلس الأعلى للقضاء
A53: جهاز المساحة والتسجيل العقاري | B53: 78 | C53: 5554580 | D53: 2731132 | E53: 75209 | F53: 147321 | G53: 148493 | H53: 0 | I53: 0 | J53: 8656734 | K53: 8656735 | L53: 6470564 | N53: وزارة العدل والشئون الإسلامية والأوقاف- الشئون الإسلامية
A54: وزارة شئون الشباب والرياضة (مكتب الوزير) | B54: 79 | C54: 4667 | D54: 42476 | E54: 3432 | F54: 105 | G54: 0 | H54: 0 | I54: 184500 | J54: 235180 | K54: 279000 | L54: 0 | N54: جهاز المساحة والتسجيل العقاري
A55: وزارة المالية | B55: 81 | C55: 6280923 | D55: 1218033 | E55: 70810 | F55: 145671 | G55: 224493 | H55: 0 | I55: 0 | J55: 7939930 | K55: 8004000 | L55: 7874088 | N55: وزارة المالية
A56: شئون الجمارك | B56: 83 | C56: 12624248 | D56: 799730 | E56: 184383 | F56: 137928 | G56: 106135 | H56: 0 | I56: 0 | J56: 13852424 | K56: 15110000 | L56: 17035966 | N56: شئون الجمارك
A57: مستشفى الملك حمد الجامعي (إيضاح رقم 14،13) | B57: 88 | C57: 25963291 | D57: 1788300 | E57: 8714846 | F57: 3297012 | G57: 1397060 | H57: 0 | I57: 0 | J57: 41160509 | K57: 37930000 | L57: 39247352 | N57: مستشفى الملك حمد (إيضاح رقم 14،13)
A58: المجموع | C58: =SUM(C4:C57) -> 1425434157 | D58: =SUM(D4:D57) -> 238420988 | E58: =SUM(E4:E57) -> 131180578 | F58: =SUM(F4:F57) -> 30313223 | G58: =SUM(G4:G57) -> 59986240 | H58: =SUM(H4:H57) -> 667288286 | I58: =SUM(I4:I57) -> 557846113 | J58: =SUM(J4:J57) -> 3110469587 | ... L58: =SUM(L4:L57) -> 3096580265

Sheet تفصيل المصروفات
A1: 9- المصروفات المتكررة مصنفة حسب الأبواب والأقسام والبنود
F2: (دينار بحريني)
A3: التبويــب | E3: البيـــان | F3: 2015 | I3: 2014 الفعلي
A4: بند | B4: قسم | C4: باب | D4: نوع | F4: الاعتماد | G4: الفعلي | H4: الفرق
C5: 1 | D5: 6 | E5: نفقات القوى العاملة | F5: =F6+F24+F40+F48+F59+F69+F83+F92 -> 1412871123 | G5: =G6+G24+G40+G48+G59+G69+G83+G92 -> 1429500860 | H5: =F5-G5 -> -16629737 | I5: =I6+I24+I40+I48+I59+I69+I83+I92 -> 1379273023
B6: 1 | C6: 1 | D6: 6 | E6: وظائف البحرينيين | F6: =SUM(F7:F23) -> 981168514 | G6: =SUM(G7:G23) -> 1071191771 | H6: =F6-G6 -> -90023257 | I6: =SUM(I7:I23) -> 1028944984
A7: 60011 | B7: 1 | C7: 1 | D7: 6 | E7: الرواتب الأساسية | F7: 764080709 | G7: 838627490 | H7: =F7-G7 -> -74546781 | I7: 807908770
A8: 60021 | B8: 1 | C8: 1 | D8: 6 | E8: العمل الإضافي | F8: 20089889 | G8: 20475248 | H8: =F8-G8 -> -385359 | I8: 19131688
A9: 61011 | B9: 1 | C9: 1 | D9: 6 | E9: العلاوة الإجتماعية | F9: 45363243 | G9: 49175974 | H9: =F9-G9 -> -3812731 | I9: 47469456
A10: 61012 | B10: 1 | C10: 1 | D10: 6 | E10: علاوة تحسين معيشة | F10: 58074410 | G10: 58803859 | H10: =F10-G10 -> -729449 | I10: 56691389
A11: 61021 | B11: 1 | C11: 1 | D11: 6 | E11: علاوة السيارة والمواصلات | F11: 24587785 | G11: 26725731 | H11: =F11-G11 -> -2137946 | I11: 25821003
A12: 61022 | B12: 1 | C12: 1 | D12: 6 | E12: علاوة الهاتف | F12: 3746176 | G12: 4032911 | H12: =F12-G12 -> -286735 | I12: 3735671
A13: 61031 | B13: 1 | C13: 1 | D13: 6 | E13: علاوات شخصية أخرى | F13: 40959553 | G13: 47060073 | H13: =F13-G13 -> -6100520 | I13: 44345283
A14: 61032 | B14: 1 | C14: 1 | D14: 6 | E14: مكافأة خاصة | F14: 99816 | G14: 1810 | H14: =F14-G14 -> 98006 | I14: 7316
A15: 61033 | B15: 1 | C15: 1 | D15: 6 | E15: مكافأة أداء | F15: 5400 | G15: 2500 | H15: =F15-G15 -> 2900 | I15: 5700
A16: 61034 | B16: 1 | C16: 1 | D16: 6 | E16: مكافأة انضباط | F16: 59920 | G16: 71800 | H16: =F16-G16 -> -11880 | I16: 81600
A17: 61035 | B17: 1 | C17: 1 | D17: 6 | E17: بدل علاوة الأطباء الاستشاريين | F17: 2615766 | G17: 2921255 | H17: =F17-G17 -> -305489 | I17: 2778740
A18: 61036 | B18: 1 | C18: 1 | D18: 6 | E18: بدل التفرغ للأطباء الاستشاريين | F18: 3513447 | G18: 3790432 | H18: =F18-G18 -> -276985 | I18: 3513447
... A23: 61991 | B23: 1 | C23: 1 | D23: 6 | E23: علاوات وتكاليف أخرى | F23: 11543933 | G23: 14108484 | H23: =F23-G23 -> -2564551 | I23: 12244994
B24: 2 | C24: 1 | D24: 6 | E24: وظائف غير البحرينيين | F24: =SUM(F25:F39) -> 213863910 | G24: =SUM(G25:G39) -> 133877222 | H24: =F24-G24 -> 79986688 | I24: =SUM(I25:I39) -> 130964936
A25: 60011 | B25: 2 | C25: 1 | D25: 6 | E25: الرواتب الأساسية | F25: 143743688 | G25: 77858448 | H25: =F25-G25 -> 65885240 | I25: 76943058
A26: 60021 | B26: 2 | C26: 1 | D26: 6 | E26: العمل الإضافي | F26: 2707068 | G26: 3315661 | H26: =F26-G26 -> -608593 | I26: 2920736
A27: 61011 | B27: 2 | C27: 1 | D27: 6 | E27: العلاوة الإجتماعية | F27: 5976812 | G27: 4089127 | H27: =F27-G27 -> 1887685 | I27: 3542170
A28: 61012 | B28: 2 | C28: 1 | D28: 6 | E28: علاوة تحسين معيشة | F28: 51715 | G28: 59205 | H28: =F28-G28 -> -7490 | I28: 54053
A29: 61021 | B29: 2 | C29: 1 | D29: 6 | E29: علاوة السيارة والمواصلات | F29: 3268148 | G29: 1601990 | H29: =F29-G29 -> 1666158 | I29: 1540284
A30: 61022 | B30: 2 | C30: 1 | D30: 6 | E30: علاوة الهاتف | F30: 193589 | G30: 245348 | H30: =F30-G30 -> -51759 | I30: 192106
A31: 61031 | B31: 2 | C31: 1 | D31: 6 | E31: علاوات شخصية أخرى | F31: 12635456 | G31: 4934774 | H31: =F31-G31 -> 7700682 | I31: 5869462
A32: 61034 | B32: 2 | C32: 1 | D32: 6 | E32: مكافأة انضباط | F32: 2200 | G32: 21800 | H32: =F32-G32 -> -19600 | I32: 16400
A33: 61035 | B33: 2 | C33: 1 | D33: 6 | E33: بدل علاوة الأطباء الاستشاريين | F33: 38906 | G33: 34336 | H33: =F33-G33 -> 4570 | I33: 38906
A34: 61036 | B34: 2 | C34: 1 | D34: 6 | E34: بدل التفرغ للعمل الحكومي للأطباء الاستشاريين | F34: 0 | G34: 0 | H34: =F34-G34 -> 0
A35: 61041 | B35: 2 | C35: 1 | D35: 6 | E35: بدل اغتراب | F35: 291849 | G35: 378266 | H35: =F35-G35 -> -86417 | I35: 193456
A36: 61042 | B36: 2 | C36: 1 | D36: 6 | E36: توظيف وإجازة وإنهاء عقود الموظفين | F36: 24743512 | G36: 14775083 | H36: =F36-G36 -> 9968429 | I36: 17489791
A37: 61043 | B37: 2 | C37: 1 | D37: 6 | E37: تكاليف السكن | F37: 14852568 | G37: 16422102 | H37: =F37-G37 -> -1569534 | I37: 15954010
A38: 61991 | B38: 2 | C38: 1 | D38: 6 | E38: علاوات وتكاليف أخرى | F38: 5356258 | G38: 10122207 | H38: =F38-G38 -> -4765949 | I38: 6206341
A39: 64021 | B39: 2 | C39: 1 | D39: 6 | E39: أجور السفر | F39: 2141 | G39: 18875 | H39: =F39-G39 -> -16734 | I39: 4163
B40: 3 | C40: 1 | D40: 6 | E40: الوظائف المؤقتة للبحرينيين | F40: =SUM(F41:F47) -> 2839869 | G40: =SUM(G41:G47) -> 2969914 | H40: =F40-G40 -> -130045 | I40: =SUM(I41:I47) -> 2870721
A41: 60011 | B41: 3 | C41: 1 | D41: 6 | E41: الرواتب الأساسية | F41: 2805311 | G41: 2935311 | H41: =F41-G41 -> -130000 | I41: 2833924
A42: 60021 | B42: 3 | C42: 1 | D42: 6 | E42: العمل الإضافي | F42: 5641 | G42: 6574 | H42: =F42-G42 -> -933 | I42: 7366
A43: 61011 | B43: 3 | C43: 1 | D43: 6 | E43: العلاوة الإجتماعية | F43: 19385 | G43: 17856 | H43: =F43-G43 -> 1529 | I43: 11710
A44: 61021 | B44: 3 | C44: 1 | D44: 6 | E44: علاوة السيارة والمواصلات | F44: 7887 | G44: 6124 | H44: =F44-G44 -> 1763 | I44: 4685
A45: 61022 | B45: 3 | C45: 1 | D45: 6 | E45: علاوة الهاتف | F45: 300 | G45: 300 | H45: =F45-G45 -> 0 | I45: 0
A46: 61031 | B46: 3 | C46: 1 | D46: 6 | E46: علاوات شخصية أخرى | F46: 1345 | G46: 349 | H46: =F46-G46 -> 996 | I46: 2136
A47: 61991 | B47: 3 | C47: 1 | D47: 6 | E47: علاوات وتكاليف أخرى | F47: 0 | G47: 3400 | H47: =F47-G47 -> -3400 | I47: 10900
B48: 4 | C48: 1 | D48: 6 | E48: الوظائف المؤقتة لغير البحرينيين | F48: =F49+F54+F55+F56 -> 51687 | G48: =G49+G54+G55+G56 -> 22887 | H48: =H49+H54+H55+H56 -> 28800 | I48: =I49+I54+I55+I56 -> 343104
A49: 60011 | B49: 4 | C49: 1 | D49: 6 | E49: الرواتب الأساسية | F49: 43451 | G49: 19594 | H49: =F49-G49 -> 23857 | I49: 334286
A50: 9- المصروفات المتكررة مصنفة حسب الأبواب والأقسام والبنود (تتمة)
F51: (دينار بحريني)
A52: التبويــب | E52: البيـــان | F52: 2015 | I52: 2014 الفعلي
A53: بند | B53: قسم | C53: باب | D53: نوع | F53: الاعتماد | G53: الفعلي | H53: الفرق
A54: 60021 | B54: 4 | C54: 1 | D54: 6 | E54: العمل الإضافي | F54: 2297 | G54: 693 | H54: =F54-G54 -> 1604 | I54: 2552
A55: 61011 | B55: 4 | C55: 1 | D55: 6 | E55: العلاوة الإجتماعية | F55: 4403 | G55: 1907 | H55: =F55-G55 -> 2496 | I55: 4559
A56: 61021 | B56: 4 | C56: 1 | D56: 6 | E56: علاوة السيارة والمواصلات | F56: 1536 | G56: 693 | H56: =F56-G56 -> 843 | I56: 1707
A57: 61031 | B57: 4 | C57: 1 | D57: 6 | E57: علاوات شخصية أخرى | H57: =F57-G57 -> 0
A58: 61991 | B58: 4 | C58: 1 | D58: 6 | E58: علاوات وتكاليف أخرى | F58: 0 | G58: 0 | H58: =F58-G58 -> 0 | I58: 0
B59: 5 | C59: 1 | D59: 6 | E59: تدريب الموظفين داخل البحرين | F59: =F60+SUM(F61:F68) -> 7450284 | G59: =G60+SUM(G61:G68) -> 9487483 | H59: =F59-G59 -> -2037199 | I59: =I60+SUM(I61:I68) -> 8653793
A60: 61051 | B60: 5 | C60: 1 | D60: 6 | E60: مخصصات التدريب | F60: 122559 | G60: 126184 | H60: =F60-G60 -> -3625 | I60: 177962
A61: 61052 | B61: 5 | C61: 1 | D61: 6 | E61: مخصصات التدريب لتقنية المعلومات | F61: 2950 | G61: 0 | H61: =F61-G61 -> 2950 | I61: 0
A62: 62011 | B62: 5 | C62: 1 | D62: 6 | E62: تكاليف المقررات والرسوم الدراسية | F62: 7163308 | G62: 9262210 | H62: =F62-G62 -> -2098902 | I62: 8336543
A63: 62012 | B63: 5 | C63: 1 | D63: 6 | E63: تكاليف المقررات الدراسية للحاسب الآلي | F63: 20550 | G63: 36 | H63: =F63-G63 -> 20514 | I63: 734
A64: 62014 | B64: 5 | C64: 1 | D64: 6 | E64: تكاليف المقررات والرسوم الدراسية لتقنية المعلومات | F64: 18495 | G64: 4180 | H64: =F64-G64 -> 14315 | I64: 30049
A65: 62021 | B65: 5 | C65: 1 | D65: 6 | E65: مؤتمرات داخلية | F65: 0 | G65: 0 | H65: =F65-G65 -> 0 | I65: 0
A66: 62024 | B66: 5 | C66: 1 | D66: 6 | E66: تكاليف الدراسة الأكاديمية والمهنية | F66: 107348 | G66: 68241 | H66: =F66-G66 -> 39107 | I66: 89678
A67: 74021 | B67: 5 | C67: 1 | D67: 6 | E67: تكاليف الكتب وأدوات القرطاسية | F67: 15074 | G67: 12117 | H67: =F67-G67 -> 2957 | I67: 18827
A68: 74022 | B68: 5 | C68: 1 | D68: 6 | E68: تكاليف المواد الدراسية لتقنية المعلومات | F68: 0 | G68: 14515 | H68: =F68-G68 -> -14515 | I68: 0
B69: 6 | C69: 1 | D69: 6 | E69: تدريب الموظفين خارج البحرين | F69: =SUM(F70:F82) -> 23646086 | G69: =SUM(G70:G82) -> 25616180 | H69: =F69-G69 -> -1970094 | I69: =SUM(I70:I82) -> 25811453
A70: 61051 | B70: 6 | C70: 1 | D70: 6 | E70: مخصصات التدريب | F70: 11013580 | G70: 12161086 | H70: =F70-G70 -> -1147506 | I70: 11227181
A71: 61052 | B71: 6 | C71: 1 | D71: 6 | E71: مخصصات التدريب لتقنية المعلومات | F71: 1000 | G71: 1200 | H71: =F71-G71 -> -200 | I71: 684
A72: 61059 | B72: 6 | C72: 1 | D72: 6 | E72: علاوات التدريب | F72: 191415 | G72: 215622 | H72: =F72-G72 -> -24207 | I72: 230994
A73: 61992 | B73: 6 | C73: 1 | D73: 6 | E73: علاوات التدريب لتقنية المعلومات | F73: 0 | G73: 0 | H73: =F73-G73 -> 0 | I73: 0
A74: 62011 | B74: 6 | C74: 1 | D74: 6 | E74: تكاليف المقررات والرسوم الدراسية | F74: 7882087 | G74: 8145482 | H74: =F74-G74 -> -263395 | I74: 9399710
A75: 62012 | B75: 6 | C75: 1 | D75: 6 | E75: تكاليف المقررات الدراسية للحاسب الآلي | F75: 1142 | G75: 0 | H75: =F75-G75 -> 1142 | I75: 393
A76: 62014 | B76: 6 | C76: 1 | D76: 6 | E76: تكاليف المقررات والرسوم الدراسية لتقنية المعلومات | F76: 1116 | G76: 0 | H76: =F76-G76 -> 1116 | I76: 2119
A77: 62024 | B77: 6 | C77: 1 | D77: 6 | E77: تكاليف الدراسة الأكاديمية والمهنية | F77: 68282 | G77: 34658 | H77: =F77-G77 -> 33624 | I77: 38484
A78: 64021 | B78: 6 | C78: 1 | D78: 6 | E78: أجور السفر | F78: 4480766 | G78: 5047424 | H78: =F78-G78 -> -566658 | I78: 4904193
A79: 64022 | B79: 6 | C79: 1 | D79: 6 | E79: أجور السفر لدورات تقنية المعلومات | F79: 226 | G79: 190 | H79: =F79-G79 -> 36 | I79: 1479
A80: 74021 | B80: 6 | C80: 1 | D80: 6 | E80: تكاليف الكتب وأدوات القرطاسية | F80: 6472 | G80: 10518 | H80: =F80-G80 -> -4046 | I80: 6216
A81: 74022 | B81: 6 | C81: 1 | D81: 6 | E81: تكاليف المواد الدراسية لتقنية المعلومات | F81: 0 | G81: 0 | H81: =F81-G81 -> 0 | I81: 0
A82: 75999 | B82: 6 | C82: 1 | D82: 6 | E82: أدوات ومعدات أخرى | H82: =F82-G82 -> 0
B83: 7 | C83: 1 | D83: 6 | E83: الفوائد النقدية والعينية للموظفين | F83: =SUM(F84:F91) -> 178475083 | G83: =SUM(G84:G91) -> 181639829 | H83: =F83-G83 -> -3164746 | I83: =SUM(I84:I91) -> 175597738
A84: 63011 | B84: 7 | C84: 1 | D84: 6 | E84: حصة الحكومة في نظام التقاعد المدني | F84: 80848146 | G84: 79271352 | H84: =F84-G84 -> 1576794 | I84: 77583171
A85: 63012 | B85: 7 | C85: 1 | D85: 6 | E85: نظام التقاعد للعسكريين البحرينيين | F85: 58745000 | G85: 56700811 | H85: =F85-G85 -> 2044189 | I85: 53526614
A86: 63013 | B86: 7 | C86: 1 | D86: 6 | E86: نظام المكافآت للعسكريين غير البحرينيين | F86: 7650000 | G86: 6738839 | H86: =F86-G86 -> 911161 | I86: 6503393
A87: 63014 | B87: 7 | C87: 1 | D87: 6 | E87: حصة الحكومة في نظام التأمين ضد التعطل | F87: 8332390 | G87: 8706551 | H87: =F87-G87 -> -374161 | I87: 8696457
A88: 63015 | B88: 7 | C88: 1 | D88: 6 | E88: مكافأة شراء مدة الخدمة الافتراضية | F88: 3688499 | G88: 3524493 | H88: =F88-G88 -> 164006 | I88: 2883236
A89: 70031 | B89: 7 | C89: 1 | D89: 6 | E89: إيجار المركبات والشاحنات | F89: 0 | G89: 0 | H89: =F89-G89 -> 0
A90: 75031 | B90: 7 | C90: 1 | D90: 6 | E90: ملابس للموظفين | F90: 7084437 | G90: 7177923 | H90: =F90-G90 -> -93486 | I90: 6620725
A91: 75033 | B91: 7 | C91: 1 | D91: 6 | E91: أغذية للموظفين | F91: 12126611 | G91: 19519860 | H91: =F91-G91 -> -7393249 | I91: 19784142
B92: 8 | C92: 1 | D92: 6 | E92: توريد الأيدي العاملة والعمل الجزئي | F92: =SUM(F93:F94) -> 5375690 | G92: =SUM(G93:G94) -> 4695574 | H92: =F92-G92 -> 680116 | I92: =SUM(I93:I94) -> 6086294
A93: 65041 | B93: 8 | C93: 1 | D93: 6 | E93: توريد الأيدي العاملة | F93: 1110892 | G93: 803731 | H93: =F93-G93 -> 307161 | I93: 1029256
A94: 65042 | B94: 8 | C94: 1 | D94: 6 | E94: العمل الجزئي | F94: 4264798 | G94: 3891843 | H94: =F94-G94 -> 372955 | I94: 5057038
C95: 2 | D95: 6 | E95: نفقات الخدمات | F95: =F96+F104+F121+F126+F138+F146+F155+F166 -> 187112472 | G95: =G96+G104+G121+G126+G138+G146+G155+G166 -> 238420990 | H95: =F95-G95 -> -51308518 | I95: =I96+I104+I121+I126+I138+I146+I155+I166 -> 223123791
B96: 1 | C96: 2 | D96: 6 | E96: نفقات إقامة المؤتمرات والمهمات الرسمية والمعارض والدورات | F96: =SUM(F97:F103) -> 16294139 | G96: =SUM(G97:G103) -> 19408825 | H96: =F96-G96 -> -3114686 | I96: =SUM(I97:I103) -> 22729039
A97: 62021 | B97: 1 | C97: 2 | D97: 6 | E97: مؤتمرات داخل البحرين | F97: 962252 | G97: 934821 | H97: =F97-G97 -> 27431 | I97: 1269265
A98: 62022 | B98: 1 | C98: 2 | D98: 6 | E98: مؤتمرات ومهمات رسمية خارج البحرين | F98: 7773789 | G98: 11672476 | H98: =F98-G98 -> -3898687 | I98: 12382979
A99: 62023 | B99: 1 | C99: 2 | D99: 6 | E99: نفقات المهام الرسمية | F99: 171408 | G99: 146314 | H99: =F99-G99 -> 25094 | I99: 77041
A100: 62031 | B100: 1 | C100: 2 | D100: 6 | E100: نفقات إقامة المعارض داخل وخارج البحرين | F100: 2030978 | G100: 1995027 | H100: =F100-G100 -> 35951 | I100: 3537224
A101: 62041 | B101: 1 | C101: 2 | D101: 6 | E101: نفقات إقامة الدورات الرياضية داخل البحرين | F101: 23000 | G101: 20524 | H101: =F101-G101 -> 2476 | I101: 41287
A102: 62042 | B102: 1 | C102: 2 | D102: 6 | E102: نفقات إقامة الدورات الرياضية خارج البحرين | F102: 910180 | G102: 907532 | H102: =F102-G102 -> 2648 | I102: 801174
A103: 68021 | B103: 1 | C103: 2 | D103: 6 | E103: نفقات الضيافة داخل البحرين | F103: 4422532 | G103: 3732131 | H103: =F103-G103 -> 690401 | I103: 4620069
B104: 2 | C104: 2 | D104: 6 | E104: الإتصالات والتراخيص | F104: =SUM(F105:F120) -> 10765172 | G104: =SUM(G105:G120) -> 12001421 | H104: =F104-G104 -> -1236249 | I104: =SUM(I105:I120) -> 11864674
...

Sheet مصروفات الميزانية التحويلية
A1: 10- مصروفات الميزانيات التحويلية
E2: (دينار بحريني)
A3: البيان | B3: 2015 | E3: الفعلي 2014
B4: الاعتماد | C4: الفعلي | D4: نسبة الصرف %
A5: الجهات ذات الميزانيات الملحقة والمستقلة | B5: 160088978 | C5: 158082703 | D5: =(C5/B5)*100 -> 98.746775 | E5: 148584334
A6: المساهمات في المنظمات الإقليمية والدولية | B6: 15275423 | C6: 14225736 | D6: =(C6/B6)*100 -> 93.128262 | E6: 13020541
A7: دعم الأسر محدودة الدخل | B7: 115000000 | C7: 110392130 | D7: =(C7/B7)*100 -> 95.993157 | E7: 114422620
A8: دعم السلع الغذائية (اللحوم-الدواجن-الطحين) | B8: 57000000 | C8: 47335499 | D8: =(C8/B8)*100 -> 83.044735 | E8: 57314788
A9: الهيئة العامة للتأمين الاجتماعي | B9: 18913640 | C9: 18913639 | D9: =(C9/B9)*100 -> 99.999995 | E9: 17044693
A10: حصة ومساهمة الحكومة في أنظمة التقاعد | B10: 800000 | C10: 16835 | D10: =(C10/B10)*100 -> 2.104375 | E10: 2802437
A11: برنامج التقاعد المبكر | B11: 2790000 | C11: 0 | D11: - | E11: 0
A12: حصة الحكومة في التأمين ضد التعطل | B12: 17840822 | C12: 17840821 | D12: =(C12/B12)*100 -> 99.999994 | E12: 13761592
A13: صندوق الضمان الاجتماعي | B13: 21630000 | C13: 17800000 | D13: =(C13/B13)*100 -> 82.293111 | E13: 20062815
A14: علاوة تحسين مستوى المعيشة للمتقاعدين | B14: 125000000 | C14: 110438860 | D14: =(C14/B14)*100 -> 88.351088 | E14: 92608207
A15: دعم برامج الاسكان (علاوة الايجار-تخفيض الأقساط) | B15: 51952400 | C15: 47952400 | D15: =(C15/B15)*100 -> 92.300644 | E15: 48761700
A16: مساعدات حكومية | B16: 7190000 | C16: 5216165 | D16: =(C16/B16)*100 -> 72.547497 | E16: 13728314
A17: الفوائد على القروض والصكوك | B17: 296000000 | C17: 269457882 | D17: =(C17/B17)*100 -> 91.033068 | E17: 227355339
A18: إلتزامات متنوعة ومبالغ محجوزة أو مدورة | B18: 71376115 | C18: 21712096 | D18: =(C18/B18)*100 -> 30.419274 | E18: 28892884
A19: المجموع | B19: =SUM(B5:B18) -> 960857378 | C19: =SUM(C5:C18) -> 839384766 | D19: =(C19/B19)*100 -> 87.357894 | E19: =SUM(E5:E18) -> 798360264

Sheet مشاريع
A1: 11- مصروفات المشاريع مصنفة حسب الوزارات والجهات الحكومية
F2: (دينار بحريني)
A3: الوزارة أو الجهة الحكومية | C3: 2015 | F3: الفعلي 2014
B4: Code | C4: الاعتماد | D4: الفعلي | E4: نسبة الصرف %
A5: وزارة الداخلية | B5: 13 | C5: 38755028 | D5: 31276833 | E5: =D5/C5*100 -> 80.703936 | F5: 19650560
A6: جهاز الأمن الوطني | B6: 14 | C6: 0 | D6: 0 | E6: =IFERROR(D6/C6*100,0) -> 0 | F6: 208000
A7: هيئة التشريع والإفتاء القانوني | B7: 15 | C7: 0 | D7: 0 | E7: =IFERROR(D7/C7*100,0) -> 0 | F7: 137000
A8: وزارة الخارجية | B8: 16 | C8: 2185198 | D8: 987912 | E8: =D8/C8*100 -> 45.209267 | F8: 215690
A9: مكاتب نواب صاحب السمو الملكي رئيس مجلس الوزراء | B9: 17 | C9: 15000 | D9: 15000 | E9: =D9/C9*100 -> 100 | F9: 44200
A10: وزارة العدل والشئون الإسلامية والأوقاف (شئون العدل) | B10: 18 | C10: 1894583 | D10: 200090 | E10: =D10/C10*100 -> 10.561163 | F10: 690458
A11: وزارة التربية والتعليم | B11: 21 | C11: 13608151 | D11: 4432953 | E11: =D11/C11*100 -> 32.575719 | F11: 6576258
A12: وزارة الصحة | B12: 22 | C12: 16238207 | D12: 8570086 | E12: =D12/C12*100 -> 52.777292 | F12: 11635577
A13: وزارة الأشغال وشئون البلديات والتخطيط العمراني (الإدارة العامة للتخطيط العمراني وإدارة الإستملاك والتعويض وشئون الزراعة والثروة البحرية) | B13: 23 | C13: 16079981 | D13: 8548357 | E13: =D13/C13*100 -> 53.161487 | F13: 9089225
A14: وزارة العمل والتنمية الاجتماعية (العمل) | B14: 24 | C14: 398945 | D14: 181466 | E14: =D14/C14*100 -> 45.486471 | F14: 137191
A15: وزارة شئون الشباب والرياضة | B15: 26 | C15: 11020786 | D15: 6911289 | E15: =D15/C15*100 -> 62.711398 | F15: 6154567
A16: نادي راشد للفروسية وسباق الخيل | B16: 28 | C16: 296478 | D16: 261070 | E16: =D16/C16*100 -> 88.057124 | F16: 124662
A17: وزارة العمل والتنمية الاجتماعية (التنمية الاجتماعية) | B17: 29 | C17: 2049023 | D17: 970328 | E17: =D17/C17*100 -> 47.355642 | F17: 535785
A18: وزارة الصناعة والتجارة والسياحة | B18: 34 | C18: 13482609 | D18: 4793449 | E18: =D18/C18*100 -> 35.55283 | F18: 9157618
A19: وزارة الإسكان | B19: 36 | C19: 171582617 | D19: 141827915 | E19: =D19/C19*100 -> 82.658673 | F19: 120389470
... A23: الحرس الوطني | B23: 50 | C23: 6000000 | D23: 5953424 | E23: =D23/C23*100 -> 99.223733 | F23: 1941835
A24: وزارة الدولة لشئون الإتصالات | B24: 53 | C24: 0 | D24: 0 | E24: =IFERROR(D24/C24*100,0) -> 0 | F24: 288856
A25: وزارة شئون الإعلام | B25: 55 | C25: 1432483 | D25: 1091600 | E25: =D25/C25*100 -> 76.203348 | F25: 0
A26: مجلـس المناقصات والمزايدات | B26: 59 | C26: 200000 | D26: 114432 | E26: =D26/C26*100 -> 57.216 | F26: 113684
A27: الميزانية التحويلية | B27: 60 | C27: 146536854 | D27: 100302253 | E27: =D27/C27*100 -> 68.448483 | F27: 112090556
A28: هيئة شئون الإعلام | B28: 65 | C28: 12647048 | D28: 7511345 | E28: =D28/C28*100 -> 59.392081 | F28: 10218255
A29: هيئة البحرين للثقافة والآثار | B29: 66 | C29: 10208947 | D29: 4650195 | E29: =D29/C29*100 -> 45.550192 | F29: 19073668
A30: المجلس الأعلى للصحة | B30: 67 | C30: 465611 | D30: 237637 | E30: =D30/C30*100 -> 51.037669 | F30: 94389
A31: مكتب صاحب السمو الملكي النائب الأول لرئيس مجلس الوزراء | B31: 70 | C31: 3000000 | D31: 3000000 | E31: 0 | F31: 6000000
A32: ديوان الخدمة المدنية | B32: 72 | C32: 859506 | D32: 134694 | E32: =D32/C32*100 -> 15.671095 | F32: 213833
A33: هيئة المعلومات والحكومة الإلكترونية (الجهاز المركزي للمعلومات سابقاً) | B33: 73 | C33: 6287379 | D33: 4768215 | E33: =D33/C33*100 -> 75.837881 | F33: 1449195
A34: المجلس الأعلى للقضاء | B34: 76 | C34: 236087 | D34: 123848 | E34: =D34/C34*100 -> 52.458628 | F34: 184630
A35: وزارة العدل والشئون الإسلامية والأوقاف (الشئون الإسلامية) | B35: 77 | C35: 1588824 | D35: 1037004 | E35: =D35/C35*100 -> 65.268652 | F35: 2608839
A36: جهاز المساحة والتسجيل العقاري | B36: 78 | C36: 2314215 | D36: 543113 | E36: =D36/C36*100 -> 23.468563 | F36: 1776818
A37: وزارة المالية | B37: 81 | C37: 2500000 | D37: 2483482 | E37: =D37/C37*100 -> 99.33928 | F37: 1255961
A38: شئون الجمارك | B38: 83 | C38: 3474254 | D38: 1648470 | E38: =D38/C38*100 -> 47.448172 | F38: 1626679
A39: مستشفى الملك حمد الجامعي (إيضاح رقم 14،13) | B39: 88 | C39: 16157590 | D39: 10234270 | E39: =D39/C39*100 -> 63.340325 | F39: 9702410
A40: المجموع | C40: =SUM(C5:C39) -> 630000000 | D40: =SUM(D5:D39) -> 443679113 | E40: =D40/C40*100 -> 70.425256 | F40: =SUM(F5:F39) -> 448304933

Sheet الإعتمادات المدورة
A1: 12- مصروفات هيئة الكهرباء والماء
A2: تمثل مبالغ التحويـلات النقدية من وزارة المالية إلى هيئة الكهرباء والماء، ولا تعبـر عن مصروفات الهيئة الفعليـة للسنة.
A4: 13- مصروفات قوة الدفاع
A5: نصت الفقرة (أ) مـن المـادة (4) مـن قانون ديـوان الرقابـة الماليـة والإداريـة رقـم (16) لسنة 2002 الـمعدل بالمرسـوم بقانون رقم (49) لسنة 2010 على أن "... يستثنى مـن رقابة الديوان أية جهة أوجب الدستور أو الـقانون مراعـاة السرية في شئونها..."، كمـا نصت الفقـرة (ز) من المادة (33) من دستور مملكة البحرين بشأن قـوة الدفاع على أن "تــراعـى السرية في شئونها"، وبناءً علـيه لم يخضع الحساب الختامي لوزارة الدفاع والجهات التابعـة لها لـرقابة ديوان الرقابة الماليـة والإدارية، وإنما تم التدقيق على الحسابات الختامية لهذه الجهات من قبل إحدى مؤسسـات التدقيق.
A7: 14- مصروفات مستشفى الملك حمد
A8: نصت المادة الرابعة من الأمر الملكي رقم (31) لسنة 2010 بشأن مستشفى الملك حمد على أن "يكون للمستشفى ميزانية خاصة ملحقة بميزانية قوة الدفاع"، وعليه لـم تخضع مصروفات الـمستشفى لـرقابة ديوان الرقابة الـمالية والإداريـة وإنما تم تدقيقها من قبل إحدى مؤسسات التدقيق طبقاً لما تم ذكره في الإيضاح رقم (13).
A10: 15- المبالغ المدورة من اعتمادات ميزانية النفقات المتكررة للوزارات والجهات الحكومية
A11: لم يتم تدوير أية اعتمادات للنفقات المتكررة من سنة 2015 إلى السنة المالية المقبلة للوزارات والجهات الحكومية، بحسب قرار وزير المالية رقم (8) لسنة 2016 الصـادر بتاريخ 15 مايو 2016.
B13: (دينار بحريني)
A14: الوزارة أو الجهة الحكومية | B14: 2013 | C14: 2012
A16: دعم الخدمات والمشاريع الإسكانية | B16: - | C16: -
A17: ديوان صاحب السمو الملكي رئيس الوزراء | B17: 0 | C17: 0
A18: وزارة الخارجية | B18: 0 | C18: 0
A19: هيئة شئون الإعلام | B19: 0 | C19: 0
A20: الجهاز المركزي للمعلومات والإتصالات | B20: 0 | C20: 0
A21: وزارة الصناعة والتجارة | B21: 0 | C21: 0
A22: وزارة الإسكان | B22: 0 | C22: 0
A23: شئون الجمارك | B23: 0 | C23: 0
A24: تقديرات أخرى للوزارات والجهات الحكومية | B24: 0 | C24: 0
A25: المجموع | B25: - | C25: =SUM(C16:C24) -> 0
A27: 16- المبالغ المدورة من اعتمادات ميزانية نفقات المشاريع للوزارات والجهات الحكومية
A28: أقرت وزارة المالية تدوير جزء من الاعتمادات المالية المتبقية إلى السنة الماليـة المقبلة لعـدد من المشاريـع الحكومية طبقاً لما تقتضيه المصلحة العامة، وذلك بعد دراسـة متطلبات كل مشروع سواءً من حيث التـدفقات الـنقدية الـلازمة لـمواجهة الالتزامـات التعاقدية، أو المتطلبات المالية اللازمة لتنفيذ مراحل سـير العمـل المخطط لإنجازه خلال السنة المالية المقبلة. يمثل المبلغ الـمدوّر من ميزانية نفقات المشـاريع جـزء من الـــفرق بين مجمـوع اعتمادات ميزانية المشـاريع لـسنة 2015 البالغـة حوالي 630 مـليون دينـار ومجمـوع مصـروفات المشـاريع الفعليـة لغـاية 31 ديسمبر 2015 والتـي بلغـت حوالي 444 مليــون دينار، ولا يتـم إظهار المبـالغ المدورة ضمـن الحسابات الــفردية للوزارات والجهـات الحكومية. وقد بلغ مجموع الإعتمادات المدورة من اعتمادات نفقات ميزانية المشاريع من السنة المالية 2015 للسنة المالية 2016 مبلغ 59 مليون دينار.

Sheet المقبوضات والمدفوعات
A1: 1- كشف المقبوضات والمدفوعات
D2: (دينار بحرينى)
C3: دينار بحريني
A4: البيان | C4: 2015 | D4: 2014
A5: التدفقات النقدية من الأنشطة التشغيلية
A6: المقبوضات
A7: النفط والغاز الطبيعي | C7: 1594647700 | D7: 2662191298
A8: الضرائب والرسوم | C8: 225242429 | D8: 201141304
A9: المنتجات الخدمية والسلعية الحكومية | C9: 72825570 | D9: 52573952
A10: الإعانات | C10: 28169590 | D10: 28169772
A11: الغرامات والجزاءات والايرادات المتنوعة | C11: 32728661 | D11: 55790156
A12: مبالغ مستلمة لصالح الغير | C12: 127506183 | D12: 137964742
A13: إجمالي المقبوضات التشغيلية | C13: =SUM(C7:C12) -> 2081120133 | D13: =SUM(D7:D12) -> 3137831224
A14: المدفوعات
A15: القوى العاملة | C15: -1405109874 | D15: -1369436828
A16: الخدمات | C16: -207446158 | D16: -217079491
A17: السلع الإستهلاكية | C17: -61021900 | D17: -82222552
A18: الصيانة | C18: -58507370 | D18: -70113926
A19: نفقات تحويلية | C19: -597765145 | D19: -715844510
A20: الإعانات وتسديد فوائد القروض | C20: -549126532 | D20: -488081753
A21: مدفوعات مقدمة وتسديد ذمم دائنة | C21: -102001080 | D21: -52208363
A22: مشتريات المخزون | C22: -62091438 | D22: -65881692
A23: مدفوعات اخرى | C23: 0 | D23: 0
A24: إجمالي المدفوعات التشغيلية | C24: =SUM(C15:C23) -> -3043069497 | D24: =SUM(D15:D23) -> -3060869115
A25: صافي التدفقات النقدية من الأنشطة التشغيلية | C25: =C13+C24 -> -961949364 | D25: =D13+D24 -> 76962109
A26: التدفقات النقدية من الأنشطة الاستثمارية
A27: مدفوعات المشاريع | C27: -364949179 | D27: -468820496
A28: مدفوعات السلع الرأسمالية | C28: -30220067 | D28: -35110326
A29: عوائد الاستثمارات والأملاك الحكومية | C29: 83417958 | D29: 83131208
A30: إيرادات بيع الأصول الرأسمالية | C30: 564281 | D30: 901978
A31: صافي التدفقات النقدية من الأنشطة الاستثمارية | C31: =SUM(C27:C30) -> -311187007 | D31: =SUM(D27:D30) -> -419897636
A32: التدفقات النقدية من الأنشطة التمويلية
A33: القروض المستلمة | C33: 6138000000 | D33: 3947000000
A34: تسديد القروض | C34: -4472629354 | D34: -3739973327
A35: صافي التدفقات النقدية من الأنشطة التمويلية | C35: =SUM(C33:C34) -> 1665370646 | D35: =SUM(D33:D34) -> 207026673
A36: صافي (النقص)/الزيادة في النقد | C36: =C25+C31+C35 -> 392234275 | D36: =D25+D31+D35 -> -135908854

Sheet المطلوبات المستحقة
A1: 2- المطلوبات المستحقة (الذمم الدائنة)
E2: (دينار بحريني)
A3: الباب | B3: البيــان | D3: 2015 | E3: 2014
A4: 1 | B4: القوى العاملة | D4: 2422896 | E4: 3605730
A5: 2 | B5: الخدمات | D5: 14852823 | E5: 16525842
A6: 3 | B6: السلع الإستهلاكية | D6: 508447 | E6: 1625622
A7: 4 | B7: السلع الرأسمالية | D7: 534579 | E7: 1029625
A8: 5 | B8: الصيانة | D8: 657903 | E8: 878670
A9: 6 | B9: نفقات تحويلية | D9: 17127489 | E9: 6761481
A10: 7 | B10: الإعانات وتسديد فوائد القروض | D10: 745890 | E10: 13186832
A11: 8 | B11: المشاريع | D11: 71884962 | E11: 72806858
A12: - | B12: أخرى | D12: =92268137+1095+276-14123-25652 -> 92229733 | E12: 1657924
B13: المجموع | D13: =SUM(D4:D12) -> 200964722 | E13: =SUM(E4:E12) -> 118078584
A15: المطلوبات المستحقة:
A16: هي المطلوبات المستحقة على الوزارات والجهات الحكومية، وذلك للمعاملات المالية التي تمت معالجتها كمصروفات ولم يتم سدادها حتى نهاية السنة المالية.

Sheet المصروفات المستحقة
A1: 3- المصروفات المستحقة
E2: (دينار بحريني)
A3: الباب | B3: البيــان | D3: 2015 | E3: 2014
A4: 1 | B4: القوى العاملة | D4: 9455966 | E4: 5019051
A5: 2 | B5: الخدمات | D5: 48242282 | E5: 23024118
A6: 3 | B6: السلع الإستهلاكية | D6: 21912993 | E6: 4281607
A7: 4 | B7: السلع الرأسمالية | D7: 1864044 | E7: 2158615
A8: 5 | B8: الصيانة | D8: 3918842 | E8: 3738991
A9: 6 | B9: نفقات تحويلية | D9: 4139644 | E9: 2006157
A10: 7 | B10: الإعانات وتسديد فوائد القروض | D10: 10814276 | E10: 6411865
A11: 8 | B11: المشاريع | D11: 103015131 | E11: 79461204
A12: - | B12: أخرى | D12: 3695904 | E12: 0
B13: المجموع | D13: =SUM(D4:D12) -> 207059082 | E13: =SUM(E4:E12) -> 126101608
A15: المصروفات المستحقة
A16: هي السلع والخدمات التي تم استلامها من قبل الوزارات والجهات الحكومية وتم تسجيلها كمصروفات على حسابات السنة المالية 2015، ولم يتم تسجيلها ضمن حسابات المطلوبات (الذمم الدائنة).

Sheet الارتباطات
A1: 4- الإرتباطات حسب الأبواب
E2: (دينار بحريني)
A3: الباب | B3: البيــان | D3: 2015 | E3: 2014
A4: 1 | B4: القوى العاملة | D4: 289430 | E4: 417876
A5: 2 | B5: الخدمات | D5: 1646315 | E5: 4770491
A6: 3 | B6: السلع الإستهلاكية | D6: 553075 | E6: 1016531
A7: 4 | B7: السلع الرأسمالية | D7: 362684 | E7: 1138361
A8: 5 | B8: الصيانة | D8: 464065 | E8: 1162457
A9: 6 | B9: نفقات تحويلية | D9: 72153 | E9: 86790
A10: 7 | B10: الإعانات و تسديد فوائد القروض | D10: 287956 | E10: 45789
A11: 8 | B11: المشاريع | D11: 84459265 | E11: 114567347
B12: المجموع | D12: =SUM(D4:D11) -> 88134943 | E12: =SUM(E4:E11) -> 123205642
A14: الارتباطات المالية:
A15: يقصد بها الارتباطات المالية الخاصة بمشتريات المصروفات المتكررة والمشاريع التي صدرت لها أوامر شراء أو أوامر تنفيذ عقود ولكن لم يتم استلام أو تنفيذ المشتريات المطلوبة من قبل المجهز أو المتعاقد معه حتى نهاية السنة المالية.

Sheet التمويـل
A1: 5- القروض
E2: (آلاف الدنانير)
A3: بيان القرض | B3: الرصيد في 2015/1/1 | C3: المبلغ المستلم | D3: المبلغ المدفوع | E3: الفرق بين المبلغ المستلم والمدفوع | F3: الرصيد في 2015/12/31
A4: أذونات الخزينة | B4: 1230000 | C4: 3885000 | D4: -3405000 | E4: =SUM(C4:D4) -> 480000 | F4: =SUM(E4+B4) -> 1710000
A5: صكوك السلم الإسلامية | B5: 108000 | C5: 495000 | D5: -474000 | E5: =SUM(C5:D5) -> 21000 | F5: =SUM(E5+B5) -> 129000
A6: صكوك التأجير الإسلامية | B6: 580000 | C6: 844000 | D6: -358000 | E6: =SUM(C6:D6) -> 486000 | F6: =SUM(E6+B6) -> 1066000
A7: قروض داخلية أخرى | B7: 9383 | C7: - | D7: -6255 | E7: =SUM(C7:D7) -> -6255 | F7: =SUM(E7+B7) -> 3128
A8: سندات التنمية الحكومية المحلية | B8: 1085000 | C8: 350000 | D8: -200000 | E8: =SUM(C8:D8) -> 150000 | F8: =SUM(E8+B8) -> 1235000
A9: مجموع القروض الداخلية | B9: =SUM(B4:B8) -> 3012383 | C9: =SUM(C4:C8) -> 5574000 | D9: =SUM(D4:D8) -> -4443255 | E9: =SUM(E4:E8) -> 1130745 | F9: =SUM(F4:F8) -> 4143128
A10: صكوك التأجير الإسلامية الدولية | B10: 282000 | C10: - | D10: - | E10: =SUM(C10:D10) -> 0 | F10: =SUM(B10:D10) -> 282000
A11: سندات التنمية الحكومية الدولية | B11: 2068000 | C11: 564000 | D11: - | E11: =SUM(C11:D11) -> 564000 | F11: =SUM(B11:D11) -> 2632000
A12: قروض صناديق التنمية | B12: 211283 | C12: - | D12: -38996 | E12: =SUM(C12:D12) -> -38996 | F12: =SUM(B12:D12) -> 172287
A13: مجموع القروض الخارجية | B13: =SUM(B10:B12) -> 2561283 | C13: =SUM(C10:C12) -> 564000 | D13: =SUM(D10:D12) -> -38996 | E13: =SUM(E10:E12) -> 525004 | F13: =SUM(F10:F12) -> 3086287
A14: المجموع/ الرصيد | B14: =B13+B9 -> 5573666 | C14: =C13+C9 -> 6138000 | D14: =D13+D9 -> -4482251 | E14: =E13+E9 -> 1655749 | F14: =F13+F9 -> 7229415

Sheet التسهيلات الإئتمانية 
A1: 6- التسهيلات الإئتمانية
A2: (آلاف الدنانير)
A3: البيـــان | C3: 2015 | D3: 2014
A4: تسهيلات غير مستخدمة في بداية السنة | C4: 0 | D4: 0
A5: تسهيلات اضافية | C5: 0 | D5: 0
A6: التسهيلات المتوفرة | C6: 125000 | D6: 125000
A7: المبلغ المستخدم | C7: -52803 | D7: -75278
A8: التسهيلات الملغية
A9: التسهيلات غير المستخدمة في نهاية السنة | C9: =SUM(C4:C7) -> 72197 | D9: =SUM(D4:D7) -> 49722
A13: جميع التسهيلات الإئتمانية المذكورة أعلاه عبارة عن عملية تسوية توفيقية لضمان سرعة انسياب التحويلات النقدية بين الحسابات المصرفية الحكومية.
