Workbook
Name leer: '[1]تفصيل المصروفات (3)'!$A$2:$A$6
Name leer: '[1]تفصيل المصروفات (3)'!$A$2:$A$6
Name المصروفات_حسب_الأبواب_والأقسام_والبنود: #REF!
Name المصروفات_حسب_الأبواب_والأقسام_والبنود: #REF!
Name المصروفات_حسب_الأبواب_والأقسام_والبنود: #REF!
Name المصروفات_حسب_الأبواب_والأقسام_والبنود: #REF!
Name المصروفات_حسب_الأبواب_والأقسام_والبنود: #REF!
Name المصروفات_حسب_الأبواب_والأقسام_والبنود: #REF!
Name المصروفات_حسب_الأبواب_والأقسام_والبنود: #REF!

Sheet بيان الايرادات والمصروفات
A1: بيان الإيرادات والمصروفات الموحد للدولة
A2: للسنة المالية المنتهية في 31 ديسمبر 2014
E3: (دينار بحريني)
A4: البيان | B4: الإيضاحات | C4: الاعتماد | D4: الفعلي 2014 | E4: الفعلي 2013
A5: الإيرادات
A6: النفط والغاز الطبيعي | B6: 5,4,2 | C6: ='تفصيل الإيرادات'!F5 -> 2404200000 | D6: ='تفصيل الإيرادات'!G5 -> 2662346395 | E6: ='تفصيل الإيرادات'!I5 -> 2600157462
A7: الضرائب والرسوم | B7: 5,4 | C7: ='تفصيل الإيرادات'!F28 -> 199247958 | D7: ='تفصيل الإيرادات'!G28 -> 202894933 | E7: ='تفصيل الإيرادات'!I28 -> 223770501
A8: المنتجات الخدمية والسلعية الحكومية | B8: 5,4 | C8: ='تفصيل الإيرادات'!F89 -> 53826194 | D8: ='تفصيل الإيرادات'!G89 -> 53917847 | E8: ='تفصيل الإيرادات'!I89 -> 52604109
A9: الإستثمارات والأملاك الحكومية | B9: 5,4 | C9: ='تفصيل الإيرادات'!F152 -> 75933016 | D9: ='تفصيل الإيرادات'!G152 -> 82346641 | E9: ='تفصيل الإيرادات'!I152 -> 17571022
A10: الإعانات | B10: 5,4 | C10: ='تفصيل الإيرادات'!F171 -> 37600000 | D10: ='تفصيل الإيرادات'!G171 -> 28169772 | E10: ='تفصيل الإيرادات'!I171 -> 0
A11: مبيعات الأصول الرأسمالية | B11: 5,4 | C11: ='تفصيل الإيرادات'!F174 -> 423100 | D11: ='تفصيل الإيرادات'!G174 -> 901978 | E11: ='تفصيل الإيرادات'!I174 -> 274773
A12: الغرامات والجزاءات والإيرادات المتنوعة | B12: 5,4 | C12: ='تفصيل الإيرادات'!F187 -> 22074732 | D12: ='تفصيل الإيرادات'!G187 -> 58891542 | E12: ='تفصيل الإيرادات'!I187 -> 49279669
A13: مجموع الإيرادات | B13: 5,4,3 | C13: =SUM(C6:C12) -> 2793305000 | D13: =SUM(D6:D12) -> 3089469108 | E13: =SUM(E6:E12) -> 2943657536
A14: المصروفات المتكررة
A15: القوى العاملة | B15: 9,8,6 | C15: ='تفصيل المصروفات '!$F$5 -> 1393089653 | D15: ='تفصيل المصروفات '!$G$5 -> 1379273023 | E15: ='تفصيل المصروفات '!$I$5 -> 1300403906
A16: الخدمات | B16: 9,8,6 | C16: ='تفصيل المصروفات '!$F$95 -> 193441876 | D16: ='تفصيل المصروفات '!$G$95 -> 223123791 | E16: ='تفصيل المصروفات '!$I$95 -> 210798858
A17: السلع الإستهلاكية | B17: 9,8,6 | C17: ='تفصيل المصروفات '!$F$168 -> 143990426 | D17: ='تفصيل المصروفات '!$G$168 -> 147903758 | E17: ='تفصيل المصروفات '!$I$168 -> 131207934
A18: السلع الرأسمالية | B18: 9,8,6 | C18: ='تفصيل المصروفات '!$F$226 -> 33594426 | D18: ='تفصيل المصروفات '!$G$226 -> 36308070 | E18: ='تفصيل المصروفات '!$I$226 -> 30769606
A19: الصيانة | B19: 9,8,6 | C19: ='تفصيل المصروفات '!$F$337 -> 68324831 | D19: ='تفصيل المصروفات '!$G$337 -> 69058155 | E19: ='تفصيل المصروفات '!$I$337 -> 66514923
A20: نفقات تحويلية | B20: 9,8,6 | C20: ='تفصيل المصروفات '!$F$403 -> 800408192 | D20: ='تفصيل المصروفات '!$G$403 -> 729348815 | E20: ='تفصيل المصروفات '!$I$403 -> 694960427
A21: الإعانات وتسديد فوائد القروض | B21: 9,8,6 | C21: ='تفصيل المصروفات '!$F$415 -> 519893596 | D21: ='تفصيل المصروفات '!$G$415 -> 511214633 | E21: ='تفصيل المصروفات '!$I$415 -> 442388256
A22: مجموع المصروفات المتكررة | B22: 9,8,7,6,3 | C22: =SUM(C15:C21) -> 3152743000 | D22: =SUM(D15:D21) -> 3096230245 | E22: =SUM(E15:E21) -> 2877043910
A23: مصروفات المشاريع | B23: 11,6,3 | C23: =مشاريع!B45 -> 825562104 | D23: =مشاريع!C45 -> 448304933 | E23: =مشاريع!E45 -> 476701208
A24: مجموع المصروفات | B24: 6 | C24: =SUM(C22:C23) -> 3978305104 | D24: =SUM(D22:D23) -> 3544535178 | E24: =SUM(E22:E23) -> 3353745118
A25: العجز للسنة | C25: =C13-C24 -> -1185000104 | D25: =D13-D24 -> -455066070 | E25: =E13-E24 -> -410087582
A27: مصروفات مشاريع التسليح والتطوير | B27: 14 | C27: 0 | D27: 0 | E27: 0
A28: العجز للسنة | C28: =C25-C27 -> -1185000104 | D28: =D25-D27 -> -455066070 | E28: =E25-E27 -> -410087582
A29: بيان الاعتمادات المدورة
D30: 2014 | E30: 2013
A31: اعتمادات المصروفات المتكررة | B31: 15,7,6 | D31: 0 | E31: 0
A32: اعتمادات المشاريع | B32: 16,6 | D32: 185000000 | E32: 270562104
A33: مجموع الاعتمادات المدورة | D33: =SUM(D31:D32) -> 185000000 | E33: =SUM(E31:E32) -> 270562104
A35: الإيضاحات الواردة على الصفحات من (4) إلى (32) هي جزء مكمل للحساب الختامي الموحد للدولة.

Sheet إيرادات النفط 
A1: 2- إيرادات النفط والغاز الطبيعي
C2: (دينار بحريني)
A3: البيان | B3: الفعلي 2014 | C3: الفعلي 2013
A5: إيرادات حقل البحرين النفطية والمصفاة
A6: الإيرادات
A7: إجمالي الإيرادات | B7: 3692584112 | C7: 3854885734
A8: إجمالي التكاليف | B8: -3486110815 | C8: -3631231590
A9: صافي الإيرادات | B9: =SUM(B7:B8) -> 206473297 | C9: =SUM(C7:C8) -> 223654144
A11: إيرادات حقل أبو سعفة
A12: إجمالي الإيرادات | B12: 2121315346 | C12: 2082583680
A13: إجمالي التكاليف | B13: -94002471 | C13: -103316501
A14: إحتياطي الأجيال القادمة | B14: -21172996 | C14: -19597752
A15: صافي الإيرادات | B15: =SUM(B12:B14) -> 2006139879 | C15: =SUM(C12:C14) -> 1959669427
A17: مبيعات الغاز الطبيعي
A18: إيرادات الغاز الطبيعي | B18: 434722091 | C18: 401014351
A20: ضرائب ورسوم نفطية | B20: 15011128 | C20: 15819540
A21: توزيعات أرباح مستلمة (الشركة القابضة للنفط والغاز) | B21: 0 | C21: 0
A23: صافي إيرادات النفط والغاز الطبيعي | B23: =B9+B15+B18+B20+B21 -> 2662346395 | C23: =C9+C15+C18+C20+C21 -> 2600157462

Sheet مصروفات وايرادات الوزارات
A1: 3- الإيرادات والمصروفات مصنفة حسب الوزارات والجهات الحكومية
B2: (دينار بحريني)
A3: الوزارة أو الجهة الحكومية | B3: الإيرادات | F3: المصروفات المتكررة | J3: مصروفات المشاريع
B4: الفعلي | C4: الاعتماد | D4: نسبة التحصيل % | F4: الفعلي | G4: الاعتماد | H4: نسبة الصرف % | J4: الفعلي | K4: الاعتماد | L4: نسبة الصرف %
A5: ديوان صاحب السمو الملكي رئيس مجلس الوزراء | B5: 1563 | C5: 0 | D5: - | F5: 19622089 | G5: 19622090 | H5: =F5/G5*100 -> 99.999995 | J5: 0 | K5: 0 | L5: -
A6: وزارة الدفاع (إيضاح رقم 13) | B6: 0 | C6: 0 | D6: - | F6: 514475345 | G6: 504080000 | H6: =F6/G6*100 -> 102.06224 | J6: 0 | K6: 0 | L6: -
A7: وزارة الداخلية | B7: 40729524 | C7: 34600000 | D7: =B7/C7*100 -> 117.71539 | F7: 358410204 | G7: 355500000 | H7: =F7/G7*100 -> 100.81862 | J7: 19650560 | K7: 36983077 | L7: =J7/K7*100 -> 53.133924
A8: جهاز الأمن الوطني | B8: 170 | C8: 0 | D8: - | F8: 39345280 | G8: 39345280 | H8: =F8/G8*100 -> 100 | J8: 208000 | K8: 208000 | L8: =J8/K8*100 -> 100
A9: هيئة التشريع والإفتاء القانوني | B9: 3704 | C9: 5000 | D9: =B9/C9*100 -> 74.08 | F9: 2559477 | G9: 2559478 | H9: =F9/G9*100 -> 99.999961 | J9: 137000 | K9: 200000 | L9: =J9/K9*100 -> 68.5
A10: وزارة الخارجية | B10: 1879359 | C10: 1877000 | D10: =B10/C10*100 -> 100.12568 | F10: 33917819 | G10: 30932395 | H10: =F10/G10*100 -> 109.65145 | J10: 215690 | K10: 6315267 | L10: =J10/K10*100 -> 3.4153742
A11: وزارة العدل والشئون الإسلامية والأوقاف- شئون العدل | B11: 9952681 | C11: 9498000 | D11: =B11/C11*100 -> 104.78712 | F11: 16646836 | G11: 16646836 | H11: =F11/G11*100 -> 100 | J11: 690458 | K11: 1998203 | L11: =J11/K11*100 -> 34.553947
A12: وزارة التربية والتعليم | B12: 1188931 | C12: 3198000 | D12: =B12/C12*100 -> 37.17733 | F12: 326522465 | G12: 330100000 | H12: =F12/G12*100 -> 98.916227 | J12: 6576258 | K12: 17467494 | L12: =J12/K12*100 -> 37.648549
A13: وزارة الصحة | B13: 14181687 | C13: 14925000 | D13: =B13/C13*100 -> 95.019678 | F13: 262753035 | G13: 248721930 | H13: =F13/G13*100 -> 105.64128 | J13: 11635577 | K13: 27752082 | L13: =J13/K13*100 -> 41.926862
A14: وزارة الأشغال وشئون البلديات والتخطيط العمراني - الإدارة العامة للتخطيط العمراني وإدارة الإستملاك والتعويض وشئون الزراعة والثروة البحرية | B14: 400408 | C14: 330000 | D14: =B14/C14*100 -> 121.33576 | F14: 17814267 | G14: 17814267 | H14: =F14/G14*100 -> 100 | J14: 9089225 | K14: 23388775 | L14: =J14/K14*100 -> 38.861484
A15: وزارة العمل | B15: 1382127 | C15: 2188000 | D15: =B15/C15*100 -> 63.16851 | F15: 6628449 | G15: 6667000 | H15: =F15/G15*100 -> 99.421764 | J15: 137191 | K15: 633166 | L15: =J15/K15*100 -> 21.667462
A16: المؤسسة العامة للشباب والرياضة | B16: 77142 | C16: 35500 | D16: =B16/C16*100 -> 217.30141 | F16: 12718968 | G16: 13093000 | H16: =F16/G16*100 -> 97.143267 | J16: 6154567 | K16: 19593504 | L16: =J16/K16*100 -> 31.411263
A17: نادى راشد للفروسية وسباق الخيل | B17: 0 | C17: 0 | D17: - | F17: 1743682 | G17: 1743684 | H17: =F17/G17*100 -> 99.999885 | J17: 124662 | K17: 400000 | L17: =J17/K17*100 -> 31.1655
A18: وزارة التنمية الإجتماعية | B18: 4087 | C18: 12500 | D18: =B18/C18*100 -> 32.696 | F18: 28817563 | G18: 28817564 | H18: =F18/G18*100 -> 99.999997 | J18: 535785 | K18: 2487080 | L18: =J18/K18*100 -> 21.542733
A19: مكتب وزير شئون المتابعة | B19: 0 | C19: 0 | D19: - | F19: 556811 | G19: 579000 | H19: =F19/G19*100 -> 96.167703 | J19: 0 | K19: 0 | L19: -
A20: وزارة الصناعة والتجارة | B20: 9937269 | C20: 8434000 | D20: =B20/C20*100 -> 117.82392 | F20: 11567570 | G20: 11771480 | H20: =F20/G20*100 -> 98.267762 | J20: 9157618 | K20: 27813276 | L20: =J20/K20*100 -> 32.925348
A21: وزارة الإسكان | B21: 31943 | C21: 30000 | D21: =B21/C21*100 -> 106.47667 | F21: 5443886 | G21: 5443886 | H21: =F21/G21*100 -> 100 | J21: 120389470 | K21: 147214194 | L21: =J21/K21*100 -> 81.778439
A22: مكتب صاحب السمو الملكي النائب الأول لرئيس مجلس الوزراء | B22: 0 | C22: 0 | D22: - | F22: 814906 | G22: 2000000 | H22: =F22/G22*100 -> 40.7453 | J22: 6000000 | K22: 6000000 | L22: -
A23: مكاتب نواب صاحب السمو الملكي رئيس مجلس الوزارء | B23: 0 | C23: 0 | D23: - | F23: 3218910 | G23: 3720811 | H23: =F23/G23*100 -> 86.510978 | J23: =0+44200 -> 44200 | K23: =0+49725 -> 49725 | L23: =J23/K23*100 -> 88.888889
A24: مكاتب مستشاري صاحب السمو الملكي رئيس مجلس الوزراء | B24: 0 | C24: 0 | D24: - | F24: 1013380 | G24: 1083342 | H24: =F24/G24*100 -> 93.542021 | J24: 0 | K24: 0 | L24: -
A25: مكتب وزير الطاقة | B25: 0 | C25: 0 | D25: - | F25: 212949 | G25: 300000 | H25: =F25/G25*100 -> 70.983 | J25: 0 | K25: 0 | L25: -
A26: المجلس الأعلى للبيئة | B26: 371440 | C26: 579000 | D26: =B26/C26*100 -> 64.151986 | F26: 7437298 | G26: 6680196 | H26: =F26/G26*100 -> 111.33353 | J26: 278975 | K26: 1809728 | L26: =J26/K26*100 -> 15.4153
A27: مركز الشيخ محمد بن خليفة آل خليفة التخصصي للقلب (إيضاح رقم 13) | B27: 0 | C27: 0 | D27: - | F27: 15699755 | G27: 15700000 | H27: =F27/G27*100 -> 99.998439 | J27: 0 | K27: 0 | L27: -
A28: 3- الإيرادات والمصروفات مصنفة حسب الوزارات والجهات الحكومية (تتمة)
B29: (دينار بحريني)
A30: الوزارة أو الجهة الحكومية | B30: الإيرادات | F30: المصروفات المتكررة | J30: مصروفات المشاريع
B31: الفعلي | C31: الاعتماد | D31: نسبة التحصيل % | F31: الفعلي | G31: الاعتماد | H31: نسبة الصرف % | J31: الفعلي | K31: الاعتماد | L31: نسبة الصرف %
A32: وزارة الأشغال وشئون البلديات والتخطيط العمراني -الأشغال | B32: 1950626 | C32: 393000 | D32: =B32/C32*100 -> 496.34249 | F32: 31446852 | G32: 31076200 | H32: =F32/G32*100 -> 101.19272 | J32: 90937940 | K32: 153649827 | L32: =J32/K32*100 -> 59.185189
A33: هيئة الكهرباء والماء (إيضاح رقم 12) | B33: 0 | C33: 0 | D33: - | F33: 350000000 | G33: 350000000 | H33: =F33/G33*100 -> 100 | J33: 0 | K33: 0 | L33: -
A34: وزارة المواصلات والاتصالات | B34: 44464287 | C34: 37488000 | D34: =B34/C34*100 -> 118.60939 | F34: 28518425 | G34: 29920000 | H34: =F34/G34*100 -> 95.315592 | J34: 3702149 | K34: 18022183 | L34: =J34/K34*100 -> 20.542178
A35: الحرس الوطنى | B35: 0 | C35: 0 | D35: - | F35: 40200000 | G35: 40200000 | H35: =F35/G35*100 -> 100 | J35: 1941835 | K35: 22787709 | L35: =J35/K35*100 -> 8.5214139
A36: الهيئة الوطنية للنفط والغاز | B36: 48960 | C36: 0 | D36: - | F36: 2706944 | G36: 2706945 | H36: =F36/G36*100 -> 99.999963 | J36: 0 | K36: 0 | L36: -
A37: وزير الدولة لشئون الاتصالات | B37: 0 | C37: 0 | D37: - | F37: 297127 | G37: 300000 | H37: =F37/G37*100 -> 99.042333 | J37: 288856 | K37: 321656 | L37: =J37/K37*100 -> 89.802771
A38: وزارة شئون مجلسي الشورى والنواب | B38: 0 | C38: 0 | D38: - | F38: 1576167 | G38: 1576169 | H38: =F38/G38*100 -> 99.999873 | J38: 0 | K38: 0 | L38: -
A39: وزارة شئون الإعلام | B39: 0 | C39: 0 | D39: - | F39: 804645 | G39: 804645 | H39: =F39/G39*100 -> 100 | J39: 0 | K39: 0 | L39: -
A40: وزارة شئون حقوق الإنسان | B40: 0 | C40: 0 | D40: - | F40: 1062823 | G40: 2000000 | H40: =F40/G40*100 -> 53.14115 | J40: 0 | K40: 0 | L40: -
...

Sheet الايرادات
A1: 4- الإيرادات مصنفة حسب الأبواب والوزارات والجهات الحكومية
B2: (دينار بحريني)
A3: الوزارة أو الجهة الحكومية | B3: النفط والغاز الطبيعي | C3: ضــرائـب ورســوم | D3: منتجات خدمية وسلعية حكومية | E3: إستثمارات وأملاك حكومية | F3: الإعانات | G3: مبيعات أصول رأسمالية | H3: غرامــات وجزاءات وإيرادات متنوعة | I3: المجموع | J3: الاعتماد | K3: الفعلي 2013
A4: ديوان صاحب السمو الملكي رئيس مجلس الوزراء | B4: 0 | C4: 0 | D4: 0 | E4: 0 | F4: 0 | G4: 0 | H4: 1563 | I4: =SUM(B4:H4) -> 1563 | J4: 0 | K4: 958
A5: وزارة الدفاع (إيضاح رقم 13) | B5: 0 | C5: 0 | D5: 0 | E5: 0 | F5: 0 | G5: 0 | H5: 0 | I5: 0 | J5: 0
A6: وزارة الداخلية | B6: 0 | C6: 33847338 | D6: 5948038 | E6: 57400 | F6: 0 | G6: 39230 | H6: 837518 | I6: =SUM(B6:H6) -> 40729524 | J6: 34600000 | K6: 38079849
A7: جهاز الأمن الوطني | B7: 0 | C7: 0 | D7: 170 | E7: 0 | F7: 0 | G7: 0 | H7: 0 | I7: =SUM(B7:H7) -> 170 | J7: 0 | K7: 760
A8: هيئة التشريع والإفتاء القانوني | B8: 0 | C8: 0 | D8: 3117 | E8: 0 | F8: 0 | G8: 235 | H8: 352 | I8: =SUM(B8:H8) -> 3704 | J8: 5000 | K8: 7684
A9: وزارة الخارجية | B9: 0 | C9: 1816300 | D9: 0 | E9: 0 | F9: 0 | G9: 0 | H9: 63059 | I9: =SUM(B9:H9) -> 1879359 | J9: 1877000 | K9: 1850282
A10: وزارة العدل والشئون الإسلامية والأوقاف- شئون العدل | B10: 0 | C10: 5432972 | D10: 10112 | E10: 56348 | F10: 0 | G10: 0 | H10: 4453249 | I10: =SUM(B10:H10) -> 9952681 | J10: 9498000 | K10: 10824306
A11: وزارة التربية والتعليم | B11: 0 | C11: 24440 | D11: 107295 | E11: 0 | F11: 0 | G11: 58733 | H11: 998463 | I11: =SUM(B11:H11) -> 1188931 | J11: 3198000 | K11: 1091114
A12: وزارة الصحة | B12: 0 | C12: 24838 | D12: 13013358 | E12: 133892 | F12: 0 | G12: 37076 | H12: 972523 | I12: =SUM(B12:H12) -> 14181687 | J12: 14925000 | K12: 13815100
A13: وزارة الأشغال وشئون البلديات والتخطيط العمراني- الإدارة العامة للتخطيط العمراني وإدارة الإستملاك والتعويض وشئون الزراعة والثروة البحرية | B13: 0 | C13: 38041 | D13: 190127 | E13: 77575 | F13: 0 | G13: 37235 | H13: 57430 | I13: =SUM(B13:H13) -> 400408 | J13: 330000 | K13: 326067
A14: وزارة العمل | B14: 0 | C14: 1374755 | D14: 3615 | E14: 1200 | F14: 0 | G14: 0 | H14: 2557 | I14: =SUM(B14:H14) -> 1382127 | J14: 2188000 | K14: 2024889
A15: المؤسسة العامة للشباب والرياضة | B15: 0 | C15: 14620 | D15: 0 | E15: 3800 | F15: 0 | G15: 0 | H15: 58722 | I15: =SUM(B15:H15) -> 77142 | J15: 35500 | K15: 57640
A16: وزارة التنمية الاجتماعية | B16: 0 | C16: 1355 | D16: 0 | E16: 0 | F16: 0 | G16: 1436 | H16: 1296 | I16: =SUM(B16:H16) -> 4087 | J16: 12500 | K16: 159670
A17: وزارة الصناعة والتجارة | B17: 0 | C17: 5488611 | D17: 246319 | E17: 4169452 | F17: 0 | G17: 0 | H17: 32887 | I17: =SUM(B17:H17) -> 9937269 | J17: 8434000 | K17: 8990818
... A22: الهيئة الوطنية للنفط والغاز | B22: 0 | C22: 90 | D22: 0 | E22: 0 | F22: 0 | G22: 0 | H22: 48870 | I22: =SUM(B22:H22) -> 48960 | J22: 0 | K22: 16456
A23: شئون الطيران المدني | B23: 0 | C23: 0 | D23: 0 | E23: 0 | F23: 0 | G23: 0 | H23: 0 | I23: =SUM(B23:H23) -> 0 | J23: 0
A24: مجلس المناقصات والمزايدات | B24: 0 | C24: 10885 | D24: 0 | E24: 0 | F24: 0 | G24: 0 | H24: 0 | I24: =SUM(B24:H24) -> 10885 | J24: 0 | K24: 0
A25: وزارة شئون مجلسي الشورى والنواب | B25: 0 | I25: 0
A26: الميزانية التحويلية | B26: 0 | C26: 24765911 | D26: 790217 | E26: 69137440 | F26: 28169772 | G26: 581901 | H26: 41153188 | I26: =SUM(B26:H26) -> 164598429 | J26: 141425000 | K26: 66285676
A27: إيرادات النفط والغاز الطبيعي | B27: 2662346395 | C27: 0 | D27: 0 | E27: 0 | F27: 0 | G27: 0 | H27: 0 | I27: =SUM(B27:H27) -> 2662346395 | J27: 2404200000 | K27: 2600157462
A28: هيئة شئون الإعلام | B28: 0 | C28: 415264 | D28: 829348 | E28: 27800 | F28: 0 | G28: 2000 | H28: 23645 | I28: =SUM(B28:H28) -> 1298057 | J28: 1144000 | K28: 1588485
A29: وزارة شئون مجلس الوزراء | B29: 0 | I29: =SUM(B29:H29) -> 0
A30: وزارة الثقافة | I30: =SUM(B30:H30) -> 0
A31: 4- الإيرادات مصنفة حسب الأبواب والوزارات والجهات الحكومية (تتمة)
B32: (دينار بحريني)
A33: الوزارة أو الجهة الحكومية | B33: النفط والغاز الطبيعي | C33: ضــرائـب ورســوم | D33: منتجات خدمية وسلعية حكومية | E33: إستثمارات وأملاك حكومية | F33: الإعانات | G33: مبيعات أصول رأسمالية | H33: غرامــات وجزاءات وإيرادات متنوعة | I33: المجموع | J33: الاعتماد | K33: الفعلي 2013
A35: وزارة الثقافة | B35: 0 | C35: 12317975 | D35: 12600 | E35: 151912 | F35: 0 | G35: 0 | H35: 32887 | I35: =SUM(B35:H35) -> 12515374 | J35: 8570000 | K35: 10977595
A36: ديوان الخدمة المدنية | B36: 0 | C36: 0 | D36: 0 | E36: 0 | F36: 0 | G36: 0 | H36: 14151 | I36: =SUM(B36:H36) -> 14151 | J36: 5000 | K36: 367
A37: الجهاز المركزي للمعلومات | B37: 0 | C37: 1702572 | D37: 102 | E37: 0 | F37: 0 | G37: 1561 | H37: 0 | I37: =SUM(B37:H37) -> 1704235 | J37: 1503000 | K37: 1828030
A38: الأمانة العامة للمجلس الأعلى للشباب والرياضة | B38: 0 | C38: 0 | D38: 0 | E38: 0 | F38: 0 | G38: 0 | H38: 0 | I38: 0 | J38: 0 | K38: 250
A39: المجلس اللأعلى للقضاء | B39: 0 | C39: 0 | D39: 1873 | E39: 0 | F39: 0 | G39: 0 | H39: 0 | I39: =SUM(B39:H39) -> 1873 | J39: 0 | K39: 0
A40: وزارة العدل والشئون الإسلامية والأوقاف-الشئون الإسلامية | B40: 0 | C40: 6320 | D40: 0 | E40: 0 | F40: 0 | G40: 0 | H40: 17944 | I40: =SUM(B40:H40) -> 24264 | J40: 10000 | K40: 13323
A41: جهاز المساحة والتسجيل العقاري | B41: 0 | C41: 22511221 | D41: 154908 | E41: 0 | F41: 0 | G41: 0 | H41: 5076 | I41: =SUM(B41:H41) -> 22671205 | J41: 11365000 | K41: 18773590
A42: وزارة المالية | B42: 0 | C42: 2240 | D42: 0 | E42: 90 | F42: 0 | G42: 2130 | H42: 30128 | I42: =SUM(B42:H42) -> 34588 | J42: 3000 | K42: 44993
A43: شئون الجمارك | B43: 0 | C43: 89352580 | D43: 64168 | E43: 0 | F43: 0 | G43: 57121 | H43: 8169875 | I43: =SUM(B43:H43) -> 97643744 | J43: 111487000 | K43: 125421962
A44: المجموع | B44: =SUM(B4:B43) -> 2662346395 | C44: =SUM(C4:C43) -> 202894933 | D44: =SUM(D4:D43) -> 53917847 | E44: =SUM(E4:E43) -> 82346641 | F44: =SUM(F4:F43) -> 28169772 | G44: =SUM(G4:G43) -> 901978 | H44: =SUM(H4:H43) -> 58891542 | I44: =SUM(I4:I43) -> 3089469108 | ... K44: =SUM(K4:K43) -> 2943657536

Sheet تفصيل الإيرادات
A1: 5- الإيرادات مصنفة حسب الأبواب والأقسام والبنود
A2: (دينار بحريني)
A3: التبويــب | E3: البيـــان | F3: 2014 | I3: 2013 الفعلي
A4: بند | B4: قسم | C4: باب | D4: نوع | F4: الاعتماد | G4: الفعلي | H4: الفرق
C5: 1 | D5: 4 | E5: النفط والغاز الطبيعي | F5: =F6+F10+F22+F26 -> 2404200000 | G5: =G6+G10+G22+G26 -> 2662346395 | H5: =G5-F5 -> 258146395 | I5: =I6+I10+I22+I26 -> 2600157462
B6: 1 | C6: 1 | D6: 4 | E6: مبيعات النفط | F6: =SUM(F7:F9) -> 1958138000 | G6: =SUM(G7:G9) -> 2212613176 | H6: =G6-F6 -> 254475176 | I6: =SUM(I7:I9) -> 2183323571
A7: 40011 | B7: 1 | C7: 1 | D7: 4 | E7: حقل البحرين والمصفاة | F7: 209461200 | G7: 206473297 | H7: =G7-F7 -> -2987903 | I7: =223654144 -> 223654144
A8: 40012 | B8: 1 | C8: 1 | D8: 4 | E8: حقل أبوسعفة | F8: 1769676800 | G8: 2027312875 | H8: =G8-F8 -> 257636075 | I8: 1979267179
A9: 40014 | B9: 1 | C9: 1 | D9: 4 | E9: احتياطي الأجيال القادمة- حقل أبوسعفة | F9: -21000000 | G9: -21172996 | H9: =G9-F9 -> -172996 | I9: -19597752
B10: 2 | C10: 1 | D10: 4 | E10: مبيعات الغاز | F10: =SUM(F11:F21) -> 431476500 | G10: =SUM(G11:G21) -> 434722091 | H10: =G10-F10 -> 3245591 | I10: =SUM(I11:I21) -> 401014351
A11: 40031 | B11: 2 | C11: 1 | D11: 4 | E11: محطة المنامة للكهرباء | F11: 0 | G11: 0 | H11: =G11-F11 -> 0 | I11: 0
A12: 40032 | B12: 2 | C12: 1 | D12: 4 | E12: محطة سترة للكهرباء | F12: 17253800 | G12: 0 | H12: =G12-F12 -> -17253800 | I12: 0
A13: 40033 | B13: 2 | C13: 1 | D13: 4 | E13: محطة سترة للمياه | F13: 0 | G13: 0 | H13: =G13-F13 -> 0 | I13: 0
A14: 40034 | B14: 2 | C14: 1 | D14: 4 | E14: محطة الرفاع للكهرباء | F14: 23889700 | G14: 0 | H14: =G14-F14 -> -23889700 | I14: 0
A15: 40035 | B15: 2 | C15: 1 | D15: 4 | E15: محطة الحد للكهرباء | F15: 71669600 | G15: 0 | H15: =G15-F15 -> -71669600 | I15: 0
A16: 40036 | B16: 2 | C16: 1 | D16: 4 | E16: محطة الحد للماء | F16: 0 | H16: =G16-F16 -> 0
A17: 40037 | B17: 2 | C17: 1 | D17: 4 | E17: مبيعات الغاز- محطات الكهرباء والماء | F17: 57070200 | G17: 62390724 | H17: =G17-F17 -> 5320524 | I17: 54155855
A18: 40051 | B18: 2 | C18: 1 | D18: 4 | E18: شركة المنيوم البحرين (ألبا) | F18: 99541200 | G18: 107213712 | H18: =G18-F18 -> 7672512 | I18: 101266533
A19: 40052 | B19: 2 | C19: 1 | D19: 4 | E19: شركة نفط البحرين (بابكو) | F19: 56539500 | G19: 38935826 | H19: =G19-F19 -> -17603674 | I19: 37630660
A20: 40053 | B20: 2 | C20: 1 | D20: 4 | E20: شركة غاز البحرين الوطنية (بناغاز) | F20: 34291200 | G20: 36231980 | H20: =G20-F20 -> 1940780 | I20: 34248280
A21: 40054 | B21: 2 | C21: 1 | D21: 4 | E21: الشركات المحلية الاخرى | F21: 71221300 | G21: 189949849 | H21: =G21-F21 -> 118728549 | I21: 173713023
B22: 3 | C22: 1 | D22: 4 | E22: الضرائب والرسوم النفطية | F22: =SUM(F23:F27) -> 14585500 | G22: =SUM(G23:G27) -> 15011128 | H22: =SUM(H23:H25) -> 425628 | I22: =SUM(I23:I25) -> 15819540
A23: 42011 | B23: 3 | C23: 1 | D23: 4 | E23: ضريبة دخل الغاز | F23: 8779700 | G23: 10605738 | H23: =G23-F23 -> 1826038 | I23: 11676073
A24: 42012 | B24: 3 | C24: 1 | D24: 4 | E24: رسوم تفتيش المنتجات النفطية | H24: =G24-F24 -> 0
A25: 42013 | B25: 3 | C25: 1 | D25: 4 | E25: ضريبة البنزين | F25: 5805800 | G25: 4405390 | H25: =G25-F25 -> -1400410 | I25: 4143467
B26: 4 | C26: 1 | D26: 4 | E26: عوائد الاستثمارات في النفط | F26: =F27 -> 0 | G26: =G27 -> 0 | H26: =H27 -> 0 | I26: =I27 -> 0
A27: 45014 | B27: 4 | C27: 1 | D27: 4 | E27: عوائد الاستثمارات في النفط | F27: 0 | G27: 0 | H27: =G27-F27 -> 0 | I27: 0
C28: 2 | D28: 4 | E28: الضرائب والرسوم | F28: =SUM(F29,F31,F38,F49) -> 199247958 | G28: =SUM(G29,G31,G38,G49) -> 202894933 | H28: =G28-F28 -> 3646975 | I28: =SUM(I29,I31,I38,I49) -> 223770501
B29: 1 | C29: 2 | D29: 4 | E29: الضرائب والرسوم على استهلاك السلع والمنتجات | F29: =SUM(F30) -> 0 | G29: =SUM(G30) -> 0 | H29: =G29-F29 -> 0 | I29: =SUM(I30) -> 0
A30: 42013 | B30: 1 | C30: 2 | D30: 4 | E30: ضريبة البنزين | F30: 0 | G30: 0 | H30: =G30-F30 -> 0 | I30: 0
B31: 2 | C31: 2 | D31: 4 | E31: الضرائب والرسوم على التجارة الدولية | F31: =SUM(F32:F37) -> 108321000 | G31: =SUM(G32:G37) -> 88587021 | H31: =G31-F31 -> -19733979 | I31: =SUM(I32:I37) -> 115083869
A32: 42501 | B32: 2 | C32: 2 | D32: 4 | E32: ضرائب جمركية على السلع الضرورية الأساسية | F32: 50000000 | G32: 45313631 | H32: =G32-F32 -> -4686369 | I32: 28116872
A33: 42503 | B33: 2 | C33: 2 | D33: 4 | E33: ضرائب جمركية على العربات | F33: 12000000 | G33: 7457362 | H33: =G33-F33 -> -4542638 | I33: 8877231
A34: 42504 | B34: 2 | C34: 2 | D34: 4 | E34: ضرائب جمركية على التبغ المصنع وغير المصنع ومشتقاته | F34: 30000000 | G34: 16968822 | H34: =G34-F34 -> -13031178 | I34: 59526086
A35: 42505 | B35: 2 | C35: 2 | D35: 4 | E35: ضرائب جمركية على السلع الكمالية | F35: 16000000 | G35: 17912053 | H35: =G35-F35 -> 1912053 | I35: 18019058
A36: 42506 | B36: 2 | C36: 2 | D36: 4 | E36: ضرائب جمركية على اليخوت والزوارق والقوارب | F36: 21000 | G36: 361304 | H36: =G36-F36 -> 340304 | I36: 46703
A37: 42507 | B37: 2 | C37: 2 | D37: 4 | E37: ضريبة حماية الصناعة الوطنية | F37: 300000 | G37: 573849 | H37: =G37-F37 -> 273849 | I37: 497919
B38: 3 | C38: 2 | D38: 4 | E38: رسوم التسجيل والتراخيص | F38: =SUM(F39:F48) -> 1072298 | G38: =SUM(G39:G48) -> 1957608 | H38: =G38-F38 -> 885310 | I38: =SUM(I39:I48) -> 1688722
A39: 43011 | B39: 3 | C39: 2 | D39: 4 | E39: نشاطات التجارة العامة | F39: 82105 | G39: 41885 | H39: =G39-F39 -> -40220 | I39: 623569
A40: 43021 | B40: 3 | C40: 2 | D40: 4 | E40: نشاطات الصناعة | F40: 5000 | G40: 9603 | H40: =G40-F40 -> 4603 | I40: 3288
...

Sheet الميزانية المعتمدة
A1: 6- ميزانية المصروفات المتكررة والمشاريع
I2: (دينار بحريني)
A3: البيـان | B3: الاعتمادات الأصلية | C3: الاعتماد الإضافي | D3: التعديل | E3: الاعتمادات بعد التعديل | F3: الإعتمادات المدورة من سنوات سابقة | G3: الاعتمادات المتوفرة | H3: المصروفات الفعلية | I3: الوفر (التجاوز)
A4: المصروفات المتكررة
A5: القوى العاملة | B5: 1378150851 | C5: - | D5: 14938802 | E5: =SUM(B5:D5) -> 1393089653 | F5: 0 | G5: =F5+E5 -> 1393089653 | H5: ='بيان الايرادات والمصروفات'!$D$15 -> 1379273023 | I5: =G5-H5 -> 13816630
A6: الخدمات | B6: 168299118 | C6: - | D6: 25142758 | E6: =SUM(B6:D6) -> 193441876 | F6: 0 | G6: =F6+E6 -> 193441876 | H6: ='بيان الايرادات والمصروفات'!$D$16 -> 223123791 | I6: =G6-H6 -> -29681915
A7: السلع الإستهلاكية | B7: 125848670 | C7: - | D7: 18141756 | E7: =SUM(B7:D7) -> 143990426 | F7: 0 | G7: =F7+E7 -> 143990426 | H7: ='بيان الايرادات والمصروفات'!$D$17 -> 147903758 | I7: =G7-H7 -> -3913332
A8: السلع الرأسمالية | B8: 30680711 | C8: - | D8: 2913715 | E8: =SUM(B8:D8) -> 33594426 | F8: 0 | G8: =F8+E8 -> 33594426 | H8: ='بيان الايرادات والمصروفات'!$D$18 -> 36308070 | I8: =G8-H8 -> -2713644
A9: الصيانة | B9: 68330425 | C9: - | D9: -5594 | E9: =SUM(B9:D9) -> 68324831 | F9: 0 | G9: =F9+E9 -> 68324831 | H9: ='بيان الايرادات والمصروفات'!$D$19 -> 69058155 | I9: =G9-H9 -> -733324
A10: نفقات تحويلية | B10: 938540725 | C10: - | D10: =-136532533-1600000 -> -138132533 | E10: =SUM(B10:D10) -> 800408192 | F10: 0 | G10: =F10+E10 -> 800408192 | H10: ='بيان الايرادات والمصروفات'!$D$20 -> 729348815 | I10: =G10-H10 -> 71059377
A11: الإعانات وتسديد فوائد القروض | B11: 446892500 | C11: - | D11: 73001096 | E11: =SUM(B11:D11) -> 519893596 | F11: 0 | G11: =F11+E11 -> 519893596 | H11: ='بيان الايرادات والمصروفات'!$D$21 -> 511214633 | I11: =G11-H11 -> 8678963
A12: مجموع المصروفات المتكررة | B12: =SUM(B5:B11) -> 3156743000 | C12: - | D12: =SUM(D5:D11) -> -4000000 | E12: =SUM(E5:E11) -> 3152743000 | F12: =SUM(F5:F11) -> 0 | G12: =SUM(G5:G11) -> 3152743000 | H12: =SUM(H5:H11) -> 3096230245 | I12: =SUM(I5:I11) -> 56512755
A13: مصروفات المشاريع | B13: 551000000 | C13: - | D13: 4000000 | E13: =SUM(B13:D13) -> 555000000 | F13: 270562104 | G13: =F13+E13 -> 825562104 | H13: ='بيان الايرادات والمصروفات'!$D$23 -> 448304933 | I13: =G13-H13 -> 377257171
A14: المجموع | B14: =B13+B12 -> 3707743000 | C14: - | D14: =D13+D12 -> 0 | E14: =E13+E12 -> 3707743000 | F14: =F13+F12 -> 270562104 | G14: =G13+G12 -> 3978305104 | H14: =H13+H12 -> 3544535178 | I14: =I13+I12 -> 433769926

Sheet مناقلات الميزانية 
A1: 7- الميزانية الأصلية والتعديل والمناقلات للمصروفات المتكررة
G2: (دينار بحريني)
A3: البيـان | B3: الاعتمادات الأصلية | C3: الاعتماد الإضافي | D3: التعديل | E3: الاعتمادات بعد التعديل | F3: الاعتمادات المدورة من سنوات سابقة | G3: الاعتمادات المتوفرة
A5: قطاع الإدارة العامة | B5: =SUM(B6:B25) -> 1079460000 | C5: =SUM(C6:C25) -> 0 | D5: =SUM(D6:D25) -> 31774058 | E5: =SUM(E6:E25) -> 1111234058 | F5: =SUM(F6:F25) -> 0 | G5: =SUM(G6:G25) -> 1111234058
A6: ديوان صاحب السمو الملكي رئيس مجلس الوزراء | B6: 18151000 | C6: 0 | D6: 1471090 | E6: =+B6+C6+D6 -> 19622090 | F6: 0 | G6: =+E6+F6 -> 19622090
A7: مكتب صاحب السمو الملكي النائب الأول لرئيس مجلس الوزراء | B7: 2000000 | C7: 0 | D7: 0 | E7: =+B7+C7+D7 -> 2000000 | F7: 0 | G7: =+E7+F7 -> 2000000
A8: مكاتب نواب صاحب السمو الملكي رئيس مجلس الوزراء | B8: 3523000 | C8: 0 | D8: 197811 | E8: 3720811 | F8: 0 | G8: 3720811
A9: مكاتب مستشاري صاحب السمو الملكي رئيس مجلس الوزراء | B9: 723000 | C9: 0 | D9: 360342 | E9: 1083342 | F9: 0 | G9: 1083342
A10: مكتب وزير شئون المتابعة | B10: 359000 | C10: 0 | D10: 220000 | E10: =+B10+C10+D10 -> 579000 | F10: 0 | G10: =+E10+F10 -> 579000
A11: وزارة الدفاع | B11: 501980000 | C11: 0 | D11: 2100000 | E11: =+B11+C11+D11 -> 504080000 | F11: 0 | G11: =+E11+F11 -> 504080000
A12: وزارة الداخلية | B12: 355000000 | C12: 0 | D12: 500000 | E12: =+B12+C12+D12 -> 355500000 | F12: 0 | G12: =+E12+F12 -> 355500000
A13: شئون الجمارك | B13: 16005000 | C13: 0 | D13: 500000 | E13: =+B13+C13+D13 -> 16505000 | F13: 0 | G13: =+E13+F13 -> 16505000
A14: جهاز الأمن الوطني | B14: 27300000 | C14: 0 | D14: 12045280 | E14: =+B14+C14+D14 -> 39345280 | F14: 0 | G14: =+E14+F14 -> 39345280
A15: الحرس الوطني | B15: 37200000 | C15: 0 | D15: 3000000 | E15: =+B15+C15+D15 -> 40200000 | F15: 0 | G15: =+E15+F15 -> 40200000
A16: هيئة التشريع والإفتاء القانوني | B16: 2375000 | C16: 0 | D16: 184478 | E16: =+B16+C16+D16 -> 2559478 | F16: 0 | G16: =+E16+F16 -> 2559478
A17: وزارة الخارجية | B17: 30246000 | C17: 0 | D17: 686395 | E17: =+B17+C17+D17 -> 30932395 | F17: 0 | G17: =+E17+F17 -> 30932395
A18: وزارة العدل والشئون الإسلامية والأوقاف- شئون العدل | B18: 12794000 | C18: 0 | D18: 3852836 | E18: =+B18+C18+D18 -> 16646836 | F18: 0 | G18: =+E18+F18 -> 16646836
A19: الأمانة العامة لمجلس الوزراء | B19: 1684000 | C19: 0 | D19: 0 | E19: =+B19+C19+D19 -> 1684000 | F19: 0 | G19: =+E19+F19 -> 1684000
A20: ديوان الخدمة المدنية | B20: 5085000 | C20: 0 | D20: 1104898 | E20: =+B20+C20+D20 -> 6189898 | F20: 0 | G20: =+E20+F20 -> 6189898
A21: الجهاز المركزي للمعلومات | B21: 8725000 | C21: 0 | D21: 0 | E21: =+B21+C21+D21 -> 8725000 | F21: 0 | G21: =+E21+F21 -> 8725000
... A25: مستشفى الملك حمد | B25: 38000000 | C25: 0 | D25: 500000 | E25: =+B25+C25+D25 -> 38500000 | F25: 0 | G25: =+E25+F25 -> 38500000
A27: قطاع الخدمات الإجتماعية | B27: =SUM(B28:B37) -> 634172000 | C27: =SUM(C28:C37) -> 0 | D27: =SUM(D28:D37) -> 44615126 | E27: =SUM(E28:E37) -> 678787126 | F27: =SUM(F28:F37) -> 0 | G27: =SUM(G28:G37) -> 678787126
A28: وزارة الثقافة | B28: 7535000 | C28: 0 | D28: 2235000 | E28: =+B28+C28+D28 -> 9770000 | F28: 0 | G28: =+E28+F28 -> 9770000
A29: هيئة شئون الإعلام | B29: 19154000 | C29: 0 | D29: 4647987 | E29: =+B29+C29+D29 -> 23801987 | F29: 0 | G29: =+E29+F29 -> 23801987
A30: وزارة التربية والتعليم | B30: 330100000 | C30: 0 | D30: 0 | E30: =+B30+C30+D30 -> 330100000 | F30: 0 | G30: =+E30+F30 -> 330100000
A31: وزارة الصحة | B31: 218912000 | C31: 0 | D31: 29809930 | E31: =+B31+C31+D31 -> 248721930 | F31: 0 | G31: =+E31+F31 -> 248721930
A32: وزارة العمل | B32: 6067000 | C32: 0 | D32: 600000 | E32: =+B32+C32+D32 -> 6667000 | F32: 0 | G32: =+E32+F32 -> 6667000
A33: وزارة التنمية الإجتماعية | B33: 24000000 | C33: 0 | D33: 4817564 | E33: =+B33+C33+D33 -> 28817564 | F33: 0 | G33: =+E33+F33 -> 28817564
A34: المؤسسة العامة للشباب والرياضة | B34: 13093000 | C34: 0 | D34: 0 | E34: =+B34+C34+D34 -> 13093000 | F34: 0 | G34: =+E34+F34 -> 13093000
A35: الأمانة العامة للمجلس الأعلى للشباب والرياضة | B35: 13011000 | C35: 0 | D35: 2000000 | E35: =+B35+C35+D35 -> 15011000 | F35: 0 | G35: =+E35+F35 -> 15011000
A36: وزارة شئون الإعلام | B36: 300000 | C36: 0 | D36: 504645 | E36: =+B36+C36+D36 -> 804645 | F36: 0 | G36: =+E36+F36 -> 804645
A37: وزارة شئون حقوق الإنسان | B37: 2000000 | C37: 0 | D37: 0 | E37: =+B37+C37+D37 -> 2000000 | F37: 0 | G37: =+E37+F37 -> 2000000
A39: قطاع الخدمات الإقتصادية | B39: =SUM(B40:B42) -> 22713000 | C39: 0 | D39: =SUM(D40:D42) -> 103425 | E39: =SUM(E40:E42) -> 22816425 | F39: 0 | G39: =SUM(G40:G42) -> 22816425
A40: وزارة الصناعة والتجارة | B40: 11723000 | C40: 0 | D40: 48480 | E40: =+B40+C40+D40 -> 11771480 | F40: 0 | G40: =+E40+F40 -> 11771480
A41: الهيئة الوطنية للنفط والغاز | B41: 2652000 | C41: 0 | D41: 54945 | E41: =+B41+C41+D41 -> 2706945 | F41: 0 | G41: =+E41+F41 -> 2706945
A42: وزارة المالية | B42: 8338000 | C42: 0 | D42: 0 | E42: =+B42+C42+D42 -> 8338000 | F42: 0 | G42: =+E42+F42 -> 8338000
A43: قطاع البنية الأساسية | B43: =SUM(B44:B53) -> 415458000 | C43: =SUM(C44:C53) -> 0 | D43: =SUM(D44:D53) -> 1582086 | E43: =SUM(E44:E53) -> 417040086 | F43: =SUM(F44:F53) -> 0 | G43: =SUM(G44:G53) -> 417040086
A44: وزارة الإسكان | B44: 5000000 | C44: 0 | D44: 443886 | E44: =+B44+C44+D44 -> 5443886 | F44: 0 | G44: =+E44+F44 -> 5443886
A45: 7- الميزانية الأصلية والتعديل والمناقلات للمصروفات المتكررة (تتمة)
G46: (دينار بحريني)
...

Sheet مصروفات الوزارات 
A1: 8- المصروفات المتكررة مصنفة حسب الأبواب والوزارات والجهات الحكومية
K2: (دينار بحريني)
A3: الوزارة أو الجهة الحكومية | B3: قوى عاملة | C3: خدمات | D3: سلع إستهلاكية | E3: سلع رأسمالية | F3: صيانة | G3: نفقات تحويلية | H3: إعانات وتسديد فوائد القروض | I3: المجموع | J3: الاعتماد | K3: الفعلي 2013
A4: ديوان صاحب السمو الملكي رئيس مجلس الوزراء | B4: 4096063 | C4: 4294035 | D4: 89810 | E4: 102236 | F4: 5445 | G4: 11034500 | H4: 0 | I4: =SUM(B4:H4) -> 19622089 | J4: 19622090 | K4: 17931596
A5: وزارة الدفاع (إيضاح رقم 13) | B5: 353459635 | C5: 48320607 | D5: 47385757 | E5: 17989697 | F5: 45595367 | G5: 0 | H5: 1724282 | I5: =SUM(B5:H5) -> 514475345 | J5: 504080000 | K5: 465097894
A6: وزارة الداخلية | B6: 315774816 | C6: 23029453 | D6: 7187858 | E6: 5755505 | F6: 6662572 | G6: 0 | H6: 0 | I6: =SUM(B6:H6) -> 358410204 | J6: 355500000 | K6: 324731640
A7: جهاز الأمن الوطني | B7: 0 | C7: 0 | D7: 0 | E7: 0 | F7: 0 | G7: 39345280 | H7: 0 | I7: =SUM(B7:H7) -> 39345280 | J7: 39345280 | K7: 32200000
A8: هيئة التشريع والإفتاء القانوني | B8: 2077208 | C8: 395773 | D8: 21363 | E8: 53942 | F8: 11191 | G8: 0 | H8: 0 | I8: =SUM(B8:H8) -> 2559477 | J8: 2559478 | K8: 2221688
A9: وزارة الخارجية | B9: 21274147 | C9: 10409053 | D9: 559128 | E9: 606316 | F9: 1008270 | G9: 0 | H9: 60905 | I9: =SUM(B9:H9) -> 33917819 | J9: 30932395 | K9: 35022820
A10: وزارة العدل والشئون الإسلامية والأوقاف - شئون العدل | B10: 11062515 | C10: 4426744 | D10: 336753 | E10: 181337 | F10: 404588 | G10: 42399 | H10: 192500 | I10: =SUM(B10:H10) -> 16646836 | J10: 16646836 | K10: 14968658
A11: وزارة التربية والتعليم | B11: 280914841 | C11: 36192932 | D11: 4621509 | E11: 2676419 | F11: 2041764 | G11: 0 | H11: 75000 | I11: =SUM(B11:H11) -> 326522465 | J11: 330100000 | K11: 318883208
A12: وزارة الصحة | B12: 153558702 | C12: 36021099 | D12: 66013096 | E12: 1629964 | F12: 5333396 | G12: 0 | H12: 196778 | I12: =SUM(B12:H12) -> 262753035 | J12: 248721930 | K12: 249775333
A13: وزارة الأشغال وشئون البلديات والتخطيط العمراني - الإدارة العامة للتخطيط العمراني وإدارة الإستملاك والتعويض وشئون الزراعة والثروة البحرية | B13: 9587426 | C13: 1444162 | D13: 511605 | E13: 129618 | F13: 141447 | G13: 6000009 | H13: 0 | I13: =SUM(B13:H13) -> 17814267 | J13: 17814267 | K13: 17505393
A14: وزارة العمل | B14: 5145990 | C14: 832557 | D14: 143535 | E14: 62476 | F14: 43891 | G14: 0 | H14: 400000 | I14: =SUM(B14:H14) -> 6628449 | J14: 6667000 | K14: 6164974
A15: المؤسسة العامة للشباب والرياضة | B15: 3320590 | C15: 4122891 | D15: 109491 | E15: 155729 | F15: 426089 | G15: 2919438 | H15: 1664740 | I15: =SUM(B15:H15) -> 12718968 | J15: 13093000 | K15: 12337237
... A23: وزارة الإسكان | B23: 4274753 | C23: 759382 | D23: 127605 | E23: 46519 | F23: 235627 | G23: 0 | H23: 0 | I23: =SUM(B23:H23) -> 5443886 | J23: 5443886 | K23: 5360542
A24: وزارة الثقافة | I24: =SUM(B24:H24) -> 0 | J24: 0 | K24: 0
A25: 8- المصروفات المتكررة مصنفة حسب الأبواب والوزارات والجهات الحكومية (تتمة)
K26: (دينار بحريني)
A27: الوزارة أو الجهة الحكومية | B27: قوى عاملة | C27: خدمات | D27: سلع إستهلاكية | E27: سلع رأسمالية | F27: صيانة | G27: نفقات تحويلية | H27: إعانات وتسديد فوائد القروض | I27: المجموع | J27: الاعتماد | K27: الفعلي 2013
A29: مكتب وزير الطاقة | B29: 130482 | C29: 61733 | D29: 13818 | E29: 5755 | F29: 1161 | G29: 0 | H29: 0 | I29: =SUM(B29:H29) -> 212949 | J29: 300000 | K29: 192059
A30: المجلس الأعلى للبيئة | B30: 4588098 | C30: 2033608 | D30: 216909 | E30: 35739 | F30: 562944 | G30: 0 | H30: 0 | I30: =SUM(B30:H30) -> 7437298 | J30: 6680196 | K30: 6893974
A31: مركز الشيخ محمد بن خليفة آل خليفة التخصصي للقلب (إيضاح رقم 13) | B31: 7508332 | C31: 271592 | D31: 6493997 | E31: 1088019 | F31: 337815 | G31: 0 | H31: 0 | I31: =SUM(B31:H31) -> 15699755 | J31: 15700000 | K31: 14700078
A32: وزارة الأشغال وشئون البلديات والتخطيط العمراني-الأشغال | B32: 26207732 | C32: 4670316 | D32: 247366 | E32: 172184 | F32: 149254 | G32: 0 | H32: 0 | I32: =SUM(B32:H32) -> 31446852 | J32: 31076200 | K32: 30503971
A33: هيئة الكهرباء والماء (إيضاح رقم 12) | B33: 0 | C33: 0 | D33: 0 | E33: 0 | F33: 0 | G33: 350000000 | H33: 0 | I33: =SUM(B33:H33) -> 350000000 | J33: 350000000 | K33: 350000000
A34: وزارة المواصلات والاتصالات | B34: 16095040 | C34: 10475136 | D34: 261972 | E34: 549236 | F34: 1137041 | G34: 0 | H34: 0 | I34: =SUM(B34:H34) -> 28518425 | J34: 29920000 | K34: 27936443
A35: الحرس الوطنى | B35: 37450288 | C35: 765502 | D35: 631872 | E35: 523069 | F35: 404868 | G35: 0 | H35: 424401 | I35: =SUM(B35:H35) -> 40200000 | J35: 40200000 | K35: 40199992
A36: الهيئة الوطنية للنفط والغاز | B36: 1613468 | C36: 1031090 | D36: 24045 | E36: 25029 | F36: 13312 | G36: 0 | H36: 0 | I36: =SUM(B36:H36) -> 2706944 | J36: 2706945 | K36: 2678385
A37: شئون الطيران المدني | B37: 0 | C37: 0 | D37: 0 | E37: 0 | F37: 0 | G37: 0 | H37: 0 | I37: =SUM(B37:H37) -> 0 | J37: 0
A38: وزير الدولة لشئون الاتصالات | B38: 195264 | C38: 93097 | D38: 3966 | E38: 4800 | F38: 0 | G38: 0 | H38: 0 | I38: =SUM(B38:H38) -> 297127 | J38: 300000 | K38: 434080
A39: وزارة شئون مجلسي الشورى والنواب | B39: 1139842 | C39: 322146 | D39: 7956 | E39: 104741 | F39: 1482 | G39: 0 | H39: 0 | I39: =SUM(B39:H39) -> 1576167 | J39: 1576169 | K39: 1472535
A40: وزارة شئون الإعلام | B40: 347791 | C40: 397698 | D40: 7967 | E40: 51189 | F40: 0 | G40: 0 | H40: 0 | I40: =SUM(B40:H40) -> 804645 | J40: 804645 | K40: 419444
A41: وزارة شئون حقوق الإنسان | B41: 507311 | C41: 583383 | D41: 7950 | E41: -39985 | F41: 4164 | G41: 0 | H41: 0 | I41: =SUM(B41:H41) -> 1062823 | J41: 2000000 | K41: 1029369
A42: مجلس المناقصات والمزايدات | B42: 716268 | C42: 387025 | D42: 15072 | E42: 6810 | F42: 2211 | G42: 0 | H42: 0 | I42: =SUM(B42:H42) -> 1127386 | J42: 1127386 | K42: 1124560
A43: الميزانية التحويلية (إيضاح رقم 10) | B43: 45878 | C43: 1531751 | D43: 0 | E43: 0 | F43: 0 | G43: 305081681 | H43: 491700954 | I43: =SUM(B43:H43) -> 798360264 | J43: 878223603 | K43: 707938113
A44: هيئة شئون الإعلام | B44: 14627518 | C44: 6354920 | D44: 1890354 | E44: 286060 | F44: 643134 | G44: 0 | H44: 0 | I44: =SUM(B44:H44) -> 23801986 | J44: 23801987 | K44: 22798608
A45: وزارة الثقافة | B45: 4688601 | C45: 3137960 | D45: 65781 | E45: 420493 | F45: 137278 | G45: 1000000 | H45: 185500 | I45: =SUM(B45:H45) -> 9635613 | J45: 9770000 | K45: 8837354
A46: الأمانة العامة لمجلس الوزراء | B46: 1111429 | C46: 199929 | D46: 17894 | E46: 26693 | F46: 6312 | G46: 0 | H46: 0 | I46: =SUM(B46:H46) -> 1362257 | J46: 1684000 | K46: 1291108
A47: ديوان الخدمة المدنية | B47: 5054806 | C47: 1023753 | D47: 30177 | E47: 39328 | F47: 41834 | G47: 0 | H47: 0 | I47: =SUM(B47:H47) -> 6189898 | J47: 6189898 | K47: 5856402
A48: الجهاز المركزي للمعلومات | B48: 6038636 | C48: 1320871 | D48: 770926 | E48: 147320 | F48: 407189 | G48: 0 | H48: 0 | I48: =SUM(B48:H48) -> 8684942 | J48: 8725000 | K48: 8365845
...

Sheet تفصيل المصروفات 
A1: 9- المصروفات المتكررة مصنفة حسب الأبواب والأقسام والبنود
F2: (دينار بحريني)
A3: التبويــب | E3: البيـــان | F3: 2014 | I3: 2013 الفعلي
A4: بند | B4: قسم | C4: باب | D4: نوع | F4: الاعتماد | G4: الفعلي | H4: الفرق
C5: 1 | D5: 6 | E5: نفقات القوى العاملة | F5: =F6+F24+F40+F48+F59+F69+F83+F92 -> 1393089653 | G5: =G6+G24+G40+G48+G59+G69+G83+G92 -> 1379273023 | H5: =F5-G5 -> 13816630 | I5: =I6+I24+I40+I48+I59+I69+I83+I92 -> 1300403906
B6: 1 | C6: 1 | D6: 6 | E6: وظائف البحرينيين | F6: =SUM(F7:F23) -> 1045979623 | G6: =SUM(G7:G23) -> 1028944984 | H6: =F6-G6 -> 17034639 | I6: =SUM(I7:I23) -> 972206747
A7: 60011 | B7: 1 | C7: 1 | D7: 6 | E7: الرواتب الأساسية | F7: 844998155 | G7: 807908770 | H7: =F7-G7 -> 37089385 | I7: 768711715
A8: 60021 | B8: 1 | C8: 1 | D8: 6 | E8: العمل الإضافي | F8: 19369774 | G8: 19131688 | H8: =F8-G8 -> 238086 | I8: 16280448
A9: 61011 | B9: 1 | C9: 1 | D9: 6 | E9: العلاوة الاجتماعية | F9: 41649584 | G9: 47469456 | H9: =F9-G9 -> -5819872 | I9: 41191953
A10: 61012 | B10: 1 | C10: 1 | D10: 6 | E10: علاوة تحسين المعيشة | F10: 53854080 | G10: 56691389 | H10: =F10-G10 -> -2837309 | I10: 54646890
A11: 61021 | B11: 1 | C11: 1 | D11: 6 | E11: علاوة السيارة والمواصلات | F11: 23377437 | G11: 25821003 | H11: =F11-G11 -> -2443566 | I11: 23393611
A12: 61022 | B12: 1 | C12: 1 | D12: 6 | E12: علاوة هاتف | F12: 2372079 | G12: 3735671 | H12: =F12-G12 -> -1363592 | I12: 3171371
A13: 61031 | B13: 1 | C13: 1 | D13: 6 | E13: علاوات شخصية أخرى | F13: 40315900 | G13: 44345283 | H13: =F13-G13 -> -4029383 | I13: 41971919
A14: 61032 | B14: 1 | C14: 1 | D14: 6 | E14: مكافأة خاصة | F14: 100800 | G14: 7316 | H14: =F14-G14 -> 93484 | I14: 4400
A15: 61033 | B15: 1 | C15: 1 | D15: 6 | E15: مكافأة أداء | F15: 18400 | G15: 5700 | H15: =F15-G15 -> 12700 | I15: 0
A16: 61034 | B16: 1 | C16: 1 | D16: 6 | E16: مكافأة انضباط | F16: 92663 | G16: 81600 | H16: =F16-G16 -> 11063 | I16: 52200
A17: 61035 | B17: 1 | C17: 1 | D17: 6 | E17: بدل علاوة الأطباء الإستشاريين | F17: 2535000 | G17: 2778740 | H17: =F17-G17 -> -243740 | I17: 2169566
A18: 61036 | B18: 1 | C18: 1 | D18: 6 | E18: بدل تفرغ للأطباء الإستشاريين | F18: 2543000 | G18: 3513447 | H18: =F18-G18 -> -970447 | I18: 3136555
... A23: 61991 | B23: 1 | C23: 1 | D23: 6 | E23: علاوات وتكاليف أخرى | F23: 9167412 | G23: 12244994 | H23: =F23-G23 -> -3077582 | I23: 13526571
B24: 2 | C24: 1 | D24: 6 | E24: وظائف غير البحرينيين | F24: =SUM(F25:F39) -> 114459466 | G24: =SUM(G25:G39) -> 130964936 | H24: =F24-G24 -> -16505470 | I24: =SUM(I25:I39) -> 118403394
A25: 60011 | B25: 2 | C25: 1 | D25: 6 | E25: الرواتب الأساسية | F25: 70323696 | G25: 76943058 | H25: =F25-G25 -> -6619362 | I25: 69333927
A26: 60021 | B26: 2 | C26: 1 | D26: 6 | E26: العمل الإضافي | F26: 2073448 | G26: 2920736 | H26: =F26-G26 -> -847288 | I26: 2402163
A27: 61011 | B27: 2 | C27: 1 | D27: 6 | E27: العلاوة الاجتماعية | F27: 2900064 | G27: 3542170 | H27: =F27-G27 -> -642106 | I27: 3147659
A28: 61012 | B28: 2 | C28: 1 | D28: 6 | E28: علاوة تحسين المعيشة | F28: 51750 | G28: 54053 | H28: =F28-G28 -> -2303 | I28: 55986
A29: 61021 | B29: 2 | C29: 1 | D29: 6 | E29: علاوة السيارة والمواصلات | F29: 1331833 | G29: 1540284 | H29: =F29-G29 -> -208451 | I29: 1269651
A30: 61022 | B30: 2 | C30: 1 | D30: 6 | E30: علاوة هاتف | F30: 79048 | G30: 192106 | H30: =F30-G30 -> -113058 | I30: 65703
A31: 61031 | B31: 2 | C31: 1 | D31: 6 | E31: علاوات شخصية أخرى | F31: 5186976 | G31: 5869462 | H31: =F31-G31 -> -682486 | I31: 5332425
A32: 61034 | B32: 2 | C32: 1 | D32: 6 | E32: مكافأة انضباط | F32: 5000 | G32: 16400 | H32: =F32-G32 -> -11400 | I32: 3200
A33: 61035 | B33: 2 | C33: 1 | D33: 6 | E33: بدل علاوة الأطباء الإستشاريين | F33: 54000 | G33: 38906 | H33: =F33-G33 -> 15094 | I33: 37065
A34: 61036 | B34: 2 | C34: 1 | D34: 6 | E34: بدل التفرغ للعمل الحكومي للأطباء الاستشاريين | H34: =F34-G34 -> 0
A35: 61041 | B35: 2 | C35: 1 | D35: 6 | E35: بدل اغتراب | F35: 390857 | G35: 193456 | H35: =F35-G35 -> 197401 | I35: 154600
A36: 61042 | B36: 2 | C36: 1 | D36: 6 | E36: توظيف وإجازة وإنهاء عقود الموظفين | F36: 15024664 | G36: 17489791 | H36: =F36-G36 -> -2465127 | I36: 17828147
A37: 61043 | B37: 2 | C37: 1 | D37: 6 | E37: تكاليف سكن | F37: 12928200 | G37: 15954010 | H37: =F37-G37 -> -3025810 | I37: 13701276
A38: 61991 | B38: 2 | C38: 1 | D38: 6 | E38: علاوات وتكاليف أخرى | F38: 4108077 | G38: 6206341 | H38: =F38-G38 -> -2098264 | I38: 5071256
A39: 64021 | B39: 2 | C39: 1 | D39: 6 | E39: أجور السفر | F39: 1853 | G39: 4163 | H39: =F39-G39 -> -2310 | I39: 336
B40: 3 | C40: 1 | D40: 6 | E40: الوظائف المؤقتة للبحرينيين | F40: =SUM(F41:F47) -> 3159175 | G40: =SUM(G41:G47) -> 2870721 | H40: =F40-G40 -> 288454 | I40: =SUM(I41:I47) -> 2919901
A41: 60011 | B41: 3 | C41: 1 | D41: 6 | E41: الرواتب الأساسية | F41: 3073755 | G41: 2833924 | H41: =F41-G41 -> 239831 | I41: 2885395
A42: 60021 | B42: 3 | C42: 1 | D42: 6 | E42: العمل الإضافي | F42: 16360 | G42: 7366 | H42: =F42-G42 -> 8994 | I42: 7600
A43: 61011 | B43: 3 | C43: 1 | D43: 6 | E43: العلاوة الاجتماعية | F43: 45264 | G43: 11710 | H43: =F43-G43 -> 33554 | I43: 17757
A44: 61021 | B44: 3 | C44: 1 | D44: 6 | E44: علاوة السيارة والمواصلات | F44: 23796 | G44: 4685 | H44: =F44-G44 -> 19111 | I44: 8514
...

Sheet مصروفات الميزانية التحويلية
A1: 10- مصروفات الميزانيات التحويلية
E2: (دينار بحريني)
A3: البيان | B3: 2014 | E3: الفعلي 2013
B4: الاعتماد | C4: الفعلي | D4: نسبة الصرف %
A5: الجهات ذات الميزانيات الملحقة والمستقلة | B5: 160536756 | C5: 148584334 | D5: 93 | E5: 144592181
A6: المساهمات في المنظمات الإقليمية والدولية | B6: 13045459 | C6: 13020541 | D6: 100 | E6: 10637371
A7: دعم الأسر محدودة الدخل | B7: 114541970 | C7: 114422620 | D7: 100 | E7: 104947340
A8: دعم السلع الغذائية (اللحوم-الدواجن-الطحين) | B8: 67000000 | C8: 57314788 | D8: 86 | E8: 51080293
A9: الهيئة العامة للتأمين الاجتماعي | B9: 17044693 | C9: 17044693 | D9: 100 | E9: 16719491
A10: حصة ومساهمة الحكومة في أنظمة التقاعد | B10: 2802437 | C10: 2802437 | D10: 100 | E10: 515317
A11: برنامج التقاعد المبكر | B11: 14000000 | C11: 0 | D11: - | E11: 0
A12: حصة الحكومة في التأمين ضد التعطل | B12: 17000000 | C12: 13761592 | D12: 81 | E12: 17001378
A13: صندوق الضمان الاجتماعي | B13: 26000000 | C13: 20062815 | D13: 77 | E13: 19000000
A14: علاوة تحسين مستوى المعيشة للمتقاعدين | B14: 92608207 | C14: 92608207 | D14: 100 | E14: 77875907
A15: دعم برامج الاسكان (علاوة الايجار-تخفيض الأقساط) | B15: 48761700 | C15: 48761700 | D15: 100 | E15: 47466700
A16: مساعدات حكومية | B16: 14920000 | C16: 13728314 | D16: 92 | E16: 6120765
A17: الفوائد على القروض والصكوك | B17: 227355339 | C17: 227355339 | D17: 100 | E17: 192262944
A18: مشروع تأهيل و توظيف العاطلين الجامعيين | B18: 0 | C18: 0 | E18: 0
A19: إلتزامات متنوعة ومبالغ محجوزة أو مدورة | B19: 62607042 | C19: 28892884 | D19: 46 | E19: 19718426
A20: المجموع | B20: =SUM(B5:B19) -> 878223603 | C20: =SUM(C5:C19) -> 798360264 | D20: 91 | E20: =SUM(E5:E19) -> 707938113

Sheet مشاريع
A1: 11- مصروفات المشاريع مصنفة حسب الوزارات والجهات الحكومية
E2: (دينار بحريني)
A3: الوزارة أو الجهة الحكومية | B3: 2014 | E3: الفعلي 2013
B4: الاعتماد | C4: الفعلي | D4: نسبة الصرف %
A5: وزارة الدفاع (إيضاح رقم 13) | B5: 0 | C5: 0 | D5: 0 | E5: 534291
A6: وزارة الداخلية | B6: 36983077 | C6: 19650560 | D6: =C6/B6*100 -> 53.133924 | E6: 23072323
A7: جهاز الأمن الوطني | B7: 208000 | C7: 208000 | D7: =C7/B7*100 -> 100 | E7: 832753
A8: هيئة التشريع والإفتاء القانوني | B8: 200000 | C8: 137000 | D8: =C8/B8*100 -> 68.5 | E8: -
A9: وزارة الخارجية | B9: 6315267 | C9: 215690 | D9: =C9/B9*100 -> 3.4153742 | E9: 72155
A10: مكاتب نواب صاحب السمو الملكي رئيس مجلس الوزراء | B10: 49725 | C10: 44200 | D10: =C10/B10*100 -> 88.888889 | E10: 66300
A11: وزارة العدل والشئون الإسلامية والأوقاف- شئون العدل | B11: 1998203 | C11: 690458 | D11: =C11/B11*100 -> 34.553947 | E11: 958867
A12: وزارة التربية والتعليم | B12: 17467494 | C12: 6576258 | D12: =C12/B12*100 -> 37.648549 | E12: 10446290
A13: وزارة الصحة | B13: 27752082 | C13: 11635577 | D13: =C13/B13*100 -> 41.926862 | E13: 6272133
A14: وزارة الأشغال وشئون البلديات والتخطيط العمراني - الإدارة العامة للتخطيط العمراني وإدارة الإستملاك والتعويض وشئون الزراعة والثروة البحرية | B14: 23388775 | C14: 9089225 | D14: =C14/B14*100 -> 38.861484 | E14: 4026287
A15: وزارة شئون البلديات والزراعة - شئون البلديات | D15: =C15/B15*100 -> #DIV/0!
A16: وزارة العمل | B16: 633166 | C16: 137191 | D16: =C16/B16*100 -> 21.667462 | E16: 102587
A17: المؤسسة العامة للشباب والرياضة | B17: 19593504 | C17: 6154567 | D17: =C17/B17*100 -> 31.411263 | E17: 3865258
A18: نادى راشد للفروسية وسباق الخيل | B18: 400000 | C18: 124662 | D18: =C18/B18*100 -> 31.1655 | E18: -
A19: وزارة التنمية الإجتماعية | B19: 2487080 | C19: 535785 | D19: =C19/B19*100 -> 21.542733 | E19: 944366
A20: وزارة الصناعة والتجارة | B20: 27813276 | C20: 9157618 | D20: =C20/B20*100 -> 32.925348 | E20: 1829239
A21: وزارة الإسكان | B21: 147214194 | C21: 120389470 | D21: =C21/B21*100 -> 81.778439 | E21: 125124677
A22: المجلس الأعلى للبيئة | B22: 1809728 | C22: 278975 | D22: =C22/B22*100 -> 15.4153 | E22: 264672
A23: الطيران الملكي | D23: =C23/B23*100 -> #DIV/0!
A24: هيئة الكهرباء والماء | D24: =C24/B24*100 -> #DIV/0!
A25: وزارة الأشغال وشئون البلديات والتخطيط العمراني-الأشغال | B25: 153649827 | C25: 90937940 | D25: =C25/B25*100 -> 59.185189 | E25: 124381380
A26: وزارة المواصلات والاتصالات | B26: 18022183 | C26: 3702149 | D26: =C26/B26*100 -> 20.542178 | E26: 2173060
A27: الحرس الوطني | B27: 22787709 | C27: 1941835 | D27: =C27/B27*100 -> 8.5214139 | E27: 919006
A28: وزارة النفط | D28: =C28/B28*100 -> #DIV/0!
A29: وزير الدولة لشئون الاتصالات | B29: 321656 | C29: 288856 | D29: =C29/B29*100 -> 89.802771 | E29: 392944
A30: شئون الطيران المدني | D30: 0 | E30: -
A31: مجلس المناقصات والمزايدات | B31: 200000 | C31: 113684 | D31: =C31/B31*100 -> 56.842 | E31: 121934
A32: الميزانية التحويلية | B32: 215542475 | C32: 112184945 | D32: =C32/B32*100 -> 52.047721 | E32: 132461358
A33: هيئة شئون الإعلام | B33: 15879988 | C33: 10218255 | D33: =C33/B33*100 -> 64.346743 | E33: 5998187
A34: وزارة الثقافة | B34: 27307797 | C34: 19073668 | D34: =C34/B34*100 -> 69.846967 | E34: 15803910
A35: وزارة الثقافة | D35: =C35/B35*100 -> #DIV/0!
A36: مكتب صاحب السمو الملكي النائب الأول لرئيس مجلس الوزراء | B36: 6000000 | C36: 6000000 | D36: =C36/B36*100 -> 100 | E36: -
A37: ديوان الخدمة المدنية | B37: 1217388 | C37: 213833 | D37: =C37/B37*100 -> 17.564901 | E37: 152498
A38: الجهاز المركزي للمعلومات | B38: 9188735 | C38: 1449195 | D38: =C38/B38*100 -> 15.771431 | E38: 967080
A39: المجلس الأعلى للقضاء | B39: 270717 | C39: 184630 | D39: =C39/B39*100 -> 68.200372 | E39: 81730
A40: وزارة العدل والشئون الإسلامية والأوقاف- الشئون الإسلامية | B40: 3511335 | C40: 2608839 | D40: =C40/B40*100 -> 74.297639 | E40: 1424044
...

Sheet المقبوضات والمدفوعات
A1: 1- كشف المقبوضات والمدفوعات
D2: (دينار بحرينى)
C3: دينار بحريني
A4: البيان | C4: 2014 | D4: 2013
A5: التدفقات النقدية من الأنشطة التشغيلية
A6: المقبوضات
A7: النفط والغاز الطبيعي | C7: 2662191298 | D7: 2600026860
A8: الضرائب والرسوم | C8: 201141304 | D8: 223679163
A9: المنتجات الخدمية والسلعية الحكومية | C9: 52573952 | D9: 51203001
A10: الإعانات | C10: 28169772 | D10: 0
A11: الغرامات والجزاءات والايرادات المتنوعة | C11: 55790156 | D11: 42727776
A12: مبالغ مستلمة لصالح الغير | C12: 137964742 | D12: 119087259
A13: إجمالي المقبوضات التشغيلية | C13: =SUM(C7:C12) -> 3137831224 | D13: =SUM(D7:D12) -> 3036724059
A14: المدفوعات
A15: القوى العاملة | C15: -1369436828 | D15: -1291068419
A16: الخدمات | C16: -217079491 | D16: -198678371
A17: السلع الإستهلاكية | C17: -82222552 | D17: -77182565
A18: الصيانة | C18: -70113926 | D18: -62900851
A19: نفقات تحويلية | C19: -715844510 | D19: -682467894
A20: الإعانات وتسديد فوائد القروض | C20: -488081753 | D20: -408522756
A21: مدفوعات مقدمة وتسديد ذمم دائنة | C21: -52208363 | D21: -101494155
A22: مشتريات المخزون | C22: -65881692 | D22: -54329053
A23: مدفوعات اخرى | C23: 0 | D23: 0
A24: إجمالي المدفوعات التشغيلية | C24: =SUM(C15:C23) -> -3060869115 | D24: =SUM(D15:D23) -> -2876644064
A25: صافي التدفقات النقدية من الأنشطة التشغيلية | C25: =C13+C24 -> 76962109 | D25: =D13+D24 -> 160079995
A26: التدفقات النقدية من الأنشطة الاستثمارية
A27: مدفوعات المشاريع | C27: -468820496 | D27: -483173293
A28: مدفوعات السلع الرأسمالية | C28: -35110326 | D28: -30221311
A29: عوائد الاستثمارات والأملاك الحكومية | C29: 83131208 | D29: 16652456
A30: إيرادات بيع الأصول الرأسمالية | C30: 901978 | D30: 274773
A31: صافي التدفقات النقدية من الأنشطة الاستثمارية | C31: =SUM(C27:C30) -> -419897636 | D31: =SUM(D27:D30) -> -496467375
A32: التدفقات النقدية من الأنشطة التمويلية
A33: القروض المستلمة | C33: 3947000000 | D33: 4082000000
A34: تسديد القروض | C34: -3739973327 | D34: -2889403556
A35: صافي التدفقات النقدية من الأنشطة التمويلية | C35: =SUM(C33:C34) -> 207026673 | D35: =SUM(D33:D34) -> 1192596444
A36: صافي (النقص)/الزيادة في النقد | C36: =C25+C31+C35 -> -135908854 | D36: =D25+D31+D35 -> 856209064

Sheet المطلوبات المستحقة
A1: 2- المطلوبات المستحقة (الذمم الدائنة)
E2: (دينار بحريني)
A3: الباب | B3: البيــان | D3: 2014 | E3: 2013
A4: 1 | B4: القوى العاملة | D4: 3605730 | E4: 5683429
A5: 2 | B5: الخدمات | D5: 16525842 | E5: 17104220
A6: 3 | B6: السلع الإستهلاكية | D6: 1625622 | E6: 1038200
A7: 4 | B7: السلع الرأسمالية | D7: 1029625 | E7: 1157513
A8: 5 | B8: الصيانة | D8: 878670 | E8: 2718907
A9: 6 | B9: نفقات تحويلية | D9: 6761481 | E9: 6834227
A10: 7 | B10: الإعانات وتسديد فوائد القروض | D10: 13186832 | E10: 15786438
A11: 8 | B11: المشاريع | D11: 72806858 | E11: 81122664
A12: - | B12: أخرى | D12: 1657924 | E12: 2315200
B13: المجموع | D13: =SUM(D4:D12) -> 118078584 | E13: =SUM(E4:E12) -> 133760798
A15: المطلوبات المستحقة:
A16: هي المطلوبات المستحقة على الوزارات والجهات الحكومية، وذلك للمعاملات المالية التي تمت معالجتها كمصروفات ولم يتم سدادها حتى نهاية السنة المالية.

Sheet المصروفات المستحقة 
A1: 3- المصروفات المستحقة
E2: (دينار بحريني)
A3: الباب | B3: البيــان | D3: 2014 | E3: 2013
A4: 1 | B4: القوى العاملة | D4: =1061155+3957896 -> 5019051 | E4: =1106448+4391279 -> 5497727
A5: 2 | B5: الخدمات | D5: =7311268+15712850 -> 23024118 | E5: =7470550+14211346 -> 21681896
A6: 3 | B6: السلع الإستهلاكية | D6: =1417339+2864268 -> 4281607 | E6: =1372992+2334549 -> 3707541
A7: 4 | B7: السلع الرأسمالية | D7: =1372567+786048 -> 2158615 | E7: =959327+266183 -> 1225510
A8: 5 | B8: الصيانة | D8: =2211978+1527013 -> 3738991 | E8: =1847349+2130196 -> 3977545
A9: 6 | B9: نفقات تحويلية | D9: =355874+1650283 -> 2006157 | E9: =234760+5094597 -> 5329357
A10: 7 | B10: الإعانات وتسديد فوائد القروض | D10: =64052+6347813 -> 6411865 | E10: =55693+201960 -> 257653
A11: 8 | B11: المشاريع | D11: =20786680+58674524 -> 79461204 | E11: =17101077+67983954 -> 85085031
B12: المجموع | D12: =SUM(D4:D11) -> 126101608 | E12: =SUM(E4:E11) -> 126762260
A14: المصروفات المستحقة
A15: هي السلع والخدمات التي تم استلامها من قبل الوزارات والجهات الحكومية وتم تسجيلها كمصروفات على حسابات السنة المالية 2014، ولم يتم تسجيلها ضمن حسابات المطلوبات (الذمم الدائنة).

Sheet الارتباطات 
A1: 4- الإرتباطات حسب الأبواب
E2: (دينار بحريني)
A3: الباب | B3: البيــان | D3: 2014 | E3: 2013
A4: 1 | B4: القوى العاملة | D4: 417876 | E4: 316696
A5: 2 | B5: الخدمات | D5: 4770491 | E5: 1194905
A6: 3 | B6: السلع الإستهلاكية | D6: 1016531 | E6: 274064
A7: 4 | B7: السلع الرأسمالية | D7: 1138361 | E7: 797456
A8: 5 | B8: الصيانة | D8: 1162457 | E8: 334245
A9: 6 | B9: نفقات تحويلية | D9: 86790 | E9: 35173
A10: 7 | B10: الإعانات و تسديد فوائد القروض | D10: 45789 | E10: 483
A11: 8 | B11: المشاريع | D11: 114567347 | E11: 97586327
B12: المجموع | D12: =SUM(D4:D11) -> 123205642 | E12: =SUM(E4:E11) -> 100539349
A14: الارتباطات المالية:
A15: يقصد بها الارتباطات المالية الخاصة بمشتريات المصروفات المتكررة والمشاريع التي صدرت لها أوامر شراء أو أوامر تنفيذ عقود ولكن لم يتم استلام أو تنفيذ المشتريات المطلوبة من قبل المجهز أو المتعاقد معه حتى نهاية السنة المالية.

Sheet التمويـل
A1: 5- القروض
E2: (آلاف الدنانير)
A3: بيان القرض | B3: الرصيد في 2014/1/1 | C3: المبلغ المستلم | D3: المبلغ المدفوع | E3: الفرق بين المبلغ المستلم والمدفوع | F3: الرصيد في 2014/12/31
A4: أذونات الخزينة | B4: 1130000 | C4: 2805000 | D4: -2705000 | E4: =SUM(C4:D4) -> 100000 | F4: =SUM(E4+B4) -> 1230000
A5: صكوك السلم الإسلامية | B5: 108000 | C5: 432000 | D5: -432000 | E5: =SUM(C5:D5) -> 0 | F5: =SUM(E5+B5) -> 108000
A6: صكوك التأجير الإسلامية | B6: 620000 | C6: 240000 | D6: -280000 | E6: =SUM(C6:D6) -> -40000 | F6: =SUM(E6+B6) -> 580000
A7: قروض داخلية أخرى | B7: 15638 | C7: 0 | D7: -6255 | E7: =SUM(C7:D7) -> -6255 | F7: =SUM(E7+B7) -> 9383
A8: سندات التنمية الحكومية المحلية | B8: 1085000 | C8: 0 | D8: 0 | E8: =SUM(C8:D8) -> 0 | F8: =SUM(E8+B8) -> 1085000
A9: مجموع القروض الداخلية | B9: =SUM(B4:B8) -> 2958638 | C9: =SUM(C4:C8) -> 3477000 | D9: =SUM(D4:D8) -> -3423255 | E9: =SUM(E4:E8) -> 53745 | F9: =SUM(F4:F8) -> 3012383
A10: صكوك التأجير الإسلامية الدولية | B10: 564000 | C10: 0 | D10: -282000 | E10: =SUM(C10:D10) -> -282000 | F10: =SUM(B10:D10) -> 282000
A11: سندات التنمية الحكومية الدولية | B11: 1598000 | C11: 470000 | D11: 0 | E11: =SUM(C11:D11) -> 470000 | F11: =SUM(B11:D11) -> 2068000
A12: قروض صناديق التنمية | B12: 255084 | C12: 0 | D12: -43801 | E12: =SUM(C12:D12) -> -43801 | F12: =SUM(B12:D12) -> 211283
A13: مجموع القروض الخارجية | B13: =SUM(B10:B12) -> 2417084 | C13: =SUM(C10:C12) -> 470000 | D13: =SUM(D10:D12) -> -325801 | E13: =SUM(E10:E12) -> 144199 | F13: =SUM(F10:F12) -> 2561283
A14: المجموع/ الرصيد | B14: =B13+B9 -> 5375722 | C14: =C13+C9 -> 3947000 | D14: =D13+D9 -> -3749056 | E14: =E13+E9 -> 197944 | F14: =F13+F9 -> 5573666

Sheet التسهيلات الإئتمانية 
A1: 6- التسهيلات الإئتمانية
A2: (آلاف الدنانير)
A3: البيـــان | C3: 2014 | D3: 2013
A4: تسهيلات غير مستخدمة في بداية السنة | C4: 0 | D4: 0
A5: تسهيلات اضافية | C5: 0 | D5: 0
A6: التسهيلات المتوفرة | C6: 125000 | D6: 125000
A7: المبلغ المستخدم | C7: -75278 | D7: -58734
A8: التسهيلات الملغية
A9: التسهيلات غير المستخدمة في نهاية السنة | C9: =SUM(C4:C7) -> 49722 | D9: =SUM(D4:D7) -> 66266
A13: جميع التسهيلات الإئتمانية المذكورة أعلاه عبارة عن عملية تسوية توفيقية لضمان سرعة انسياب التحويلات النقدية بين الحسابات المصرفية الحكومية.
