Workbook
Name leer: '[1]تفصيل المصروفات (3)'!$A$2:$A$6
Name leer: '[1]تفصيل المصروفات (3)'!$A$2:$A$6
Name المصروفات_حسب_الأبواب_والأقسام_والبنود: #REF!
Name المصروفات_حسب_الأبواب_والأقسام_والبنود: #REF!
Name المصروفات_حسب_الأبواب_والأقسام_والبنود: #REF!
Name المصروفات_حسب_الأبواب_والأقسام_والبنود: #REF!
Name المصروفات_حسب_الأبواب_والأقسام_والبنود: #REF!
Name المصروفات_حسب_الأبواب_والأقسام_والبنود: #REF!
Name المصروفات_حسب_الأبواب_والأقسام_والبنود: #REF!
Name المصروفات_حسب_الأبواب_والأقسام_والبنود: #REF!
Name المصروفات_حسب_الأبواب_والأقسام_والبنود: #REF!

Sheet Meta3
A1: 3- الإيرادات والمصروفات مصنفة حسب الوزارات والجهات الحكومية
A3: Government Agency Name | B3: code | C3: Actual | D3: Revenue Budget | E3: % Spent | F3: Actual | G3: Recurrent Budget | H3: % Spent | I3: Actual | J3: Project Budget | K3: % Spent
A4: The Court of H.R.H The Prime Minister-11 | B4: 11 | F4: 18310428 | G4: 18310428 | H4: 100.00%
A5: Ministry of Defence-12 | B5: 12 | F5: 533663995 | G5: 486550000 | H5: 109.68%
A6: Ministry of Interior-13 | B6: 13 | C6: 55620734 | D6: 50982000 | E6: 109.10% | F6: 363325279 | G6: 355387546 | H6: 102.23% | I6: 13552449 | J6: 13552449 | K6: 100.00%
A7: National Security Agency-14 | B7: 14 | F7: 35762128 | G7: 35762128 | H7: 100.00%
A8: Legislation & Legal Opinion Com-15 | B8: 15 | C8: 1027 | D8: 5000 | E8: 20.53% | F8: 2264037 | G8: 2676000 | H8: 84.61%
A9: Min. of Foreign Affairs-16 | B9: 16 | C9: 474000 | D9: 2055000 | E9: 23.07% | F9: 32088564 | G9: 28902000 | H9: 111.03% | I9: 2273757 | J9: 4105500 | K9: 55.38%
A10: Deputy of H.R.H The PM-17 | B10: 17 | F10: 786962 | G10: 828000 | H10: 95.04% | I10: 60000 | J10: 60000 | K10: 100.00%
A11: Min. of Justice & Islamic Aff & Awqaf (Justice Aff)-18 | B11: 18 | C11: 28728844 | D11: 16764000 | E11: 171.37% | F11: 11707298 | G11: 11832000 | H11: 98.95% | I11: 311463 | J11: 684100 | K11: 45.53%
A12: Supreme Council for Oil
A13: Ministry of Information-20 (Old) | B13: 20
A14: Min. of Education-21 | B14: 21 | C14: 457594 | D14: 1718000 | E14: 26.64% | F14: 331904035 | G14: 324685000 | H14: 102.22% | I14: 3144581 | J14: 6998200 | K14: 44.93%
A15: Ministry of Health-22 | B15: 22 | C15: 37876341 | D15: 39945000 | E15: 94.82% | F15: 243922234 | G15: 254655000 | H15: 95.79% | I15: 2801683 | J15: 9542400 | K15: 29.36%
A16: Min. of Works, Mun Aff & Urb Plg -23 (Mun Aff&Urb Plg) | B16: 23 | C16: 3370776 | D16: 3351000 | E16: 100.59% | F16: 9327367 | G16: 8999337 | H16: 103.65% | I16: 6713268 | J16: 6713268 | K16: 100.00%
A17: Min. of Labour -24 | B17: 24 | F17: 0 | G17: 0 | H17: 0.00%
A18: Min. of Muncipalities & Agriculture Aff. (Muncipalities Affairs)
A19: Ministry of Youth and Sports Affairs-26 | B19: 26 | C19: 29600 | D19: 17000 | E19: 174.12% | F19: 12637461 | G19: 12815282 | H19: 98.61% | I19: 2841470 | J19: 5865600 | K19: 48.44%
A20: Environmental Affairs ( Old )
A21: Rashed Club for Equestrian & Horse Racing-28 | B21: 28 | F21: 1936399 | G21: 1936399 | H21: 100.00%
A22: Ministry of Labour & Social Development-29 | B22: 29 | C22: 8321 | D22: 29000 | E22: 28.69% | F22: 15299692 | G22: 16265000 | H22: 94.07% | I22: 81479 | J22: 600000 | K22: 13.58%
A23: Deputy of H.R.H The PM-30 | B23: 30 | F23: 1061676 | G23: 1083754 | H23: 97.96%
A24: Advisor to H.R.H The PM for Economic Aff-31 | B24: 31 | F24: 266910 | G24: 268000 | H24: 99.59%
A25: Min. of Follow-up Affairs-32 | B25: 32 | F25: 501328 | G25: 572000 | H25: 87.64%
A26: Advisor to H.R.H PM-33 | B26: 33
A27: Min of Industry & Commerce-34 | B27: 34 | C27: 31482445 | D27: 33967000 | E27: 92.69% | F27: 11730718 | G27: 12466401 | H27: 94.10% | I27: 2948853 | J27: 6201900 | K27: 47.55%
A28: Advisor to H.R.H PM for Security Aff-35 | B28: 35
A29: Ministry of Housing-36 | B29: 36 | C29: 116376 | D29: 35000 | E29: 332.50% | F29: 5230113 | G29: 5488000 | H29: 95.30% | I29: 101689025 | J29: 104393700 | K29: 97.41%
A30: Advisor to H.R.H The PM for Industrial & Oil Aff-37 | B30: 37
A31: Advisor to H.R.H The PM-38 | B31: 38 | F31: 286786 | G31: 307000 | H31: 93.42%
A32: Ministry of State-39 | B32: 39
A33: Min. of Energy-40 | B33: 40 | F33: 219385 | G33: 252000 | H33: 87.06%
A34: The Supreme Council for the Environment-41 | B34: 41 | C34: 1414484 | D34: 301000 | E34: 469.93% | F34: 5558339 | G34: 6152000 | H34: 90.35% | I34: 186325 | J34: 750000 | K34: 24.84%
A35: Bahrain Royal Flight ( Old )
A36: Mohammed bin Khalifa Al Khalifa Cardiac Center-43 | B36: 43 | F36: 20191876 | G36: 19636000 | H36: 102.83%
A37: Deputy of H.R.H The PM-44 | B37: 44 | F37: 667396 | G37: 971000 | H37: 68.73%
A38: Min.Of Housing -Old
A39: Min. of Works, Mun Aff & Urb Plg -46 (Works Aff) | B39: 46 | C39: 4736860 | D39: 11027000 | E39: 42.96% | F39: 42776728 | G39: 44890950 | H39: 95.29% | I39: 58938198 | J39: 72393088 | K39: 81.41%
A40: Elec & Water Authority-47 | B40: 47 | F40: 188744829 | G40: 188745000 | H40: 100.00%
A41: Min. of Transportation & Telecommunications-48 | B41: 48 | C41: 53682096 | D41: 45000000 | E41: 119.29% | F41: 32438964 | G41: 32979000 | H41: 98.36% | I41: 3243025 | J41: 5289700 | K41: 61.31%
...

Sheet Meta4
A1: 4- الإيرادات مصنفة حسب الأبواب والوزارات والجهات الحكومية
A3: Ministry | B3: Code | C3: Oil and Gas | D3: Taxation, Fees | E3: Govt Goods, Services | F3: Investments, Govt Properties | G3: Grants | H3: Sale of | I3: Fines,Penalt ies , Misc | J3: Total | K3: Budget | L3: Actual-PY
A4: The Court of H.R.H The Prime Minister | B4: 11 | C4: 3884385 | D4: 3588210 | E4: 111755 | F4: 30515 | G4: 5255 | H4: 10500000 | I4: 0 | J4: 18120121 | K4: 18128000 | L4: 19222655
A5: Ministry of Defence | B5: 12 | C5: 396845222 | D5: 27122900 | E5: 37109397 | F5: 21163146 | G5: 49702851 | H5: 0 | I5: 1268201 | J5: 533211717 | K5: 482050000 | L5: 521881353
A6: Ministry of Interior | B6: 13 | C6: 315880353 | D6: 19589405 | E6: 8317214 | F6: 3835764 | G6: 6078569 | H6: 0 | I6: 0 | J6: 353701306 | K6: 352756000 | L6: 357208194
A7: National Security Agency | B7: 14 | C7: 0 | D7: 0 | E7: 0 | F7: 0 | G7: 0 | H7: 41616000 | I7: 0 | J7: 41616000 | K7: 41616000 | L7: 34842000
A8: Legislation & Legal Opinion Com | B8: 15 | C8: 2044627 | D8: 349765 | E8: 15874 | F8: 10671 | G8: 15001 | H8: 0 | I8: 0 | J8: 2435938 | K8: 2483000 | L8: 2530528
A9: Min. of Foreign Affairs | B9: 16 | C9: 21044772 | D9: 7731385 | E9: 467043 | F9: 290095 | G9: 537238 | H9: 0 | I9: 28152 | J9: 30098686 | K9: 29249119 | L9: 30567635
A10: Deputy of H.R.H The PM | B10: 17 | C10: 781448 | D10: 19501 | E10: 8433 | F10: 1690 | G10: 4338 | H10: 0 | I10: 0 | J10: 815409 | K10: 815410 | L10: 878289
A11: Min. of Justice & Islamic Aff & Awqaf (Justice Aff) | B11: 18 | C11: 8843202 | D11: 2430888 | E11: 108122 | F11: 47160 | G11: 94510 | H11: 14942 | I11: 55000 | J11: 11593824 | K11: 11686851 | L11: 12169486
A12: Min. of Education | B12: 21 | C12: 280273347 | D12: 37390621 | E12: 3864861 | F12: 1634732 | G12: 1821943 | H12: 0 | I12: 75000 | J12: 325060502 | K12: 321186000 | L12: 334558748
A13: Ministry of Health | B13: 22 | C13: 144873918 | D13: 28835530 | E13: 63803490 | F13: 318970 | G13: 2926949 | H13: 0 | I13: 0 | J13: 240758857 | K13: 256937000 | L13: 261116093
A14: Min. of Works, Mun Aff & Urb Plg | B14: 23 | C14: 8176967 | D14: 1782645 | E14: 214908 | F14: 41594 | G14: 114420 | H14: 0 | I14: 0 | J14: 10330535 | K14: 10334050 | L14: 10756348
A15: Min. of Labour | B15: 24 | C15: 0 | D15: 0 | E15: 0 | F15: 0 | G15: 0 | H15: 0 | I15: 0 | J15: 0 | K15: 0 | L15: 6034407
... A59: National Health Regulatory Authority (89) | B59: 89 | C59: 1529887 | D59: 672354 | E59: 45454 | F59: 20223 | G59: 4520 | H59: 0 | I59: 0 | J59: 2272437 | K59: 2362000 | L59: 1965323

Sheet Meta5&9
A1: 5- الإيرادات مصنفة حسب الأبواب والأقسام والبنود
A4: Code | E4: Description | G4: 2017 | I4: Actual
A5: Item | B5: Chp | C5: Sec | D5: Acct | E5: Description | F5: Budget | G5: Actual | H5: Difference | I5: 2016
A6: 4 | B6: 1 | C6: 1 | D6: 40011 | E6: Oil Sales - Bahrain Field | F6: 170167500 | G6: 185559676 | H6: -15392176 | I6: 278643175
A7: 4 | B7: 1 | C7: 1 | D7: 40012 | E7: Oil Sales - Abu-Sa'afa Field | F7: 1028888200 | G7: 987507867 | H7: 41380333 | I7: 723670948
A8: 4 | B8: 1 | C8: 1 | D8: 40014 | E8: Future Generations Reserve- Abu-Sa'afa Field | F8: -20586000 | G8: -20920270 | H8: 334270 | I8: -14056467
A9: 4 | B9: 1 | C9: 2 | D9: 40035 | E9: Gas Sales - Hidd Power Station | H9: 0
A10: 4 | B10: 1 | C10: 2 | D10: 40037 | E10: Gas Sales to Electricity Power and Water Station | F10: 76641700 | G10: 35682528 | H10: 40959172 | I10: 31039851
A11: 4 | B11: 1 | C11: 2 | D11: 40051 | E11: Gas Sales - Alba | F11: 129257500 | G11: 140974901 | H11: -11717401 | I11: 109292545
A12: 4 | B12: 1 | C12: 2 | D12: 40052 | E12: Gas Sales - Bapco | F12: 51703000 | G12: 49352761 | H12: 2350239 | I12: 46614264
A13: 4 | B13: 1 | C13: 2 | D13: 40053 | E13: Gas Sales - Banagas | F13: 27582900 | G13: 11698573 | H13: 15884327 | I13: 14021820
A14: 4 | B14: 1 | C14: 2 | D14: 40054 | E14: Gas Sales - Other Companies | F14: 256051500 | G14: 257966496 | H14: -1914996 | I14: 242372310
A15: 4 | B15: 1 | C15: 3 | D15: 42011 | E15: Gas Income Tax | H15: 0 | I15: 272000
A16: 4 | B16: 1 | C16: 3 | D16: 42013 | E16: Petrol Tax | F16: 5846700 | G16: 4695378 | H16: 1151322 | I16: 4591606
A17: 4 | B17: 2 | C17: 2 | D17: 42501 | E17: Customs Duty on Essential Trade | F17: 40894829 | G17: 67649790 | H17: -26754961 | I17: 48701365
A18: 4 | B18: 2 | C18: 2 | D18: 42503 | E18: Customs Duty on Vehicles | F18: 15000000 | G18: 13254976 | H18: 1745024 | I18: 15675280
A19: 4 | B19: 2 | C19: 2 | D19: 42504 | E19: Customs Duty on Manuf./Unmanuf. Tabacco | F19: 20000000 | G19: 28906366 | H19: -8906366 | I19: 16573529
A20: 4 | B20: 2 | C20: 2 | D20: 42505 | E20: Customs Duty on Luxury Goods | F20: 20000000 | G20: 15489369 | H20: 4510631 | I20: 16370852
A21: 4 | B21: 2 | C21: 2 | D21: 42506 | E21: Customs Duty on Yachts | F21: 200000 | G21: 349898 | H21: -149898 | I21: 260463
A22: 4 | B22: 2 | C22: 2 | D22: 42507 | E22: Protection of Domestic Industries | F22: 570000 | G22: 630278 | H22: -60278 | I22: 565164
A23: 4 | B23: 2 | C23: 3 | D23: 43011 | E23: General Trade Activities Registration Fees | F23: 105000 | G23: 180906 | H23: -75906 | I23: 150828
A24: 4 | B24: 2 | C24: 3 | D24: 43021 | E24: Industrial Activities Registration Fees | F24: 377000 | G24: 130425 | H24: 246575 | I24: 95377
A25: 4 | B25: 2 | C25: 3 | D25: 43031 | E25: Financial Service Activities Registration Fees | F25: 45000 | G25: 4050 | H25: 40950 | I25: 3550
A26: 4 | B26: 2 | C26: 3 | D26: 43041 | E26: Miscellaneous Service Activities Registration Fees | F26: 270487 | G26: 366623 | H26: -96136 | I26: 794808
A27: 4 | B27: 2 | C27: 3 | D27: 43042 | E27: Air Transport Activities | F27: 250000 | G27: 302850 | H27: -52850 | I27: 212782
... A30: 4 | B30: 2 | C30: 3 | D30: 43045 | E30: Post Regulatory Licenses | F30: 40000 | G30: 66775 | H30: -26775 | I30: 60639
A31: 4 | B31: 2 | C31: 3 | D31: 43051 | E31: Commercial Agencies Registration Fees | G31: 17419 | H31: -17419 | I31: 16494
A32: 4 | B32: 2 | C32: 3 | D32: 43054 | E32: Contractor Pre-Qualification Fees | G32: 46950 | H32: -46950
A33: 4 | B33: 2 | C33: 3 | D33: 43071 | E33: Organizing Engineering Professional Practice Fees | F33: 50000 | G33: 50000 | H33: 0 | I33: 50000
A34: 4 | B34: 2 | C34: 3 | D34: 43081 | E34: Sand Mining License Fees | F34: 550000 | G34: 500000 | H34: 50000 | I34: 550000
A35: 4 | B35: 2 | C35: 3 | D35: 43082 | E35: Application and licensing fees for pearl diving an | G35: 30975 | H35: -30975
A36: 4 | B36: 2 | C36: 3 | D36: 44041 | E36: Pharmaceutical Products Licenses & Fees | F36: 200000 | G36: 278820 | H36: -78820 | I36: 128400
A37: 4 | B37: 2 | C37: 3 | D37: 44042 | E37: Health Facilities Licenses & Fees | F37: 230000 | G37: 340150 | H37: -110150 | I37: 251640
A38: 4 | B38: 2 | C38: 3 | D38: 44043 | E38: Health Professions Licenses & Fees | F38: 400000 | G38: 1036500 | H38: -636500 | I38: 456682
A39: 4 | B39: 2 | C39: 4 | D39: 44011 | E39: Passport Fees | F39: 979340 | G39: 1495151 | H39: -515811 | I39: 979340
A40: 4 | B40: 2 | C40: 4 | D40: 44012 | E40: Residence Permit Fees | F40: 3482428 | G40: 3883259 | H40: -400831 | I40: 3482428
A41: 4 | B41: 2 | C41: 4 | D41: 44013 | E41: Visa & NOC Fees | F41: 18119260 | G41: 15659324 | H41: 2459936 | I41: 18029260
A42: 4 | B42: 2 | C42: 4 | D42: 44015 | E42: Identity Card Fees | F42: 2300000 | G42: 2415901 | H42: -115901 | I42: 2449944
A43: 4 | B43: 2 | C43: 4 | D43: 44016 | E43: CONSUITANCY SERVICES FEES | F43: 453525 | G43: 195674 | H43: 257851 | I43: 58175
A44: 4 | B44: 2 | C44: 4 | D44: 44021 | E44: Labour Market Regulatory Authority Fee | F44: 30920000 | G44: 21342887 | H44: 9577113 | I44: 23143294
...

Sheet Meta8
A1: 8- المصروفات المتكررة مصنفة حسب الأبواب والوزارات والجهات الحكومية
A3: Ministry | B3: Code | C3: Manpower | D3: Services | E3: Consumables | F3: Assets | G3: Maintenance | H3: Transfers | I3: Grants | J3: Total | K3: Budget | L3: Actual-PY
A4: The Court of H.R.H The Prime Minister | B4: 11 | C4: 3884385 | D4: 3588210 | E4: 111755 | F4: 30515 | G4: 5255 | H4: 10500000 | I4: 0 | J4: 18120121 | K4: 18128000 | L4: 19222655
A5: Ministry of Defence | B5: 12 | C5: 396845222 | D5: 27122900 | E5: 37109397 | F5: 21163146 | G5: 49702851 | H5: 0 | I5: 1268201 | J5: 533211717 | K5: 482050000 | L5: 521881353
A6: Ministry of Interior | B6: 13 | C6: 315880353 | D6: 19589405 | E6: 8317214 | F6: 3835764 | G6: 6078569 | H6: 0 | I6: 0 | J6: 353701306 | K6: 352756000 | L6: 357208194
A7: National Security Agency | B7: 14 | C7: 0 | D7: 0 | E7: 0 | F7: 0 | G7: 0 | H7: 41616000 | I7: 0 | J7: 41616000 | K7: 41616000 | L7: 34842000
A8: Legislation & Legal Opinion Com | B8: 15 | C8: 2044627 | D8: 349765 | E8: 15874 | F8: 10671 | G8: 15001 | H8: 0 | I8: 0 | J8: 2435938 | K8: 2483000 | L8: 2530528
A9: Min. of Foreign Affairs | B9: 16 | C9: 21044772 | D9: 7731385 | E9: 467043 | F9: 290095 | G9: 537238 | H9: 0 | I9: 28152 | J9: 30098686 | K9: 29249119 | L9: 30567635
A10: Deputy of H.R.H The PM | B10: 17 | C10: 781448 | D10: 19501 | E10: 8433 | F10: 1690 | G10: 4338 | H10: 0 | I10: 0 | J10: 815409 | K10: 815410 | L10: 878289
A11: Min. of Justice & Islamic Aff & Awqaf (Justice Aff) | B11: 18 | C11: 8843202 | D11: 2430888 | E11: 108122 | F11: 47160 | G11: 94510 | H11: 14942 | I11: 55000 | J11: 11593824 | K11: 11686851 | L11: 12169486
A12: Min. of Education | B12: 21 | C12: 280273347 | D12: 37390621 | E12: 3864861 | F12: 1634732 | G12: 1821943 | H12: 0 | I12: 75000 | J12: 325060502 | K12: 321186000 | L12: 334558748
A13: Ministry of Health | B13: 22 | C13: 144873918 | D13: 28835530 | E13: 63803490 | F13: 318970 | G13: 2926949 | H13: 0 | I13: 0 | J13: 240758857 | K13: 256937000 | L13: 261116093
A14: Min. of Works, Mun Aff & Urb Plg | B14: 23 | C14: 8176967 | D14: 1782645 | E14: 214908 | F14: 41594 | G14: 114420 | H14: 0 | I14: 0 | J14: 10330535 | K14: 10334050 | L14: 10756348
A15: Min. of Labour | B15: 24 | C15: 0 | D15: 0 | E15: 0 | F15: 0 | G15: 0 | H15: 0 | I15: 0 | J15: 0 | K15: 0 | L15: 6034407
... A59: National Health Regulatory Authority (89) | B59: 89 | C59: 1529887 | D59: 672354 | E59: 45454 | F59: 20223 | G59: 4520 | H59: 0 | I59: 0 | J59: 2272437 | K59: 2362000 | L59: 1965323
B63: D | C63: 2662340 | D63: 446480 | E63: 42472 | F63: 7125 | G63: 13334 | H63: 0 | I63: 0 | J63: 3171750 | K63: 3505160 | L63: 3254328
B64: A | C64: 365545 | D64: 101338 | E64: 1621 | F64: 475 | G64: 634 | H64: 0 | I64: 0 | J64: 469614 | K64: 612000 | L64: 493996

Sheet Meta11
A1: 11- مصروفات المشاريع مصنفة حسب الوزارات والجهات الحكومية
A3: Ministry | B3: Ministry Code | C3: Budget | D3: Actual-CY | E3: Actual-PV
A4: The Court of H.R.H The Prime Minister | B4: 11 | C4: 1015500 | D4: 1015500
A5: Ministry of Interior | B5: 13 | C5: 18133497 | D5: 18133497 | E5: 21997018
A6: Min. of Foreign Affairs | B6: 16 | C6: 6416400 | D6: 4250381 | E6: 5671647
A7: Deputy of H.R.H The PM | B7: 17 | C7: 60000 | D7: 60000 | E7: 60000
A8: Min. of Justice & Islamic Aff & Awqaf (Justice Aff) | B8: 18 | C8: 1289700 | D8: 1254459 | E8: 401395
A9: Min. of Education | B9: 21 | C9: 8671900 | D9: 3736798 | E9: 5271730
A10: Ministry of Health | B10: 22 | C10: 8000000 | D10: 4949889 | E10: 10487893
A11: Min. of Works, Mun Aff & Urb Plg | B11: 23 | C11: 9554588 | D11: 6374719 | E11: 11601891
A12: Min. of Labour | B12: 24 | E12: 95560
A13: General Organization for Youth&Sport | B13: 26 | C13: 4600000 | D13: 2960788 | E13: 5298704
A14: Rashed Club for Equestrian & Horse Racing | B14: 28 | E14: 21478
A15: Min. of Social Development | B15: 29 | C15: 600000 | D15: 103791 | E15: 800656
A16: Min of Industry & Commerce | B16: 34 | C16: 5604800 | D16: 4228139 | E16: 4603811
A17: Ministry of Housing | B17: 36 | C17: 114480100 | D17: 110086323 | E17: 143004455
A18: The Supreme Council for the Environment | B18: 41 | C18: 300000 | D18: 249986 | E18: 195681
A19: Min. of Works, Mun Aff & Urb Plg | B19: 46 | C19: 70068912 | D19: 57663189 | E19: 62029663
A20: Min. of Transportation & Telecommunications | B20: 48 | C20: 4413900 | D20: 2770452 | E20: 3708048
A21: National Guard | B21: 50 | C21: 3000000 | D21: 2999671 | E21: 4070533
A22: Min. of Information Aff | B22: 55 | E22: 491198
A23: Tender Board | B23: 59 | C23: 462600 | D23: 318096 | E23: 137365
A24: Transfers | B24: 60 | C24: 120535103 | D24: 94705291 | E24: 93671804
A25: Information Affairs Authority | B25: 65 | C25: 9936200 | D25: 5597657 | E25: 5857139
A26: Bahrain Authority for Culture & Antiquities | B26: 66 | C26: 9528100 | D26: 8872225 | E26: 6609206
A27: Supreme Council for Health | B27: 67 | C27: 4151400 | D27: 1587652 | E27: 248534
A28: Education and Training Quality Authority | B28: 69 | C28: 50000
A29: First Deputy of H.R.H The PM Office | B29: 70 | C29: 3000000 | D29: 3000000 | E29: 3000000
A30: Civil Service Bureau | B30: 72 | C30: 300000 | D30: 273688 | E30: 175796
A31: Central Informatics Org | B31: 73 | C31: 5835000 | D31: 3590338 | E31: 977881
A32: Supreme Judicial Council (76) | B32: 76 | C32: 300000 | D32: 72275 | E32: 105607
A33: Min. of Justice & Islamic Aff & Awqaf (Islamic Aff) | B33: 77 | C33: 636300 | D33: 451224 | E33: 1063630
A34: Survey&Land Reg Bureau | B34: 78 | C34: 680600 | D34: 663531 | E34: 434961
A35: Ministry of Finance | B35: 81 | C35: 1800000 | D35: 1142854 | E35: 1728391
A36: Customs Affairs | B36: 83 | C36: 1575400 | D36: 1399295 | E36: 1138004
A37: National Oncology Center | B37: 84 | C37: 12000000 | D37: 12000000
A38: King Hamad University Hospital | B38: 88 | E38: 15923320

Sheet Meta
A1: Horizontal Schedules | N1: Entity Names | Q1: Vertical Schedule
N2: ديوان صاحب السمو الملكي رئيس مجلس الوزراء | O2: 11 | Q2: Item | R2: Chp | S2: Sec | T2: Acct | U2: Description | V2: Budget | W2: Actual | X2: Difference | Y2: 2014 | AA2: التبويــب | AE2: البيان
A3: Ministry | B3: Code | C3: Oil and Gas | D3: Taxation, Fees | E3: Govt Goods, Services | F3: Investments, Govt Properties | G3: Grants | H3: Sale of | I3: Fines,Penalt ies , Misc | J3: Total | K3: Budget | L3: Actual-PY | N3: وزارة الدفاع (إيضاح رقم 13) | O3: 12 | Q3: 4 | R3: 1 | S3: 1 | T3: 40011 | U3: Oil Sales - Bahrain Field | V3: 148534000 | W3: 230724927 | X3: -82190927 | Y3: 206473297 | AA3: Code
A4: The Court of H.R.H The Prime Minister-1 1 | B4: 11 | C4: 0 | D4: 0 | E4: 0 | F4: 0 | G4: 0 | H4: 0 | I4: 88100 | J4: 88100 | K4: 0 | L4: 1563 | N4: وزارة الداخلية | O4: 13 | Q4: 4 | R4: 1 | S4: 1 | T4: 40012 | U4: Oil Sales - Abu-Sa'afa Field | V4: 1141434000 | W4: 957404837 | X4: 184029163 | Y4: 2027312875 | AA4: بند | AB4: قسم | AC4: باب | AD4: نوع
A5: Ministry of Interior-13 | B5: 13 | C5: 0 | D5: 40677302 | E5: 5658468 | F5: 40550 | G5: 0 | H5: 344376 | I5: 885264 | J5: 47605960 | K5: 40454000 | L5: 40729523 | N5: جهاز الأمن الوطني | O5: 14 | Q5: 4 | R5: 1 | S5: 1 | T5: 40014 | U5: Future Generations Reserve- Abu-Sa'afa Field | V5: -20641000 | W5: -17105245 | X5: -3535755 | Y5: -21172996 | AA5: Item | AB5: Sect. | AC5: Chpt. | AD5: Type
A6: National Security Agency-14 | B6: 14 | C6: 0 | D6: 0 | F6: 0 | G6: 0 | H6: 0 | I6: 0 | J6: 0 | K6: 0 | L6: 170 | N6: هيئة التشريع والرأي القانوني | O6: 15 | Q6: 4 | R6: 1 | S6: 2 | T6: 40032 | U6: Gas Sales - Sitra Power Station | X6: 0 | AC6: 1 | AD6: 4 | AE6: النفط والغاز الطبيعي
A7: Legislation & Legal Opinion Com-15 | B7: 15 | C7: 0 | D7: 60 | E7: 6217 | F7: 0 | G7: 0 | H7: 130 | I7: 6752 | J7: 13159 | K7: 5000 | L7: 3704 | N7: وزارة الخارجية | O7: 16 | Q7: 4 | R7: 1 | S7: 2 | T7: 40034 | U7: Gas Sales - Riffa Power Station | X7: 0 | AB7: 1 | AC7: 1 | AD7: 4 | AE7: مبيعات النفط
A8: Min. of Foreign Affairs-16 | B8: 16 | C8: 0 | D8: 1020750 | E8: 0 | F8: 0 | G8: 0 | H8: 0 | I8: 764873 | J8: 1785623 | K8: 2055000 | L8: 1879359 | N8: نائب رئيس مجلس الوزراء – الشيخ خالد بن عبدالله آل خليفة | O8: 17 | Q8: 4 | R8: 1 | S8: 2 | T8: 40035 | U8: Gas Sales - Hidd Power Station | V8: 64234000 | X8: 64234000 | AA8: 40011 | AB8: 1 | AC8: 1 | AD8: 4 | AE8: حقل البحرين والمصفاة
A9: Min. of Justice & Islamic Aff & Awqaf (J | B9: 18 | C9: 0 | D9: 6399317 | E9: 7341 | F9: 42660 | G9: 0 | H9: 401 | I9: 9387069 | J9: 15836788 | K9: 10846000 | L9: 9952681 | N9: وزارة العدل والشئون الإسلامية والأوقاف | O9: 18 | Q9: 4 | R9: 1 | S9: 2 | T9: 40037 | U9: Gas Sales to Electricity Power and Water Station | V9: 51474000 | W9: 44113743 | X9: 7360257 | Y9: 62390724 | AA9: 40012 | AB9: 1 | AC9: 1 | AD9: 4 | AE9: حقل أبوسعفة
A10: Min. of Education-21 | B10: 21 | C10: 0 | D10: 14725 | E10: 115854 | F10: 50 | G10: 0 | H10: 66073 | I10: 1411581 | J10: 1608282 | K10: 768000 | L10: 1188932 | N10: وزارة التربية والتعليم | O10: 21 | Q10: 4 | R10: 1 | S10: 2 | T10: 40051 | U10: Gas Sales - Alba | V10: 96495000 | W10: 90853535 | X10: 5641465 | Y10: 107213712 | AA10: 40014 | AB10: 1 | AC10: 1 | AD10: 4 | AE10: احتياطي الأجيال القادمة- حقل أبوسعفة
A11: Ministry of Health-22 | B11: 22 | C11: 0 | D11: 13665 | E11: 33918844 | F11: 538502 | G11: 0 | H11: 9868 | I11: 582625 | J11: 35063505 | K11: 33450000 | L11: 14181686 | N11: وزارة الصحة | O11: 22 | Q11: 4 | R11: 1 | S11: 2 | T11: 40052 | U11: Gas Sales - Bapco | V11: 38598000 | W11: 43778809 | X11: -5180809 | Y11: 38935826 | AB11: 2 | AC11: 1 | AD11: 4 | AE11: مبيعات الغاز
A12: Min. of Works, Mun Aff & Urb Plg -23 ( | B12: 23 | C12: 0 | D12: 41464 | E12: 349545 | F12: 69629 | G12: 0 | H12: 33934 | I12: 402086 | J12: 896658 | K12: 335000 | L12: 400408 | N12: وزارة شئون البلديات والزراعة (شئون الزراعة والثروة البحرية والحيوانية) | O12: 23 | Q12: 4 | R12: 1 | S12: 2 | T12: 40053 | U12: Gas Sales - Banagas | V12: 33392000 | W12: 28565322 | X12: 4826678 | Y12: 36231980 | AA12: 40035 | AB12: 2 | AC12: 1 | AD12: 4 | AE12: محطة الحد للكهرباء
A13: Mun Aff&Urb Plg) Min. of Labour -24 | B13: 24 | C13: 0 | D13: 5435 | E13: 2345 | F13: 400 | G13: 0 | H13: 0 | I13: 22379 | J13: 30559 | K13: 67000 | L13: 1382127 | N13: وزارة العمل والتنمية الاجتماعية | O13: 24 | Q13: 4 | R13: 1 | S13: 2 | T13: 40054 | U13: Gas Sales - Other Companies | V13: 129954000 | W13: 204474412 | X13: -74520412 | Y13: 189949848 | AA13: 40037 | AB13: 2 | AC13: 1 | AD13: 4 | AE13: مبيعات الغاز- محطات الكهرباء والماء
A14: General Organization for Youth&Sport-26 | B14: 26 | C14: 0 | D14: 10905 | E14: 0 | F14: 7400 | G14: 0 | H14: 0 | I14: 582591 | J14: 600896 | K14: 16000 | L14: 77142 | N14: وزارة شئون الشباب والرياضة | O14: 26 | Q14: 4 | R14: 1 | S14: 3 | T14: 42011 | U14: Gas Income Tax | V14: 11130000 | W14: 7282491 | X14: 3847509 | Y14: 10605738 | AA14: 40051 | AB14: 2 | AC14: 1 | AD14: 4 | AE14: شركة المنيوم البحرين (ألبا)
A15: Min. of Social Development-29 | B15: 29 | C15: 0 | D15: 1600 | E15: 0 | F15: 0 | G15: 0 | H15: 665 | I15: 4897 | J15: 7162 | K15: 5000 | L15: 4087 | N15: نادي راشد للفروسية وسباق الخيل | O15: 28 | Q15: 4 | R15: 1 | S15: 3 | T15: 42013 | U15: Petrol Tax | V15: 6183000 | W15: 4579560 | X15: 1603440 | Y15: 4405390 | AA15: 40052 | AB15: 2 | AC15: 1 | AD15: 4 | AE15: شركة نفط البحرين (بابكو)
A16: Min of Industry & Commerce-34 | B16: 34 | C16: 0 | D16: 17561373 | E16: 285351 | F16: 7284872 | G16: 0 | H16: 0 | I16: 29679 | J16: 25161275 | K16: 19495000 | L16: 9937269 | N16: وزارة العمل والتنمية الاجتماعية | O16: 29 | Q16: 4 | R16: 2 | S16: 2 | T16: 42501 | U16: Customs Duty on Essential Trade | V16: 48000000 | W16: 52459852 | X16: -4459852 | Y16: 45313631 | AA16: 40053 | AB16: 2 | AC16: 1 | AD16: 4 | AE16: شركة غاز البحرين الوطنية (بناغاز)
A17: Ministry of Housing-36 | B17: 36 | C17: 0 | D17: 15168 | E17: 0 | F17: 0 | G17: 0 | H17: 0 | I17: 1960518 | J17: 1975685 | K17: 34000 | L17: 31943 | N17: نائب رئيس مجلس الوزراء – جواد بن سالم العريض | O17: 30 | Q17: 4 | R17: 2 | S17: 2 | T17: 42503 | U17: Customs Duty on Vehicles | V17: 7500000 | W17: 18033658 | X17: -10533658 | Y17: 7457362 | AA17: 40054 | AB17: 2 | AC17: 1 | AD17: 4 | AE17: الشركات المحلية الاخرى
A18: The Supreme Council for the Environment | B18: 41 | C18: 0 | D18: 223930 | E18: 0 | F18: 92929 | G18: 0 | H18: 0 | I18: 986 | J18: 317845 | K18: 143000 | L18: 371440 | N18: مستشار رئيس الوزراء للشئون الاقتصادية | O18: 31 | Q18: 4 | R18: 2 | S18: 2 | T18: 42504 | U18: Customs Duty on Manuf./Unmanuf. Tabacco | V18: 16000000 | W18: 18300861 | X18: -2300861 | Y18: 16968822 | AB18: 3 | AC18: 1 | AD18: 4 | AE18: الضرائب والرسوم النفطية
A19: Min. of Works, Mun Aff & Urb Plg -46 ( | B19: 46 | C19: 0 | D19: 82835 | E19: 5020 | F19: 61656 | G19: 0 | H19: 39964 | I19: 432679 | J19: 622154 | K19: 267000 | L19: 1950626 | N19: مكتب وزير شئون مجلس الوزراء | O19: 32 | Q19: 4 | R19: 2 | S19: 2 | T19: 42505 | U19: Customs Duty on Luxury Goods | V19: 20000000 | W19: 19751712 | X19: 248288 | Y19: 17912053 | AA19: 42011 | AB19: 3 | AC19: 1 | AD19: 4 | AE19: ضريبة دخل الغاز
A20: Works Aff) Min. of Transportation & Telecommunicat | B20: 48 | C20: 0 | D20: 3585038 | E20: 31995785 | F20: 8424595 | G20: 0 | H20: 32850 | I20: 47137 | J20: 44085405 | K20: 37292000 | L20: 44464288 | N20: مستشار رئيس مجلس الوزراء – ماجد الجشي | O20: 33 | Q20: 4 | R20: 2 | S20: 2 | T20: 42506 | U20: Customs Duty on Yachts | V20: 400000 | W20: 80700 | X20: 319300 | Y20: 361304 | AA20: 42013 | AB20: 3 | AC20: 1 | AD20: 4 | AE20: ضريبة البنزين
A21: National Oil & Gas Authority-51 | B21: 51 | C21: 0 | D21: 0 | E21: 0 | F21: 0 | G21: 0 | H21: 125 | I21: 7439 | J21: 7564 | K21: 0 | L21: 48960 | N21: وزارة الصناعة والتجارة | O21: 34 | Q21: 4 | R21: 2 | S21: 2 | T21: 42507 | U21: Protection of Domestic Industries | V21: 570000 | W21: 578431 | X21: -8431 | Y21: 573849 | AC21: 2 | AD21: 4 | AE21: الضرائب والرسوم
A22: Min. of Shura Council & Representatives | B22: 54 | C22: 0 | D22: 0 | E22: 0 | F22: 0 | G22: 0 | H22: 1200 | I22: 150 | J22: 1350 | K22: 0 | L22: 0 | N22: مستشار رئيس الوزراء للشئون الأمنية | O22: 35 | Q22: 4 | R22: 2 | S22: 3 | T22: 43011 | U22: General Trade Activities Registration Fees | V22: 30000 | W22: 78334 | X22: -48334 | Y22: 41885 | AB22: 2 | AC22: 2 | AD22: 4 | AE22: الضرائب والرسوم على التجارة الدولية
A23: Council Aff 54 Min. of Information Aff-55 | B23: 55 | C23: 0 | D23: 0 | E23: 0 | F23: 0 | G23: 0 | H23: 0 | I23: 6677 | J23: 6677 | K23: 0 | L23: 0 | N23: وزارة الإسكان والتخطيط العمراني | O23: 36 | Q23: 4 | R23: 2 | S23: 3 | T23: 43021 | U23: Industrial Activities Registration Fees | V23: 3000 | W23: 2541 | X23: 459 | Y23: 9603 | AA23: 42501 | AB23: 2 | AC23: 2 | AD23: 4 | AE23: ضرائب جمركية على السلع الضرورية الأساسية
A24: Tender Board-59 | B24: 59 | C24: 0 | D24: 8425 | E24: 0 | F24: 0 | G24: 0 | H24: 400 | I24: 0 | J24: 8825 | K24: 0 | L24: 10885 | N24: مستشار سمو رئيس الوزراء للشئون الصناعية والنفطية | O24: 37 | Q24: 4 | R24: 2 | S24: 3 | T24: 43031 | U24: Financial Service Activities Registration Fees | V24: 10000 | W24: 45427 | X24: -35427 | Y24: 13892 | AA24: 42503 | AB24: 2 | AC24: 2 | AD24: 4 | AE24: ضرائب جمركية على العربات
A25: Transfers | B25: 60 | C25: 0 | D25: 19729167 | E25: 881496 | F25: 66919705 | G25: 28169590 | H25: 13455 | I25: 12282350 | J25: 127995763 | K25: 128041000 | L25: 164598430 | N25: مكتب مستشار رئيس مجلس الوزراء | O25: 38 | Q25: 4 | R25: 2 | S25: 3 | T25: 43041 | U25: Miscellaneous Service Activities Registration Fees | V25: 1065052 | W25: 1534627 | X25: -469575 | Y25: 1579778 | AA25: 42504 | AB25: 2 | AC25: 2 | AD25: 4 | AE25: ضرائب جمركية على التبغ المصنع وغير المصنع ومشتقاته
A26: Revenue Account under MOF Control | B26: 62 | C26: 1594672391 | D26: 0 | E26: 0 | F26: 0 | G26: 0 | H26: 0 | I26: 0 | J26: 1594672391 | K26: 1700787000 | L26: 2662346396 | N26: مكتب وزير شئون الكهرباء والماء | O26: 40 | Q26: 4 | R26: 2 | S26: 3 | T26: 43051 | U26: Commercial Agencies Registration Fees | V26: 14500 | W26: 11062 | X26: 3438 | Y26: 13787 | AA26: 42505 | AB26: 2 | AC26: 2 | AD26: 4 | AE26: ضرائب جمركية على السلع الكمالية
A27: Information Affairs Authority-65 | B27: 65 | C27: 0 | D27: 342232 | E27: 1331972 | F27: 600 | G27: 0 | H27: 0 | I27: 43724 | J27: 1718527 | K27: 1492000 | L27: 1298057 | N27: المجلس الأعلى للبيئة | O27: 41 | Q27: 4 | R27: 2 | S27: 3 | T27: 43071 | U27: Organizing Engineering Professional Practice Fees | V27: 85000 | W27: 40000 | X27: 45000 | Y27: 40000 | AA27: 42506 | AB27: 2 | AC27: 2 | AD27: 4 | AE27: ضرائب جمركية على اليخوت والزوارق والقوارب
A28: Bahrain Authority for Culture & Antiquiti | B28: 66 | C28: 0 | D28: 1491933 | E28: 423 | F28: 22800 | G28: 0 | H28: 0 | I28: 281518 | J28: 1796674 | K28: 0 | L28: 12515373 | N28: نائب رئيس مجلس الوزراء – الشيخ محمد بن مبارك آل خليفة | O28: 44 | Q28: 4 | R28: 2 | S28: 3 | T28: 44041 | U28: Pharmaceutical Products Licenses & Fees | V28: 35000 | W28: 32111 | X28: 2889 | Y28: 31799 | AA28: 42507 | AB28: 2 | AC28: 2 | AD28: 4 | AE28: ضريبة حماية الصناعة الوطنية
A29: es 66 Administrative Organization for Public Pr | B29: 68 | C29: 0 | D29: 45 | E29: 0 | F29: 0 | G29: 0 | H29: 0 | I29: 7759 | J29: 7804 | K29: 0 | L29: 0 | N29: وزارة الأشغال | O29: 46 | Q29: 4 | R29: 2 | S29: 3 | T29: 44042 | U29: Health Facilities Licenses & Fees | V29: 120000 | W29: 113996 | X29: 6004 | Y29: 109042 | AB29: 3 | AC29: 2 | AD29: 4 | AE29: رسوم التسجيل والتراخيص
A30: Civil Service Bureau-72 | B30: 72 | C30: 0 | D30: 250 | E30: 0 | F30: 0 | G30: 0 | H30: 50 | I30: 6431 | J30: 6731 | K30: 5000 | L30: 14151 | N30: وزارة المواصلات والاتصالات | O30: 48 | Q30: 4 | R30: 2 | S30: 3 | T30: 44043 | U30: Health Professions Licenses & Fees | V30: 130000 | W30: 157809 | X30: -27809 | Y30: 117822 | AA30: 43011 | AB30: 3 | AC30: 2 | AD30: 4 | AE30: نشاطات التجارة العامة
A31: Central Informatics Org-73 | B31: 73 | C31: 0 | D31: 2465286 | E31: 0 | F31: 0 | G31: 0 | H31: 0 | I31: 0 | J31: 2465286 | K31: 1683000 | L31: 1704235 | N31: الحرس الوطني | O31: 50 | Q31: 4 | R31: 2 | S31: 4 | T31: 44011 | U31: Passport Fees | V31: 1800000 | W31: 676517 | X31: 1123483 | Y31: 982251 | AA31: 43021 | AB31: 3 | AC31: 2 | AD31: 4 | AE31: نشاطات الصناعة
A32: General Secretariat for Youth & Sports Hi | B32: 75 | C32: 0 | D32: 585 | E32: 0 | F32: 0 | G32: 0 | H32: 0 | I32: 0 | J32: 585 | K32: 0 | L32: 0 | N32: الهيئة الوطنية للنفط والغاز | O32: 51 | Q32: 4 | R32: 2 | S32: 4 | T32: 44012 | U32: Residence Permit Fees | V32: 2437000 | W32: 2321112 | X32: 115888 | Y32: 2428954 | AA32: 43031 | AB32: 3 | AC32: 2 | AD32: 4 | AE32: نشاطات الخدمات المالية
A33: gh Council 75 Supreme Judicial Council (76) | B33: 76 | C33: 0 | D33: 645 | E33: 3309 | F33: 0 | G33: 0 | H33: 0 | I33: 2261 | J33: 6215 | K33: 0 | L33: 1873 | N33: وزارة الدولة لشئون الاتصالات | O33: 53 | Q33: 4 | R33: 2 | S33: 4 | T33: 44013 | U33: Visa & NOC Fees | V33: 9708000 | W33: 16781608 | X33: -7073608 | Y33: 11471167 | AA33: 43041 | AB33: 3 | AC33: 2 | AD33: 4 | AE33: نشاطات الخدمات المتنوعة
A34: Min. of Justice & Islamic Aff & Awqaf (I | B34: 77 | C34: 0 | D34: 5475 | E34: 0 | F34: 0 | G34: 0 | H34: 0 | I34: 3300 | J34: 8775 | K34: 10000 | L34: 24264 | N34: وزارة شئون مجلسي الشورى والنواب | O34: 54 | Q34: 4 | R34: 2 | S34: 4 | T34: 44015 | U34: Population Card Fees | V34: 1510000 | W34: 2201066 | X34: -691066 | Y34: 1475497 | AA34: 43051 | AB34: 3 | AC34: 2 | AD34: 4 | AE34: رسوم تسجيل الوكالات التجارية
A35: Survey&Land Reg Bureau-78 | B35: 78 | C35: 0 | D35: 20803808 | E35: 150986 | F35: 300 | G35: 0 | H35: 0 | I35: 15088 | J35: 20970182 | K35: 20376000 | L35: 22671205 | N35: وزارة شئون الإعلام | O35: 55 | Q35: 4 | R35: 2 | S35: 4 | T35: 44016 | U35: CONSUITANCY SERVICES FEES | V35: 85000 | W35: 1233 | X35: 83767 | Y35: 7000 | AA35: 43071 | AB35: 3 | AC35: 2 | AD35: 4 | AE35: رسوم تنظيم مزاولة المهن الهندسية
A36: Ministry of Finance-81 | B36: 81 | C36: 0 | D36: 640 | E36: 0 | F36: 180 | G36: 0 | H36: 0 | I36: 16689 | J36: 17509 | K36: 3000 | L36: 34588 | N36: وزارة الدولة لشئون حقوق الانسان | O36: 58 | Q36: 4 | R36: 2 | S36: 4 | T36: 44021 | U36: Labour Market Regulatory Authority Fee | V36: 18500000 | W36: 19206857 | X36: -706857 | Y36: 24231174 | AA36: 44041 | AB36: 3 | AC36: 2 | AD36: 4 | AE36: رسوم وتراخيص المواد الصيدلانية
A37: Customs Affairs-83 | B37: 83 | C37: 0 | D37: 110031666 | E37: 63437 | F37: 0 | G37: 0 | H37: 20790 | I37: 6650646 | J37: 116766540 | K37: 99700000 | L37: 97643744 | N37: مجلـس المناقصات والمزايدات | O37: 59 | Q37: 4 | R37: 2 | S37: 4 | T37: 44031 | U37: Employment Permission Fees | X37: 0 | Y37: 783410 | AA37: 44042 | AB37: 3 | AC37: 2 | AD37: 4 | AE37: رسوم وتراخيص المرافق الصحية
N38: الميزانية التحويلية (إيضاح رقم 10) | O38: 60 | Q38: 4 | R38: 2 | S38: 4 | T38: 44032 | U38: Employment Permission Renewal Fees | X38: 0 | Y38: 557105 | AA38: 44043 | AB38: 3 | AC38: 2 | AD38: 4 | AE38: رسوم وتراخيص المهن الصحية
A39: Government Agency Name | B39: Code | C39: Actual | D39: Revenue Budget | E39: % Spent | F39: Actual | G39: Recurrent Budget | H39: % Spent | I39: Actual | J39: Project Budget | K39: % Spent | N39: وزارة النفط والبيئة | O39: 61 | Q39: 4 | R39: 2 | S39: 4 | T39: 44051 | U39: Ownership Registration Fees | V39: 150000 | W39: 116381 | X39: 33619 | Y39: 91573 | AB39: 4 | AC39: 2 | AD39: 4 | AE39: الرسوم والأتعاب الإدارية
A40: The Court of H.R.H The Prime Minister-11 | B40: 11 | C40: 88100 | D40: 0 | E40: 0 | F40: 19317706 | G40: 19342000 | H40: 0.9987 | N40: إيرادات النفط والغاز الطبيعي | O40: 62 | Q40: 4 | R40: 2 | S40: 4 | T40: 44052 | U40: Ownership Transfer Fees | V40: 20000000 | W40: 20686702 | X40: -686702 | Y40: 22418893 | AA40: 44011 | AB40: 4 | AC40: 2 | AD40: 4 | AE40: رسوم الجوازات
...

Sheet  بيان الإيرادات والمصروفات
A1: بيان الإيرادات والمصروفات الموحد للدولة
A2: للسنة المالية المنتهية في 31 ديسمبر 2023
E3: (دينار بحريني)
A4: البيان | B4: الإيضاحات | C4: الاعتماد | D4: الفعلي 2023 | E4: الفعلي 2022
A5: الإيرادات
A6: النفط والغاز الطبيعي | B6: 4،3 | C6: ='تفصيل الإيرادات'!F5 -> 1915970000 | D6: ='تفصيل الإيرادات'!G5 -> 2034699810 | E6: ='تفصيل الإيرادات'!I5 -> 2421278544
A7: الإيرادات والرسوم | B7: 4،3 | C7: ='تفصيل الإيرادات'!F18 -> 885890960 | D7: ='تفصيل الإيرادات'!G18 -> 920775284 | E7: ='تفصيل الإيرادات'!I18 -> 872946027
A8: المنتجات الخدمية والسلعية الحكومية | B8: 4،3 | C8: ='تفصيل الإيرادات'!F141 -> 80246500 | D8: ='تفصيل الإيرادات'!G141 -> 76529614 | E8: ='تفصيل الإيرادات'!I141 -> 71741335
A9: الإستثمارات والأملاك الحكومية | B9: 4،3 | C9: ='تفصيل الإيرادات'!F232 -> 180523300 | D9: ='تفصيل الإيرادات'!G232 -> 131278396 | E9: ='تفصيل الإيرادات'!I232 -> 137422757
A10: الإعانات | B10: 4،3
A11: مبيعات الأصول الرأسمالية | B11: 4،3 | C11: ='تفصيل الإيرادات'!F258 -> 724234 | D11: ='تفصيل الإيرادات'!G258 -> 723808 | E11: ='تفصيل الإيرادات'!I258 -> 1135316
A12: الغرامات والجزاءات والإيرادات المتنوعة | B12: 4،3 | C12: ='تفصيل الإيرادات'!F271 -> 40031006 | D12: ='تفصيل الإيرادات'!G271 -> 31964389 | E12: ='تفصيل الإيرادات'!I271 -> 39329204
A13: مجموع الإيرادات | B13: 4،3،2 | C13: =SUM(C6:C12) -> 3103386000 | D13: =SUM(D6:D12) -> 3195971301 | E13: =SUM(E6:E12) -> 3543853183
A14: المصروفات المتكررة
A15: القوى العاملة | B15: 8،7،5 | C15: ='تفصيل المصروفات '!G5 -> 1342040202 | D15: ='تفصيل المصروفات '!H5 -> 1403849201 | E15: ='تفصيل المصروفات '!J5 -> 1478009134
A16: الخدمات | B16: 8،7،5 | C16: ='تفصيل المصروفات '!G119 -> 228255241 | D16: ='تفصيل المصروفات '!H119 -> 237556132 | E16: ='تفصيل المصروفات '!J119 -> 243021221
A17: السلع الاستهلاكية | B17: 8،7،5 | C17: ='تفصيل المصروفات '!G285 -> 55936097 | D17: ='تفصيل المصروفات '!H285 -> 84234155 | E17: ='تفصيل المصروفات '!J285 -> 150757811
A18: السلع الرأسمالية | B18: 8،7،5 | C18: ='تفصيل المصروفات '!G351 -> 17388998 | D18: ='تفصيل المصروفات '!H351 -> 14941960 | E18: ='تفصيل المصروفات '!J351 -> 17965777
A19: الصيانة | B19: 8،7،5 | C19: ='تفصيل المصروفات '!G405 -> 39462914 | D19: ='تفصيل المصروفات '!H405 -> 36277562 | E19: ='تفصيل المصروفات '!J405 -> 41689286
A20: النفقات التحويلية | B20: 8،7،5 | C20: ='تفصيل المصروفات '!G498 -> 589303281 | D20: ='تفصيل المصروفات '!H498 -> 621275331 | E20: ='تفصيل المصروفات '!J498 -> 444871275
A21: الإعانات وتسديد فوائد القروض | B21: 8،7،5 | C21: ='تفصيل المصروفات '!G508 -> 1133326218 | D21: ='تفصيل المصروفات '!H508 -> 1294545862 | E21: ='تفصيل المصروفات '!J508 -> 1119886096
A22: مجموع المصروفات المتكررة | B22: 8،7،6،5،2 | C22: =SUM(C15:C21) -> 3405712951 | D22: =SUM(D15:D21) -> 3692680203 | E22: =SUM(E15:E21) -> 3496200600
A23: مصروفات المشاريع | B23: 10،5،2 | C23: ='مشاريع '!C49 -> 325000000 | D23: ='مشاريع '!D49 -> 277223271 | E23: ='مشاريع '!F49 -> 233313342
A24: مجموع المصروفات | B24: 5 | C24: =SUM(C22:C23) -> 3730712951 | D24: =SUM(D22:D23) -> 3969903474 | E24: =SUM(E22:E23) -> 3729513942
A25: العجز للسنة | C25: =C13-C24 -> -627326951 | D25: =D13-D24 -> -773932173 | E25: =E13-E24 -> -185660759
A27: مصروفات مشاريع التسليح والتطوير | B27: 14 | C27: 0 | D27: 0 | E27: 0
A28: العجز للسنة | C28: =C25-C27 -> -627326951 | D28: =D25-D27 -> -773932173 | E28: =E25-E27 -> -185660759
A29: بيان الاعتمادات المدورة إلى السنة المالية اللاحقة
D30: 2023 | E30: 2022
A31: اعتمادات المصروفات المتكررة | B31: 13،5 | D31: 7109185 | E31: 7283951
A32: اعتمادات المشاريع | B32: 13،5 | D32: 47000000 | E32: 100000000
A33: مجموع الاعتمادات المدورة | D33: =SUM(D31:D32) -> 54109185 | E33: =SUM(E31:E32) -> 107283951
A35: الإيضاحات الواردة على الصفحات من (5) إلى (36) هي جزء مكمل للحساب الختامي الموحد للدولة.

Sheet إيرادات النفط 
A1: 2- إيرادات النفط والغاز الطبيعي
C2: (دينار بحريني)
A3: البيان | B3: الفعلي 2018 | C3: الفعلي 2017
A4: إيرادات حقل البحرين النفطية والمصفاة
A5: الإيرادات
A6: إجمالي الإيرادات | B6: 2975111772 | C6: 2271373555
A7: إجمالي التكاليف | B7: -2521004100 | C7: -2085813879
A8: صافي الإيرادات | B8: =SUM(B6:B7) -> 454107672 | C8: =SUM(C6:C7) -> 185559676
A10: إيرادات حقل أبو سعفة
A11: إجمالي الإيرادات | B11: 1440898669 | C11: 1086573086
A12: إجمالي التكاليف | B12: -90708328 | C12: -99065219
A13: احتياطي الأجيال القادمة | B13: -19469985 | C13: -20920270
A14: صافي الإيرادات | B14: =SUM(B11:B13) -> 1330720356 | C14: =SUM(C11:C13) -> 966587597
A16: مبيعات الغاز الطبيعي
A17: إيرادات الغاز الطبيعي | B17: 493830478 | C17: 495675259
A19: ضرائب ورسوم نفطية | B19: 7410464 | C19: 4695378
A20: توزيعات أرباح مستلمة (الشركة القابضة للنفط والغاز) | B20: 0 | C20: 0
A22: صافي إيرادات النفط والغاز الطبيعي | B22: =B8+B14+B17+B19+B20 -> 2286068970 | C22: =C8+C14+C17+C19+C20 -> 1652517910

Sheet مصروفات وايرادات الوزارات
A1: 2- الإيرادات والمصروفات مصنفة حسب الوزارات والجهات الحكومية
C2: (دينار بحريني)
A3: الوزارة أو الجهة الحكومية | C3: الإيرادات | G3: المصروفات المتكررة | K3: مصروفات المشاريع
B4: Code | C4: الفعلي | D4: الاعتماد | E4: نسبة التحصيل % | G4: الفعلي | H4: الاعتماد | I4: نسبة الصرف % | K4: الفعلي | L4: الاعتماد | M4: نسبة الصرف %
A5: وزارة السياحة | C5: 0 | D5: 0 | E5: 0 | G5: 195788 | H5: 242000 | I5: =(G5/H5)*100 -> 80.904132 | K5: 0 | L5: 0 | M5: 0
A6: وزارة التنمية المستدامة | C6: 0 | D6: 0 | E6: 0 | G6: 399199 | H6: 500000 | I6: =(G6/H6)*100 -> 79.8398 | K6: 0 | L6: 0 | M6: 0
A7: وزارة الشئون القانونية | C7: 0 | D7: 0 | E7: 0 | G7: 263684 | H7: 263684 | I7: =(G7/H7)*100 -> 100 | K7: 0 | L7: 0 | M7: 0
A8: مكتب رئيس مجلس الوزراء | B8: 11 | C8: 0 | D8: 0 | E8: 0 | G8: 19266087 | H8: 20088000 | I8: =(G8/H8)*100 -> 95.908438 | K8: 6100000 | L8: 6100000 | M8: =(K8/L8)*100 -> 100
A9: وزارة الدفاع (إيضاح رقم 11) | B9: 12 | C9: 0 | D9: 0 | E9: 0 | F9: 566765132 | G9: 566765132 | H9: 521201842 | I9: =(G9/H9)*100 -> 108.74197 | K9: 3850 | L9: 6657800 | M9: 0
A10: وزارة الداخلية | B10: 13 | C10: 57398791 | D10: 64092000 | E10: =(C10/D10)*100 -> 89.556873 | G10: 377992717 | H10: 369667421 | I10: =(G10/H10)*100 -> 102.2521 | K10: 13115373 | L10: 13474293 | M10: =(K10/L10)*100 -> 97.336261
A11: جهاز المخابرات الوطني | B11: 14 | C11: 0 | D11: 0 | E11: 0 | G11: 33790280 | H11: 33790280 | I11: =(G11/H11)*100 -> 100 | K11: 0 | L11: 0 | M11: 0
A12: هيئة التشريع والرأي القانوني | B12: 15 | C12: 0 | D12: 181000 | E12: 0 | G12: 2476821 | H12: 2476821 | I12: =(G12/H12)*100 -> 100 | K12: 0 | L12: 0 | M12: 0
A13: وزارة الخارجية | B13: 16 | C13: 1330629 | D13: 2623000 | E13: =(C13/D13)*100 -> 50.729279 | G13: 44738193 | H13: 44908194 | I13: =(G13/H13)*100 -> 99.621448 | K13: 986797 | L13: 1709300 | M13: =(K13/L13)*100 -> 57.731059
A14: وزارة العدل والشئون الإسلامية والأوقاف | B14: 18 | C14: 26596084 | D14: 35000000 | E14: =(C14/D14)*100 -> 75.988811 | G14: 15591627 | H14: 15591627 | I14: =(G14/H14)*100 -> 100 | K14: 31151 | L14: 280000 | M14: =(K14/L14)*100 -> 11.125357
A15: وزارة التربية والتعليم | B15: 21 | C15: 107932 | D15: 133000 | E15: =(C15/D15)*100 -> 81.15188 | G15: 289420530 | H15: 268852204 | I15: =(G15/H15)*100 -> 107.65042 | K15: 13727673 | L15: 14144953 | M15: =(K15/L15)*100 -> 97.049973
A16: وزارة الصحة | B16: 22 | C16: 4766600 | D16: 6000000 | E16: =(C16/D16)*100 -> 79.443333 | G16: 48292593 | H16: 36407794 | I16: =(G16/H16)*100 -> 132.64356 | K16: 594140 | L16: 689000 | M16: =(K16/L16)*100 -> 86.232221
A17: وزارة شئون البلديات والزراعة | B17: 23 | C17: 5501850 | D17: 4603000 | E17: =(C17/D17)*100 -> 119.52748 | F17: 5480640 | G17: 5480640 | H17: 5480641 | I17: =(G17/H17)*100 -> 99.999982 | K17: 2919359 | L17: 4718812 | M17: =(K17/L17)*100 -> 61.866398
A18: وزارة العمل | C18: 0 | D18: 0 | E18: 0 | G18: 6043153 | H18: 6043154 | I18: =(G18/H18)*100 -> 99.999983 | K18: 0 | L18: 50000 | M18: =(K18/L18)*100 -> 0
A19: وزارة شئون الشباب | B19: 26 | C19: 19660 | D19: 25000 | E19: =(C19/D19)*100 -> 78.64 | G19: 4727848 | H19: 4727849 | I19: =(G19/H19)*100 -> 99.999979 | K19: 350343 | L19: 558480 | M19: =(K19/L19)*100 -> 62.731521
A20: نادي راشد للفروسية وسباق الخيل | B20: 28 | C20: 0 | D20: 0 | E20: 0 | G20: 4677608 | H20: 4677608 | I20: =(G20/H20)*100 -> 100 | K20: 2041392 | L20: 2041392 | M20: =(K20/L20)*100 -> 100
A21: وزارة التنمية الاجتماعية | B21: 29 | C21: 150 | D21: 0 | E21: 0 | G21: 7626861 | H21: 7626862 | I21: =(G21/H21)*100 -> 99.999987 | K21: 29352 | L21: 100000 | M21: =(K21/L21)*100 -> 29.352
A22: وزارة شئون مجلس الوزراء | B22: 32 | C22: 0 | D22: 0 | E22: 0 | G22: 2669736 | H22: 2712000 | I22: =(G22/H22)*100 -> 98.441593 | K22: 0 | L22: 0 | M22: 0
A23: وزارة الصناعة والتجارة | B23: 34 | C23: 38913237 | D23: 37940000 | E23: =(C23/D23)*100 -> 102.5652 | G23: 9351947 | H23: 9351949 | I23: =(G23/H23)*100 -> 99.999979 | K23: 5189473 | L23: 5364982 | M23: =(K23/L23)*100 -> 96.728619
A24: وزارة الإسكان والتخطيط العمراني - قطاع الإسكان | B24: 36 | C24: 707 | D24: 0 | E24: 0 | G24: 4537637 | H24: 4544247 | I24: =(G24/H24)*100 -> 99.854541 | K24: 89820446 | L24: 112229800 | M24: =(K24/L24)*100 -> 80.032617
A25: مكتب صاحب السمو الملكي النائب الأول لرئيس مجلس الوزراء | B25: 70 | C25: 0 | D25: 0 | E25: =(C25/D25)*100 -> #DIV/0! | F25: =(D25/E25)*100 -> #DIV/0! | G25: 0 | H25: 0 | I25: 0 | K25: 0 | L25: 0 | M25: =(K25/L25)*100 -> #DIV/0!
A26: نائب رئيس مجلس الوزراء | B26: D | C26: 0 | D26: 0 | E26: 0 | F26: =(D26/E26)*100 -> #DIV/0! | G26: 637031 | H26: 637031 | I26: =(G26/H26)*100 -> 100 | K26: 0 | L26: 0 | M26: 0
A27: مكاتب مستشاري رئيس مجلس الوزراء | B27: A | C27: 0 | D27: 0 | E27: =(C27/D27)*100 -> #DIV/0! | F27: =(D27/E27)*100 -> #DIV/0! | G27: 0 | H27: 0 | I27: 0 | K27: 0 | L27: 0 | M27: =(K27/L27)*100 -> #DIV/0!
A28: وزارة شئون الكهرباء والماء | B28: 40 | C28: 0 | D28: 0 | E28: 0 | F28: 0 | G28: 608167 | H28: 646000 | I28: =(G28/H28)*100 -> 94.143498 | K28: 4225076 | L28: 5207053 | M28: =(K28/L28)*100 -> 81.141406
A29: 2- الإيرادات والمصروفات مصنفة حسب الوزارات والجهات الحكومية (تتمة)
C30: (دينار بحريني)
A31: الوزارة أو الجهة الحكومية | C31: الإيرادات | G31: المصروفات المتكررة | K31: مصروفات المشاريع
C32: الفعلي | D32: الاعتماد | E32: نسبة التحصيل % | G32: الفعلي | H32: الاعتماد | I32: نسبة الصرف % | K32: الفعلي | L32: الاعتماد | M32: نسبة الصرف %
A33: المجلس الأعلى للبيئة | B33: 41 | C33: 1514095 | D33: 7247000 | E33: =(C33/D33)*100 -> 20.892714 | F33: =(D33/E33)*100 -> 34686733 | G33: 5333573 | H33: 5333574 | I33: =(G33/H33)*100 -> 99.999981 | K33: 309322 | L33: 400000 | M33: =(K33/L33)*100 -> 77.3305
A34: مركز محمد بن خليفة آل خليفة التخصصي للقلب (إيضاح رقم 11) | B34: 43 | C34: 0 | D34: 0 | E34: 0 | F34: =(D34/E34)*100 -> #DIV/0! | G34: 30844428 | H34: 25582250 | I34: =(G34/H34)*100 -> 120.56964 | K34: 0 | L34: 0 | M34: 0
A35: وزارة الأشغال | B35: 46 | C35: 4774809 | D35: 4293000 | E35: =(C35/D35)*100 -> 111.22313 | F35: 18463221 | G35: 45590294 | H35: 45590295 | I35: =(G35/H35)*100 -> 99.999998 | K35: 69707589 | L35: 69707589 | M35: =(K35/L35)*100 -> 100
A36: وزارة المواصلات والاتصالات | B36: 48 | C36: 52881362 | D36: 51803000 | E36: =(C36/D36)*100 -> 102.08166 | G36: 29195133 | H36: 29195134 | I36: =(G36/H36)*100 -> 99.999997 | K36: 6930507 | L36: 7165493 | M36: =(K36/L36)*100 -> 96.720589
A37: الحرس الوطني | B37: 50 | C37: 0 | D37: 0 | E37: 0 | G37: 42573999 | H37: 42574000 | I37: =(G37/H37)*100 -> 99.999998 | K37: 617863 | L37: 1500000 | M37: =(K37/L37)*100 -> 41.190867
A38: وزارة النفط والبيئة | B38: 51 | C38: 0 | D38: 0 | E38: 0 | G38: 1889269 | H38: 1889270 | I38: =(G38/H38)*100 -> 99.999947 | K38: 82221 | L38: 82221 | M38: =(K38/L38)*100 -> 100
A39: وزارة شئون مجلسي الشورى والنواب | B39: 54 | C39: 230 | D39: 0 | E39: 0 | G39: 1517338 | H39: 1517339 | I39: =(G39/H39)*100 -> 99.999934 | K39: 0 | L39: 0 | M39: 0
A40: مكتب رئيس مجلس الوزراء - مركز الاتصال الوطني | B40: 55 | C40: 0 | D40: 0 | E40: 0 | G40: 1696204 | H40: 1696204 | I40: =(G40/H40)*100 -> 100 | K40: 11743 | L40: 11743 | M40: =(K40/L40)*100 -> 100
...

Sheet الايرادات
A1: 3- الإيرادات مصنفة حسب الأبواب والوزارات والجهات الحكومية
C2: (دينار بحريني)
A3: الوزارة أو الجهة الحكومية | B3: Code | C3: نفط وغاز طبيعي | D3: إيرادات ورسوم | E3: منتجات خدمية وسلعية حكومية | F3: إستثمارات وأملاك حكومية | G3: إعانات | H3: مبيعات أصول رأسمالية | I3: غرامــات وجزاءات وإيرادات متنوعة | J3: المجموع | K3: الاعتماد | L3: الفعلي 2022
A4: مكتب رئيس مجلس الوزراء | B4: 11 | C4: 0 | D4: 0 | E4: 0 | F4: 0 | H4: 0 | I4: 0 | J4: =SUM(C4:I4) -> 0 | K4: 0 | L4: 7228
A5: وزارة الداخلية | B5: 13 | C5: 0 | D5: 53328532 | E5: 3758639 | F5: 69250 | H5: 95704 | I5: 146666 | J5: =SUM(C5:I5) -> 57398791 | K5: 64092000 | L5: 58245356
A6: هيئة التشريع والرأي القانوني | C6: 0 | D6: 0 | E6: 0 | F6: 0 | H6: 0 | I6: 0 | J6: =SUM(C6:I6) -> 0 | K6: 181000 | L6: 0
A7: وزارة الخارجية | B7: 16 | C7: 0 | D7: 1205439 | E7: 0 | F7: 0 | H7: 44620 | I7: 80570 | J7: =SUM(C7:I7) -> 1330629 | K7: 2623000 | L7: 1446656
A8: وزارة العدل والشئون الإسلامية والأوقاف | B8: 18 | C8: 0 | D8: 10694147 | E8: 62461 | F8: 0 | H8: 1295 | I8: 15838181 | J8: =SUM(C8:I8) -> 26596084 | K8: 35000000 | L8: 27200209
A9: وزارة التربية والتعليم | B9: 21 | C9: 0 | D9: 4320 | E9: 65893 | F9: 0 | H9: 31725 | I9: 5994 | J9: =SUM(C9:I9) -> 107932 | K9: 133000 | L9: 187687
A10: وزارة الصحة | B10: 22 | C10: 0 | D10: 35197 | E10: 4235570 | F10: 6841 | H10: 1905 | I10: 487087 | J10: =SUM(C10:I10) -> 4766600 | K10: 6000000 | L10: 28756170
A11: وزارة شئون البلديات والزراعة | B11: 23 | C11: 0 | D11: 3837658 | E11: 976563 | F11: 303626 | H11: 382430 | I11: 1573 | J11: =SUM(C11:I11) -> 5501850 | K11: 4603000 | L11: 5204883
A12: وزارة شئون الشباب | B12: 26 | C12: 0 | D12: 20 | E12: 19640 | F12: 0 | H12: 0 | I12: 0 | J12: =SUM(C12:I12) -> 19660 | K12: 25000 | L12: 43272
A13: وزارة التنمية الاجتماعية | B13: 29 | C13: 0 | D13: 150 | E13: 0 | F13: 0 | H13: 0 | I13: 0 | J13: =SUM(C13:I13) -> 150 | K13: 0 | L13: 580
A14: وزارة الصناعة والتجارة | B14: 34 | C14: 0 | D14: 23279333 | E14: 646364 | F14: 14479961 | H14: 501 | I14: 507078 | J14: =SUM(C14:I14) -> 38913237 | K14: 37940000 | L14: 36560164
A15: وزارة الإسكان والتخطيط العمراني - قطاع الإسكان | B15: 36 | C15: 0 | D15: 707 | E15: 0 | F15: 0 | H15: 0 | I15: 0 | J15: =SUM(C15:I15) -> 707 | K15: 0 | L15: 7774
A16: المجلس الأعلى للبيئة | B16: 41 | C16: 0 | D16: 1302915 | E16: 68155 | F16: 116250 | H16: 0 | I16: 26775 | J16: =SUM(C16:I16) -> 1514095 | K16: 7247000 | L16: 1450056
A17: وزارة الأشغال | B17: 46 | C17: 0 | D17: 521936 | E17: 112711 | F17: 3839779 | H17: 133816 | I17: 166567 | J17: =SUM(C17:I17) -> 4774809 | K17: 4293000 | L17: 5909654
A18: وزارة المواصلات والاتصالات | B18: 48 | C18: 0 | D18: 6527896 | E18: 33730691 | F18: 11803591 | H18: 4427 | I18: 814757 | J18: =SUM(C18:I18) -> 52881362 | K18: 51803000 | L18: 50259216
A19: وزارة شئون مجلسي الشورى والنواب | C19: 0 | D19: 0 | E19: 0 | F19: 0 | H19: 230 | I19: 0 | J19: =SUM(C19:I19) -> 230 | K19: 0 | L19: 0
A20: مجلـس المناقصات والمزايدات | B20: 59 | C20: 0 | D20: 527235 | E20: 385600 | F20: 0 | H20: 0 | I20: 0 | J20: =SUM(C20:I20) -> 912835 | K20: 2220000 | L20: 1007755
A21: الميزانيات التحويلية | B21: 60 | C21: 0 | D21: 33175091 | E21: 29626352 | F21: 100409240 | H21: 25441 | I21: 10426138 | J21: =SUM(C21:I21) -> 173662262 | K21: 221926000 | L21: 147938476
A22: إيرادات النفط والغاز الطبيعي | B22: 62 | C22: 2034699810 | D22: 0 | E22: 0 | F22: 0 | H22: 0 | I22: 0 | J22: =SUM(C22:I22) -> 2034699810 | K22: 1915970000 | L22: 2423901144
A23: وزارة الإعلام | B23: 65 | C23: 0 | D23: 532548 | E23: 173602 | F23: 173793 | H23: 0 | I23: 17949 | J23: =SUM(C23:I23) -> 897892 | K23: 1699000 | L23: 961659
A24: هيئة البحرين للثقافة والآثار | B24: 66 | C24: 0 | D24: 176892 | E24: 1417 | F24: 75899 | H24: 263 | I24: 53073 | J24: =SUM(C24:I24) -> 307544 | K24: 500000 | L24: 313717
A25: الجهاز الإداري للنيابة العامة | B25: 68 | C25: 0 | D25: 0 | E25: 0 | F25: 0 | H25: 0 | I25: 0 | J25: =SUM(C25:I25) -> 0 | K25: 0 | L25: 265
A26: هيئة جودة التعليم والتدريب | B26: 69 | C26: 0 | D26: 0 | E26: 0 | F26: 0 | H26: 223 | I26: 0 | J26: =SUM(C26:I26) -> 223 | K26: 0 | L26: 810
A27: جهاز الخدمة المدنية | B27: 72 | C27: 0 | D27: 0 | E27: 0 | F27: 0 | H27: 560 | I27: 0 | J27: =SUM(C27:I27) -> 560 | K27: 0 | L27: 0
A28: 3- الإيرادات مصنفة حسب الأبواب والوزارات والجهات الحكومية (تتمة)
C29: (دينار بحريني)
A30: الوزارة أو الجهة الحكومية | B30: Code | C30: نفط وغاز طبيعي | D30: إيرادات ورسوم | E30: منتجات خدمية وسلعية حكومية | F30: إستثمارات وأملاك حكومية | G30: إعانات | H30: مبيعات أصول رأسمالية | I30: غرامــات وجزاءات وإيرادات متنوعة | J30: المجموع | K30: الاعتماد | L30: الفعلي 2022
A31: هيئة المعلومات والحكومة الإلكترونية | B31: 73 | C31: 0 | D31: 2680834 | E31: 131946 | F31: 0 | H31: 6 | I31: 0 | J31: =SUM(C31:I31) -> 2812786 | K31: 6326000 | L31: 3002923
A32: الأمانة العامة للمجلس الأعلى للشباب والرياضة | B32: 75 | C32: 0 | D32: 0 | E32: 0 | F32: 0 | H32: 0 | I32: 0 | J32: =SUM(C32:I32) -> 0 | K32: 0 | L32: 165
A33: المجلس الأعلى للقضاء | B33: 76 | C33: 0 | D33: 0 | E33: 400 | F33: 0 | H33: 40 | I33: 0 | J33: =SUM(C33:I33) -> 440 | K33: 0 | L33: 960
A34: جهاز المساحة والتسجيل العقاري | B34: 78 | C34: 0 | D34: 17162410 | E34: 108605 | F34: 0 | H34: 0 | I34: 0 | J34: =SUM(C34:I34) -> 17271015 | K34: 20875000 | L34: 18598736
A35: معهد البحرين للتنمية السياسية | C35: 0 | D35: 0 | E35: 0 | F35: 0 | H35: 200 | I35: 0 | J35: =SUM(C35:I35) -> 200 | K35: 0 | L35: 0
A36: وزارة المالية والاقتصاد الوطني | B36: 81 | C36: 0 | D36: 0 | E36: 0 | F36: 0 | H36: 422 | I36: 61 | J36: =SUM(C36:I36) -> 483 | K36: 0 | L36: 2336
A37: شئون الجمارك | B37: 83 | C37: 0 | D37: 96583344 | E37: 2409473 | F37: 166 | H37: 0 | I37: 1032772 | J37: =SUM(C37:I37) -> 100025755 | K37: 110000000 | L37: 103261855
A38: هيئة التخطيط والتطوير العمراني | B38: 85 | C38: 0 | D38: 2098124 | E38: 0 | F38: 0 | H38: 0 | I38: 0 | J38: =SUM(C38:I38) -> 2098124 | K38: 3267000 | L38: 306798
A39: الهيئة الوطنية لتنظيم المهن والخدمات الصحية | B39: 89 | C39: 0 | D39: 2687945 | E39: 0 | F39: 0 | H39: 0 | I39: 168360 | J39: =SUM(C39:I39) -> 2856305 | K39: 3767000 | L39: 2576397
A40: الجهاز الوطني للإيرادات | C40: 0 | D40: 664412611 | E40: 399 | F40: 0 | H40: 0 | I40: 2190788 | J40: =SUM(C40:I40) -> 666603798 | K40: 602896000 | L40: 626663629
...

Sheet تفصيل الإيرادات
A1: 4- الإيرادات مصنفة حسب الأبواب والأقسام والبنود
A2: (دينار بحريني)
A3: التبويــب | E3: البيـــان | F3: 2023 | I3: 2022 الفعلي
A4: بند | B4: قسم | C4: باب | D4: نوع | F4: الاعتماد | G4: الفعلي | H4: الفرق
C5: 1 | D5: 4 | E5: النفط والغاز الطبيعي | F5: =F6+F10+F12 -> 1915970000 | G5: =G6+G10+G12 -> 2034699810 | H5: =G5-F5 -> 118729810 | I5: =I6+I10+I12 -> 2421278544
B6: 1 | C6: 1 | D6: 4 | E6: مبيعات النفط | F6: =SUM(F7:F9) -> 1232995000 | G6: =SUM(G7:G9) -> 1660470295 | H6: =G6-F6 -> 427475295 | I6: =SUM(I7:I9) -> 2105794026
A7: 40011 | B7: 1 | C7: 1 | D7: 4 | E7: حقل البحرين | F7: 128112000 | G7: 149448593 | H7: =G7-F7 -> 21336593 | I7: 166624658
A8: 40012 | B8: 1 | C8: 1 | D8: 4 | E8: حقل أبوسعفة | F8: 1125473000 | G8: 1545755835 | H8: =G8-F8 -> 420282835 | I8: 1959671140
A9: 40014 | B9: 1 | C9: 1 | D9: 4 | E9: احتياطي الأجيال القادمة | F9: -20590000 | G9: -34734133 | H9: =G9-F9 -> -14144133 | I9: -20501772
B10: 2 | C10: 1 | D10: 4 | E10: مبيعات الغاز | F10: =SUM(F11:F11) -> 675767000 | G10: =SUM(G11:G11) -> 366732410 | H10: =G10-F10 -> -309034590 | I10: =SUM(I11:I11) -> 305873604
A11: 40054 | B11: 2 | C11: 1 | D11: 4 | E11: الشركات المحلية الأخرى | F11: 675767000 | G11: 366732410 | H11: =G11-F11 -> -309034590 | I11: 305873604
B12: 3 | C12: 1 | D12: 4 | E12: الضرائب والرسوم النفطية | F12: =SUM(F13:F17) -> 7208000 | G12: =SUM(G13:G17) -> 7497105 | H12: =G12-F12 -> 289105 | I12: =SUM(I13:I17) -> 9610914
A13: 42011 | B13: 3 | C13: 1 | D13: 4 | E13: ضريبة دخل الغاز | F13: 352000 | G13: 1470213 | H13: =G13-F13 -> 1118213 | I13: 4103586
A14: 42012 | B14: 3 | C14: 1 | D14: 4 | E14: رسوم وغرامات النفط والغاز | H14: =G14-F14 -> 0 | I14: 0
A15: 42013 | B15: 3 | C15: 1 | D15: 4 | E15: ضريبة البنزين | F15: 6856000 | G15: 6026892 | H15: =G15-F15 -> -829108 | I15: 5507328
B16: 4 | C16: 1 | D16: 4 | E16: 0 | F16: =F17 -> 0 | G16: =G17 -> 0 | H16: =H17 -> 0 | I16: =I17 -> 0
A17: 45014 | B17: 4 | C17: 1 | D17: 4 | E17: 0 | F17: 0 | G17: 0 | H17: =G17-F17 -> 0 | I17: 0
C18: 2 | D18: 4 | E18: الإيرادات والرسوم | F18: =F21+F32+F65+F126+F136 -> 885890960 | G18: =G21+G32+G65+G126+G136 -> 920775284 | H18: =G18-F18 -> 34884324 | I18: =I21+I32+I65+I126+I136 -> 872946027
B19: 1 | C19: 2 | D19: 4 | E19: الضرائب والرسوم على استهلاك السلع والمنتجات | F19: =SUM(F20) -> 0 | G19: =SUM(G20) -> 0 | H19: =G19-F19 -> 0 | I19: =SUM(I20) -> 0
A20: 42013 | B20: 1 | C20: 2 | D20: 4 | E20: ضريبة البنزين | F20: 0 | G20: 0 | H20: =G20-F20 -> 0 | I20: 0
B21: 2 | C21: 2 | D21: 4 | E21: الإيرادات والرسوم على التجارة الدولية | F21: =SUM(F22:F31) -> 99749600 | G21: =SUM(G22:G31) -> 93760651 | H21: =G21-F21 -> -5988949 | I21: =SUM(I22:I31) -> 94972447
A22: 42501 | B22: 2 | C22: 2 | D22: 4 | E22: الإيرادات الجمركية على السلع الضرورية الأساسية | F22: 50285600 | G22: 47136909 | H22: =G22-F22 -> -3148691 | I22: 50497303
A23: 42503 | B23: 2 | C23: 2 | D23: 4 | E23: الإيرادات الجمركية على المركبات | F23: 12000000 | G23: 13758250 | H23: =G23-F23 -> 1758250 | I23: 11922038
A24: 42504 | B24: 2 | C24: 2 | D24: 4 | E24: الإيرادات الجمركية على التبغ المصنع وغير المصنع ومشتقاته | F24: 19000000 | G24: 18146001 | H24: =G24-F24 -> -853999 | I24: 17767279
A25: 42505 | B25: 2 | C25: 2 | D25: 4 | E25: ضرائب جمركية على السلع الكمالية | H25: =G25-F25 -> 0 | I25: 0
A26: 42506 | B26: 2 | C26: 2 | D26: 4 | E26: الإيرادات الجمركية على اليخوت | F26: 150000 | G26: 142072 | H26: =G26-F26 -> -7928 | I26: 59539
A27: 42507 | B27: 2 | C27: 2 | D27: 4 | E27: إيرادات حماية الصناعة الوطنية | F27: 950000 | G27: 5158 | H27: =G27-F27 -> -944842 | I27: 411139
A28: 42509 | B28: 2 | C28: 2 | D28: 4 | E28: الإيرادات الجمركية على آلات التسخين | F28: 10750000 | G28: 8697969 | H28: =G28-F28 -> -2052031 | I28: 8276204
A29: 42511 | B29: 2 | C29: 2 | D29: 4 | E29: الإيرادات الجمركية على الأجهزة الكهربائية ومعدات | F29: 5000000 | G29: 4459944 | H29: =G29-F29 -> -540056 | I29: 4296145
A30: 42512 | B30: 2 | C30: 2 | D30: 4 | E30: الإيرادات الجمركية على الحديد والفولاذ | F30: 1600000 | G30: 1397741 | H30: =G30-F30 -> -202259 | I30: 1684212
A31: 42513 | B31: 2 | C31: 2 | D31: 4 | E31: الإيرادات الجمركية على حديد التسليح ولفائف الحديد | F31: 14000 | G31: 16607 | H31: =G31-F31 -> 2607 | I31: 58588
B32: 3 | C32: 2 | D32: 4 | E32: رسوم التسجيل والتراخيص | F32: =F33+F34+F35+F36+F37+F38+F39+F40+F41+F42+F45+F46+F47+F48+F49+F50+F51+F53+F54+F55+F56+F57+F58+F61+F62+F63+F64+F52+F59+F60+F43+F44 -> 21128557 | G32: =G33+G34+G35+G36+G37+G38+G39+G40+G41+G42+G45+G46+G47+G48+G49+G50+G51+G53+G54+G55+G56+G57+G58+G61+G62+G63+G64+G52+G59+G60+G43+G44 -> 15675149 | H32: =G32-F32 -> -5453408 | I32: =I33+I34+I35+I36+I37+I38+I39+I40+I41+I42+I45+I46+I47+I48+I49+I50+I51+I53+I54+I55+I56+I57+I58+I61+I62+I63+I64+I52+I59+I60+I43+I44 -> 12845322
A33: 43011 | B33: 3 | C33: 2 | D33: 4 | E33: نشاطات التجارة العامة | F33: 5402206 | G33: 4952489 | H33: =G33-F33 -> -449717 | I33: 3917722
A34: 43031 | B34: 3 | C34: 2 | D34: 4 | E34: نشاطات الخدمات المالية | F34: 0 | G34: 12200 | H34: =G34-F34 -> 12200 | I34: 1700
A35: 43041 | B35: 3 | C35: 2 | D35: 4 | E35: نشاطات الخدمات المتنوعة | F35: 259000 | G35: 244430 | H35: =G35-F35 -> -14570 | I35: 236454
A36: 43042 | B36: 3 | C36: 2 | D36: 4 | E36: نشاطات النقل الجوي | F36: 120000 | G36: 114435 | H36: =G36-F36 -> -5565 | I36: 101700
A37: 43043 | B37: 3 | C37: 2 | D37: 4 | E37: نشاطات التراخيص الجوية | F37: 300000 | G37: 1911671 | H37: =G37-F37 -> 1611671 | I37: 1298650
A38: 43044 | B38: 3 | C38: 2 | D38: 4 | E38: رسوم تراخيص النقل البري | F38: 1354000 | G38: 1333510 | H38: =G38-F38 -> -20490 | I38: 1245126
A39: 43045 | B39: 3 | C39: 2 | D39: 4 | E39: رسوم تراخيص تنظيم البريد | F39: 400000 | G39: 376296 | H39: =G39-F39 -> -23704 | I39: 590142
A40: 43046 | B40: 3 | C40: 2 | D40: 4 | E40: رسوم ترخيص فحص المركبات | F40: 1001904 | G40: 1115125 | H40: =G40-F40 -> 113221 | I40: 823190
...

Sheet الميزانية المعتمدة
A1: 5- ميزانية المصروفات المتكررة والمشاريع
I2: (دينار بحريني)
A3: البيـان | B3: الاعتمادات الأصلية | C3: الاعتماد الإضافي للمصروفات الطارئة | D3: تعديل الميزانية | E3: الاعتمادات بعد التعديل | F3: الاعتمادات المدورة من سنوات سابقة | G3: الاعتمادات بعد التعديل | H3: المصروفات الفعلية | I3: الوفر / (التجاوز)
A4: المصروفات المتكررة
A5: القوى العاملة | B5: 1268804000 | D5: 72943724 | F5: 292478 | G5: =B5+D5+F5 -> 1342040202 | H5: 1403849201 | I5: =G5-H5 -> -61808999
A6: الخدمات | B6: 211743943 | D6: 16266348 | F6: 244950 | G6: =B6+D6+F6 -> 228255241 | H6: 237556132 | I6: =G6-H6 -> -9300891
A7: السلع الاستهلاكية | B7: 63232185 | D7: -7484576 | F7: 188488 | G7: =B7+D7+F7 -> 55936097 | H7: 84234155 | I7: =G7-H7 -> -28298058
A8: السلع الرأسمالية | B8: 13148314 | D8: 4186546 | F8: 54138 | G8: =B8+D8+F8 -> 17388998 | H8: 14941960 | I8: =G8-H8 -> 2447038
A9: الصيانة | B9: 34274158 | D9: 5185137 | F9: 3619 | G9: =B9+D9+F9 -> 39462914 | H9: 36277562 | I9: =G9-H9 -> 3185352
A10: النفقات التحويلية | B10: 677010821 | D10: -94207818 | F10: 6500278 | G10: =B10+D10+F10 -> 589303281 | H10: 621275331 | I10: =G10-H10 -> -31972050
A11: الإعانات وتسديد فوائد القروض | B11: 1130215579 | D11: 3110639 | F11: 0 | G11: =B11+D11+F11 -> 1133326218 | H11: 1294545862 | I11: =G11-H11 -> -161219644
A12: مجموع المصروفات المتكررة | B12: =SUM(B5:B11) -> 3398429000 | C12: =C10 -> 0 | D12: =SUM(D5:D11) -> 0 | E12: =SUM(E5:E11) -> 0 | F12: =SUM(F5:F11) -> 7283951 | G12: =SUM(G5:G11) -> 3405712951 | H12: =SUM(H5:H11) -> 3692680203 | I12: =SUM(I5:I11) -> -286967252
A13: مصروفات المشاريع | B13: 225000000 | C13: 0 | D13: 0 | E13: 358000000 | F13: 100000000 | G13: =B13+D13+F13 -> 325000000 | H13: 277223271 | I13: =G13-H13 -> 47776729
